From mboxrd@z Thu Jan  1 00:00:00 1970
Return-Path: <test-report-bounces@dpdk.org>
Received: from mails.dpdk.org (mails.dpdk.org [217.70.189.124])
	by inbox.dpdk.org (Postfix) with ESMTP id 1E44845B50
	for <public@inbox.dpdk.org>; Wed, 16 Oct 2024 15:01:49 +0200 (CEST)
Received: from mails.dpdk.org (localhost [127.0.0.1])
	by mails.dpdk.org (Postfix) with ESMTP id EB6E14027C;
	Wed, 16 Oct 2024 15:01:48 +0200 (CEST)
Received: from mail-pl1-f227.google.com (mail-pl1-f227.google.com
 [209.85.214.227])
 by mails.dpdk.org (Postfix) with ESMTP id 55F0040264
 for <test-report@dpdk.org>; Wed, 16 Oct 2024 15:01:47 +0200 (CEST)
Received: by mail-pl1-f227.google.com with SMTP id
 d9443c01a7336-20c70abba48so44924535ad.0
 for <test-report@dpdk.org>; Wed, 16 Oct 2024 06:01:47 -0700 (PDT)
DKIM-Signature: v=1; a=rsa-sha256; c=relaxed/relaxed;
 d=iol.unh.edu; s=unh-iol; t=1729083706; x=1729688506; darn=dpdk.org;
 h=references:in-reply-to:cc:to:from:subject:message-id:date:from:to
 :cc:subject:date:message-id:reply-to;
 bh=WvKlAOtyuI5JtbS+IrHmaDtUZRhNe9nn03slMC1gV28=;
 b=KtN4IvQri/iJx1JiR1dUxhr+tq4a//14vGWxLRAB5S8S4eDMB8mZGAe5VK5GCn++Wm
 FXCwIlRBgsp9Y/3WAQQnWA7izWRICerTB2lO4qQV2WrCTSQPZdyfDyp9RiFmqIa7LwNF
 qcZDnU68Ln4Wo98SeMTNlFGb8uaju3zirAu9E=
X-Google-DKIM-Signature: v=1; a=rsa-sha256; c=relaxed/relaxed;
 d=1e100.net; s=20230601; t=1729083706; x=1729688506;
 h=references:in-reply-to:cc:to:from:subject:message-id:date
 :x-gm-message-state:from:to:cc:subject:date:message-id:reply-to;
 bh=WvKlAOtyuI5JtbS+IrHmaDtUZRhNe9nn03slMC1gV28=;
 b=KWi70ORFWrum5EK51mg0eR0Vv5UkZvTGfm7W3LsXKNMNU+1N3LvTd1YJasw6y3XBFE
 1waXO3rcrGhSNv88oem/tZ1HMIbLkC3Dn3z1bWiBawJgK02B7COEbxa+f8WLr4uXv/Lw
 /3c/tTspQ4rRqJp4hTztGDYYpmUg0I5a8/STfw/J8NTX0Ev34AhGSXWECoJtb+x6KESM
 P6k2khSVDlhl85V3wd7VgGytVE0SLobgSgENxW9nLtwLO/dXLplTxq+FN1pqu/Lqkd63
 54Y049DAUYFjUacC1gpHiIaaOdsxADZmGBGB1adQoI0rlBosxtb1jIR4JdpFnn1HK3zK
 RfVg==
X-Gm-Message-State: AOJu0YzljnUKJepZo6WBplBiN0INcXCzQFw7Nx+K8Nrb5Mnx/gGp4vgh
 NPaN2FOs1ej/MMLTjXuSaBByeNJKTSdeEMCd46SsSvnmv2QkbUqHYwAjyCoCeFdIVGGP7jA1Lud
 nmsJjL9bn9yZeEXSg/BKNPnhKBQc9C+GSB3TfpuIiGbZQ8ktx9VUZkQhg
X-Google-Smtp-Source: AGHT+IHYh2R9250rbIFYn/NE3/lqPETfzcil7uX5u/2tuobgFJWkF5NS0UxqdOG9PL1rL/reNYZh5+XsU4Af
X-Received: by 2002:a17:902:db0d:b0:20c:7796:5e76 with SMTP id
 d9443c01a7336-20cbb19ab94mr228368035ad.18.1729083706311; 
 Wed, 16 Oct 2024 06:01:46 -0700 (PDT)
Received: from postal.iol.unh.edu (postal.iol.unh.edu.
 [2606:4100:3880:1234::84]) by smtp-relay.gmail.com with ESMTPS id
 d9443c01a7336-20d18024d7bsm1106835ad.3.2024.10.16.06.01.46
 (version=TLS1_2 cipher=ECDHE-ECDSA-AES128-GCM-SHA256 bits=128/128);
 Wed, 16 Oct 2024 06:01:46 -0700 (PDT)
X-Relaying-Domain: iol.unh.edu
Date: Wed, 16 Oct 2024 06:01:46 -0700 (PDT)
Message-ID: <670fb93a.170a0220.3d1040.7cf6SMTPIN_ADDED_MISSING@mx.google.com>
Received: from [172.21.0.6] (unknown [172.18.0.240])
 by postal.iol.unh.edu (Postfix) with ESMTP id 81A4D6052471;
 Wed, 16 Oct 2024 09:01:45 -0400 (EDT)
Subject: |SUCCESS| pw146007-146009 [PATCH] [3/3] buildtools/chkincs: check he
From: dpdklab@iol.unh.edu
To: Test Report <test-report@dpdk.org>
Cc: David Marchand <david.marchand@redhat.com>
In-Reply-To: <20241015121046.2556695-4-david.marchand@redhat.com>
References: <20241015121046.2556695-4-david.marchand@redhat.com>
Content-Type: text/plain
X-BeenThere: test-report@dpdk.org
X-Mailman-Version: 2.1.29
Precedence: list
List-Id: automatic DPDK test reports <test-report.dpdk.org>
List-Unsubscribe: <https://mails.dpdk.org/options/test-report>,
 <mailto:test-report-request@dpdk.org?subject=unsubscribe>
List-Archive: <http://mails.dpdk.org/archives/test-report/>
List-Post: <mailto:test-report@dpdk.org>
List-Help: <mailto:test-report-request@dpdk.org?subject=help>
List-Subscribe: <https://mails.dpdk.org/listinfo/test-report>,
 <mailto:test-report-request@dpdk.org?subject=subscribe>
Errors-To: test-report-bounces@dpdk.org

Test-Label: iol-unit-amd64-testing
Test-Status: SUCCESS
http://dpdk.org/patch/146009

_Testing PASS_

Submitter: David Marchand <david.marchand@redhat.com>
Date: Tuesday, October 15 2024 12:10:45 
DPDK git baseline: Repo:dpdk
  Branch: master
  CommitID:9207f93640a709cad1412430c5f0edfee3ad5a87

146007-146009 --> testing pass

Upstream job id: Generic-Unit-Test-DPDK#276103

Test environment and result as below:

+---------------------+----------------+
|     Environment     | dpdk_unit_test |
+=====================+================+
| Windows Server 2022 | PASS           |
+---------------------+----------------+
| CentOS Stream 9     | PASS           |
+---------------------+----------------+
| Fedora 37           | PASS           |
+---------------------+----------------+
| Debian 12           | PASS           |
+---------------------+----------------+
| Fedora 38           | PASS           |
+---------------------+----------------+
| Fedora 38 (Clang)   | PASS           |
+---------------------+----------------+
| Fedora 39 (Clang)   | PASS           |
+---------------------+----------------+
| Fedora 39           | PASS           |
+---------------------+----------------+
| Fedora 40           | PASS           |
+---------------------+----------------+
| Fedora 40 (Clang)   | PASS           |
+---------------------+----------------+
| Ubuntu 20.04        | PASS           |
+---------------------+----------------+
| RHEL8               | PASS           |
+---------------------+----------------+
| RHEL9               | PASS           |
+---------------------+----------------+
| Ubuntu 24.04        | PASS           |
+---------------------+----------------+
| Ubuntu 22.04        | PASS           |
+---------------------+----------------+
| Debian Bullseye     | PASS           |
+---------------------+----------------+


Windows Server 2022
	Kernel: 10.0.20348.2031
	Compiler: clang 15.0.7, gcc 14.1.0 (MinGW), and MSVC VS 19.39.33521

CentOS Stream 9
	Kernel: Depends on container host
	Compiler: gcc 11.4.1 20231218 (Red Hat 11.4.1-3)

Fedora 37
	Kernel: Depends on container host system
	Compiler: gcc 12.3.1 20230508 (Red Hat 12.3.1-1)

Debian 12
	Kernel: Depends on container host
	Compiler: gcc (Debian 12.2.0-14) 12.2.0

Fedora 38
	Kernel: Depends on container host
	Compiler: gcc 13.2.1 20240316 (Red Hat 13.2.1-7)

Fedora 38 (Clang)
	Kernel: Depends on container host
	Compiler: clang 16.0.6 (Fedora 16.0.6-4.fc38)

Fedora 39 (Clang)
	Kernel: Depends on container host
	Compiler: clang 17.0.6 (Fedora 17.0.6-2.fc39)

Fedora 39
	Kernel: Depends on container host
	Compiler: gcc 13.3.1 20240522 (Red Hat 13.3.1-1)

Fedora 40
	Kernel: Depends on container host
	Compiler: gcc 14.2.1 20240801 (Red Hat 14.2.1-1)

Fedora 40 (Clang)
	Kernel: Depends on container host
	Compiler: clang 18.1.6 (Fedora 18.1.6-3.fc40)

Ubuntu 20.04
	Kernel: Depends on container host
	Compiler: gcc (Ubuntu 9.4.0-1ubuntu1~20.04.2) 9.4.0

RHEL8
	Kernel: Depends on container host
	Compiler: gcc 8.5.0 20210514 (Red Hat 8.5.0-22)

RHEL9
	Kernel: Depends on container host
	Compiler: gcc 11.4.1 20231218 (Red Hat 11.4.1-3)

Ubuntu 24.04
	Kernel: Depends on container host
	Compiler: gcc (Ubuntu 13.2.0-23ubuntu4) 13.2.0

Ubuntu 22.04
	Kernel: Depends on container host
	Compiler: gcc (Ubuntu 11.4.0-1ubuntu1~22.04) 11.4.0

Debian Bullseye
	Kernel: Depends on container host
	Compiler: gcc (Debian 10.2.1-6) 10.2.1 20210110

To view detailed results, visit:
https://lab.dpdk.org/results/dashboard/patchsets/31498/

UNH-IOL DPDK Community Lab

To manage your email subscriptions, visit: 
https://lab.dpdk.org/results/dashboard/preferences/subscriptions/