From mboxrd@z Thu Jan  1 00:00:00 1970
Return-Path: <test-report-bounces@dpdk.org>
Received: from mails.dpdk.org (mails.dpdk.org [217.70.189.124])
	by inbox.dpdk.org (Postfix) with ESMTP id ED55345B51
	for <public@inbox.dpdk.org>; Wed, 16 Oct 2024 17:57:58 +0200 (CEST)
Received: from mails.dpdk.org (localhost [127.0.0.1])
	by mails.dpdk.org (Postfix) with ESMTP id CE21F40150;
	Wed, 16 Oct 2024 17:57:58 +0200 (CEST)
Received: from mail-oo1-f100.google.com (mail-oo1-f100.google.com
 [209.85.161.100])
 by mails.dpdk.org (Postfix) with ESMTP id 28A10400D6
 for <test-report@dpdk.org>; Wed, 16 Oct 2024 17:57:58 +0200 (CEST)
Received: by mail-oo1-f100.google.com with SMTP id
 006d021491bc7-5e8010de1caso34660eaf.0
 for <test-report@dpdk.org>; Wed, 16 Oct 2024 08:57:58 -0700 (PDT)
DKIM-Signature: v=1; a=rsa-sha256; c=relaxed/relaxed;
 d=iol.unh.edu; s=unh-iol; t=1729094277; x=1729699077; darn=dpdk.org;
 h=references:in-reply-to:cc:to:from:subject:message-id:date:from:to
 :cc:subject:date:message-id:reply-to;
 bh=ZI/dvK12UfvcCeYhPPySO4D7bO00wLajsSPkCVqOIPA=;
 b=d90pRsvHKpkHCLTuvj+FAMC1rqI/Ap8514XrRqL+is3y0VBOQEyBS69NfnEtpURHqL
 35L2doSLmYfwLHEDIP3ml8kOlBi3Jflw8Th2Y6Vlmo6G1V07cR/pnb14OhwbybU2NBuR
 Qs05A2d4sQGkgDCUOOx1YPZk+4lfVsyfrfthE=
X-Google-DKIM-Signature: v=1; a=rsa-sha256; c=relaxed/relaxed;
 d=1e100.net; s=20230601; t=1729094277; x=1729699077;
 h=references:in-reply-to:cc:to:from:subject:message-id:date
 :x-gm-message-state:from:to:cc:subject:date:message-id:reply-to;
 bh=ZI/dvK12UfvcCeYhPPySO4D7bO00wLajsSPkCVqOIPA=;
 b=RLQ7CKX00EuDMsNufrcE76VCDUgCgFNiSZNKnuZlIF8vD0aKnkLVzGCl6YV0FnjSQm
 Ii6NGKah2foAMhDBK0rnokU+517rgc1pvgRCv2cViXuPryNLTGoSu8DVzOaQRhBwyov5
 Vy0qTJuekf1qskfML4C/4gM8MMyOh9OXLpeaPFpRSzNcOnIal0XmcgUZ9gAmNEC1+gIZ
 i4WWvkaZYREkmfSzKdTQ79s4fvNu6zF16dyPBDgrrkH+RirfpIlHCWauzS3lHxGZPEti
 0UnQN1HhkGf6apah/5cWU1eisI78+DhSkAVCpu11VCaS5ScDeWyBUrKhlUXpmbJ5UGZm
 /6sA==
X-Gm-Message-State: AOJu0YyY3Rr0lNn025KjHyllERInJanKjq8QEMK8QDvlqBXcUvrNcxi8
 YVAAfT3degB21DcOqhxlMnoRPOkBA5s7RgGSHD856yXtbxF5pRYFfwX7jcvqyuYDqMKjo3naFpc
 ATheKF8tn0A8tcWwRM3e0UUk7VGjHssgHCBiZVaagu6i4aaGnwApZvi2o
X-Google-Smtp-Source: AGHT+IEpA8hLafaGKDzP5mhQw8hLdAdcCYS3AZYqx39+wdiCp7PHOYIEr0p8enYHDkj55V7Ams4GMWCK+XBJ
X-Received: by 2002:a05:6820:1c9f:b0:5e3:b691:5ee4 with SMTP id
 006d021491bc7-5eb58c91836mr3408520eaf.3.1729094277241; 
 Wed, 16 Oct 2024 08:57:57 -0700 (PDT)
Received: from postal.iol.unh.edu (postal.iol.unh.edu.
 [2606:4100:3880:1234::84]) by smtp-relay.gmail.com with ESMTPS id
 006d021491bc7-5eb6724a6c1sm21468eaf.10.2024.10.16.08.57.57
 (version=TLS1_2 cipher=ECDHE-ECDSA-AES128-GCM-SHA256 bits=128/128);
 Wed, 16 Oct 2024 08:57:57 -0700 (PDT)
X-Relaying-Domain: iol.unh.edu
Date: Wed, 16 Oct 2024 08:57:57 -0700 (PDT)
Message-ID: <670fe285.050a0220.ef016.1ab2SMTPIN_ADDED_MISSING@mx.google.com>
Received: from [172.21.0.3] (unknown [172.18.0.240])
 by postal.iol.unh.edu (Postfix) with ESMTP id D0BD66052471;
 Wed, 16 Oct 2024 11:57:56 -0400 (EDT)
Subject: |SUCCESS| pw146016-146020 [PATCH] [v2,5/5] net/ice: limit the number
From: dpdklab@iol.unh.edu
To: Test Report <test-report@dpdk.org>
Cc: dpdk-test-reports@iol.unh.edu
In-Reply-To: <20241015151957.1413286-6-bruce.richardson@intel.com>
References: <20241015151957.1413286-6-bruce.richardson@intel.com>
Content-Type: text/plain
X-BeenThere: test-report@dpdk.org
X-Mailman-Version: 2.1.29
Precedence: list
List-Id: automatic DPDK test reports <test-report.dpdk.org>
List-Unsubscribe: <https://mails.dpdk.org/options/test-report>,
 <mailto:test-report-request@dpdk.org?subject=unsubscribe>
List-Archive: <http://mails.dpdk.org/archives/test-report/>
List-Post: <mailto:test-report@dpdk.org>
List-Help: <mailto:test-report-request@dpdk.org?subject=help>
List-Subscribe: <https://mails.dpdk.org/listinfo/test-report>,
 <mailto:test-report-request@dpdk.org?subject=subscribe>
Errors-To: test-report-bounces@dpdk.org

Test-Label: iol-unit-amd64-testing
Test-Status: SUCCESS
http://dpdk.org/patch/146020

_Testing PASS_

Submitter: Bruce Richardson <bruce.richardson@intel.com>
Date: Tuesday, October 15 2024 15:19:57 
DPDK git baseline: Repo:dpdk
  Branch: master
  CommitID:8b95b14ea24567190f5e80a5b55d352aaeb85c5c

146016-146020 --> testing pass

Upstream job id: Generic-Unit-Test-DPDK#276276

Test environment and result as below:

+---------------------+----------------+
|     Environment     | dpdk_unit_test |
+=====================+================+
| CentOS Stream 9     | PASS           |
+---------------------+----------------+
| Debian Bullseye     | PASS           |
+---------------------+----------------+
| Debian 12           | PASS           |
+---------------------+----------------+
| Fedora 37           | PASS           |
+---------------------+----------------+
| Fedora 38           | PASS           |
+---------------------+----------------+
| Fedora 38 (Clang)   | PASS           |
+---------------------+----------------+
| Fedora 39           | PASS           |
+---------------------+----------------+
| Fedora 39 (Clang)   | PASS           |
+---------------------+----------------+
| Fedora 40           | PASS           |
+---------------------+----------------+
| Fedora 40 (Clang)   | PASS           |
+---------------------+----------------+
| RHEL8               | PASS           |
+---------------------+----------------+
| RHEL9               | PASS           |
+---------------------+----------------+
| Ubuntu 20.04        | PASS           |
+---------------------+----------------+
| Ubuntu 22.04        | PASS           |
+---------------------+----------------+
| Ubuntu 24.04        | PASS           |
+---------------------+----------------+
| Windows Server 2022 | PASS           |
+---------------------+----------------+


CentOS Stream 9
	Kernel: Depends on container host
	Compiler: gcc 11.4.1 20231218 (Red Hat 11.4.1-3)

Debian Bullseye
	Kernel: Depends on container host
	Compiler: gcc (Debian 10.2.1-6) 10.2.1 20210110

Debian 12
	Kernel: Depends on container host
	Compiler: gcc (Debian 12.2.0-14) 12.2.0

Fedora 37
	Kernel: Depends on container host system
	Compiler: gcc 12.3.1 20230508 (Red Hat 12.3.1-1)

Fedora 38
	Kernel: Depends on container host
	Compiler: gcc 13.2.1 20240316 (Red Hat 13.2.1-7)

Fedora 38 (Clang)
	Kernel: Depends on container host
	Compiler: clang 16.0.6 (Fedora 16.0.6-4.fc38)

Fedora 39
	Kernel: Depends on container host
	Compiler: gcc 13.3.1 20240522 (Red Hat 13.3.1-1)

Fedora 39 (Clang)
	Kernel: Depends on container host
	Compiler: clang 17.0.6 (Fedora 17.0.6-2.fc39)

Fedora 40
	Kernel: Depends on container host
	Compiler: gcc 14.2.1 20240801 (Red Hat 14.2.1-1)

Fedora 40 (Clang)
	Kernel: Depends on container host
	Compiler: clang 18.1.6 (Fedora 18.1.6-3.fc40)

RHEL8
	Kernel: Depends on container host
	Compiler: gcc 8.5.0 20210514 (Red Hat 8.5.0-22)

RHEL9
	Kernel: Depends on container host
	Compiler: gcc 11.4.1 20231218 (Red Hat 11.4.1-3)

Ubuntu 20.04
	Kernel: Depends on container host
	Compiler: gcc (Ubuntu 9.4.0-1ubuntu1~20.04.2) 9.4.0

Ubuntu 22.04
	Kernel: Depends on container host
	Compiler: gcc (Ubuntu 11.4.0-1ubuntu1~22.04) 11.4.0

Ubuntu 24.04
	Kernel: Depends on container host
	Compiler: gcc (Ubuntu 13.2.0-23ubuntu4) 13.2.0

Windows Server 2022
	Kernel: 10.0.20348.2031
	Compiler: clang 15.0.7, gcc 14.1.0 (MinGW), and MSVC VS 19.39.33521

To view detailed results, visit:
https://lab.dpdk.org/results/dashboard/patchsets/31500/

UNH-IOL DPDK Community Lab

To manage your email subscriptions, visit: 
https://lab.dpdk.org/results/dashboard/preferences/subscriptions/