From mboxrd@z Thu Jan  1 00:00:00 1970
Return-Path: <test-report-bounces@dpdk.org>
Received: from mails.dpdk.org (mails.dpdk.org [217.70.189.124])
	by inbox.dpdk.org (Postfix) with ESMTP id 958E145B57
	for <public@inbox.dpdk.org>; Thu, 17 Oct 2024 02:41:46 +0200 (CEST)
Received: from mails.dpdk.org (localhost [127.0.0.1])
	by mails.dpdk.org (Postfix) with ESMTP id 8DB2B4021F;
	Thu, 17 Oct 2024 02:41:46 +0200 (CEST)
Received: from mail-qv1-f98.google.com (mail-qv1-f98.google.com
 [209.85.219.98]) by mails.dpdk.org (Postfix) with ESMTP id 8A2C940144
 for <test-report@dpdk.org>; Thu, 17 Oct 2024 02:41:44 +0200 (CEST)
Received: by mail-qv1-f98.google.com with SMTP id
 6a1803df08f44-6cc1b20ce54so3560166d6.0
 for <test-report@dpdk.org>; Wed, 16 Oct 2024 17:41:44 -0700 (PDT)
DKIM-Signature: v=1; a=rsa-sha256; c=relaxed/relaxed;
 d=iol.unh.edu; s=unh-iol; t=1729125704; x=1729730504; darn=dpdk.org;
 h=references:in-reply-to:cc:to:from:subject:message-id:date:from:to
 :cc:subject:date:message-id:reply-to;
 bh=YmSqRWZKeyTR6VOsuyxwnNAEEX792hw7O3YP901QJP0=;
 b=fDPSxjq0e+7LKLNrTF63yrM5fezbJykTlpRVEQIlnfCO/B0rXLtbqM1eQX9fllpeyZ
 4wlXEV5CnPHENt4OUsbALepGU4oa+3tg/Wu6f4FzQiD7pFJtS4H+0zn1MzYAAJVfLjIr
 YqAZtxzbgdpYqwzSbNELyWEF3skO98INPVnSs=
X-Google-DKIM-Signature: v=1; a=rsa-sha256; c=relaxed/relaxed;
 d=1e100.net; s=20230601; t=1729125704; x=1729730504;
 h=references:in-reply-to:cc:to:from:subject:message-id:date
 :x-gm-message-state:from:to:cc:subject:date:message-id:reply-to;
 bh=YmSqRWZKeyTR6VOsuyxwnNAEEX792hw7O3YP901QJP0=;
 b=M9jDwz0V5OvyVelEZkGPHJtiGVWzjThxniQTTpLWzIHoH8uuhbxUuTN0KuC52umM+P
 2P1UeTCmTkMpgobV8bRJcF++XEZF/wEGyK+bnp3rhdjJGVQfw2y4O8Z7lVxNU7XAoLZh
 1TEl4tmXkE2sppnMOli+xeY7gkLXuLXuJBzxmy7Dgq8MbxQLA7qKJsQR7Jxf3tV2ULb1
 BTNHUrLSBSzGfEbqRlL0ZM6h9lBeiI+AoEuaTZnYVlXoHM+14nw/lpmnbXnTPzRm0GIA
 TYxFBFWYKzI1sBv6atvbx31aR6XTrDSQImLd4r+UMdxDRl7abOK+jbEK+mBuz1adITCW
 oHeA==
X-Gm-Message-State: AOJu0YwKD0ByX5C8tJgYRzdhXezGm6h5wPrB0EPC15YI0kfv7Su/NLTc
 JTceKE+5BfkpxHc+5NP52fOfl+jCDehZJbXL4gpa/Uo42mXkdshRXrxyLFeUoLZY0jj0RQUIipa
 6eBE99MWYKRLirSWlDMbwktrKfjrOg6RSp/m9XEd8mLcAtHzEpOQVX1Rx
X-Google-Smtp-Source: AGHT+IHkWv91h3XfGeOKf9GH3c9Pu3TgrzmU7qgYBGqSAu6ikq7WCDjU+hzTf+6GroVD6APNc264aZ0Oa0AH
X-Received: by 2002:a05:6214:588b:b0:6cb:c9e0:c299 with SMTP id
 6a1803df08f44-6cbf9d0f53emr316605476d6.27.1729125703960; 
 Wed, 16 Oct 2024 17:41:43 -0700 (PDT)
Received: from postal.iol.unh.edu (postal.iol.unh.edu.
 [2606:4100:3880:1234::84]) by smtp-relay.gmail.com with ESMTPS id
 6a1803df08f44-6cc2ed7d32dsm763776d6.22.2024.10.16.17.41.43
 (version=TLS1_2 cipher=ECDHE-ECDSA-AES128-GCM-SHA256 bits=128/128);
 Wed, 16 Oct 2024 17:41:43 -0700 (PDT)
X-Relaying-Domain: iol.unh.edu
Date: Wed, 16 Oct 2024 17:41:43 -0700 (PDT)
Message-ID: <67105d47.050a0220.11e70f.52e7SMTPIN_ADDED_MISSING@mx.google.com>
Received: from [172.21.0.3] (unknown [172.18.0.240])
 by postal.iol.unh.edu (Postfix) with ESMTP id A2F806052471;
 Wed, 16 Oct 2024 20:41:43 -0400 (EDT)
Subject: |SUCCESS| pw146077-146080 [PATCH] [v2,4/4] buildtools/chkincs: check
From: dpdklab@iol.unh.edu
To: Test Report <test-report@dpdk.org>
Cc: dpdk-test-reports@iol.unh.edu
In-Reply-To: <20241016113817.3956187-5-david.marchand@redhat.com>
References: <20241016113817.3956187-5-david.marchand@redhat.com>
Content-Type: text/plain
X-BeenThere: test-report@dpdk.org
X-Mailman-Version: 2.1.29
Precedence: list
List-Id: automatic DPDK test reports <test-report.dpdk.org>
List-Unsubscribe: <https://mails.dpdk.org/options/test-report>,
 <mailto:test-report-request@dpdk.org?subject=unsubscribe>
List-Archive: <http://mails.dpdk.org/archives/test-report/>
List-Post: <mailto:test-report@dpdk.org>
List-Help: <mailto:test-report-request@dpdk.org?subject=help>
List-Subscribe: <https://mails.dpdk.org/listinfo/test-report>,
 <mailto:test-report-request@dpdk.org?subject=subscribe>
Errors-To: test-report-bounces@dpdk.org

Test-Label: iol-compile-amd64-testing
Test-Status: SUCCESS
http://dpdk.org/patch/146080

_Testing PASS_

Submitter: David Marchand <david.marchand@redhat.com>
Date: Wednesday, October 16 2024 11:38:16 
DPDK git baseline: Repo:dpdk
  Branch: master
  CommitID:cc8764c6c9af150131f714bbe8d39de861d5e377

146077-146080 --> testing pass

Upstream job id: Windows-Compile-DPDK-Native#23154

Test environment and result as below:

+---------------------+-----------------------+----------------------+--------------------+
|     Environment     | dpdk_win_llvm_compile | dpdk_mingw64_compile | dpdk_meson_compile |
+=====================+=======================+======================+====================+
| Windows Server 2022 | PASS                  | PASS                 | SKIPPED            |
+---------------------+-----------------------+----------------------+--------------------+
| FreeBSD 13.4        | SKIPPED               | SKIPPED              | PASS               |
+---------------------+-----------------------+----------------------+--------------------+
| FreeBSD 14.1        | SKIPPED               | SKIPPED              | PASS               |
+---------------------+-----------------------+----------------------+--------------------+


Windows Server 2022
	Kernel: 10.0.20348.2031
	Compiler: clang 15.0.7, gcc 14.1.0 (MinGW), and MSVC VS 19.39.33521

FreeBSD 13.4
	Kernel: 13.4-RELEASE-p1
	Compiler: clang 18.1.6

FreeBSD 14.1
	Kernel: 14.1-RELEASE-p3
	Compiler: clang 18.1.5

To view detailed results, visit:
https://lab.dpdk.org/results/dashboard/patchsets/31513/

UNH-IOL DPDK Community Lab

To manage your email subscriptions, visit: 
https://lab.dpdk.org/results/dashboard/preferences/subscriptions/