From mboxrd@z Thu Jan  1 00:00:00 1970
Return-Path: <test-report-bounces@dpdk.org>
Received: from mails.dpdk.org (mails.dpdk.org [217.70.189.124])
	by inbox.dpdk.org (Postfix) with ESMTP id 97B5245B57
	for <public@inbox.dpdk.org>; Thu, 17 Oct 2024 03:06:07 +0200 (CEST)
Received: from mails.dpdk.org (localhost [127.0.0.1])
	by mails.dpdk.org (Postfix) with ESMTP id 8EAB54021F;
	Thu, 17 Oct 2024 03:06:07 +0200 (CEST)
Received: from mail-vk1-f228.google.com (mail-vk1-f228.google.com
 [209.85.221.228])
 by mails.dpdk.org (Postfix) with ESMTP id DAD2940279
 for <test-report@dpdk.org>; Thu, 17 Oct 2024 03:06:02 +0200 (CEST)
Received: by mail-vk1-f228.google.com with SMTP id
 71dfb90a1353d-50d4213c5f6so176163e0c.3
 for <test-report@dpdk.org>; Wed, 16 Oct 2024 18:06:02 -0700 (PDT)
DKIM-Signature: v=1; a=rsa-sha256; c=relaxed/relaxed;
 d=iol.unh.edu; s=unh-iol; t=1729127162; x=1729731962; darn=dpdk.org;
 h=references:in-reply-to:cc:to:from:subject:message-id:date:from:to
 :cc:subject:date:message-id:reply-to;
 bh=T3AXMVcAHYlJS0NRcbEQ9zVlcIYLAOVMgHPurlVlE3g=;
 b=KWENVfukIatpVR7DOWWTG9uCaYfkvBBrB+VRc2UGq/Jli5tPARNRZ/FfstQ6hK0OUi
 K9ux+kiOus+yqth6Q7QOkq5C+HDuOKboO145UotmxDKxFY2MUYtCsh1MnCLjwYj1yH7h
 NgQM3UL0vv+IuEjWBJmPd1/WaaoZ6qUfsT6Jw=
X-Google-DKIM-Signature: v=1; a=rsa-sha256; c=relaxed/relaxed;
 d=1e100.net; s=20230601; t=1729127162; x=1729731962;
 h=references:in-reply-to:cc:to:from:subject:message-id:date
 :x-gm-message-state:from:to:cc:subject:date:message-id:reply-to;
 bh=T3AXMVcAHYlJS0NRcbEQ9zVlcIYLAOVMgHPurlVlE3g=;
 b=Qt2BwBBsnHoBON0jrNPjiuoT5RS4qGeul5oh3ARlbt8+BE6Y7bYg7+P7j389clNuIG
 C1fhy+Yliv+HcE4RMacRrJ+Tc2eE8e3mxNFsqveS72go4zKxF/mvpuZCSNF8/ntfrfgG
 vF4B0LMSSu9YVY3FZ9bFabivs6QVS5ZytnLmVyQ9gBjRmOR/XASa0nTOFuvGRc1akyr3
 jsw7348d5TUFSJawAsfE1oTmIxvbbIE03BvS2igL1/wHdvIa6wFLJ8qrH2jhgCmPgrmJ
 HUISBgLvZa1xV/akzFJF4yOVlqg1GubzJ1MF9PKXOKe9x4+tGw71mOsyGVghJwEmNDSs
 MotQ==
X-Gm-Message-State: AOJu0YzNeFnSF97MDG+nT9Ow7au8l+fiqUmI/yiesyMy9pnib34Uv2rR
 JQPiTqUJFDOiMn5FPCctVv8HodXKMbCdDyZy5ylS6BJTCZ49hTZfflZVUwxMTZh/AxpdxV9orCp
 g+yhOYmuY3/Rq/BfhFQCt5FZ0ud4hbS3KDb8C5Jb74JmKYgsTQR5vwFYw
X-Google-Smtp-Source: AGHT+IEfT5eOKoWBnR7gkGmqUK9+GOfo29G2rTOrjkAZaomPY97yXGz3Pdz2UORo4UuNY0Rg9Kqr+IlsJmNz
X-Received: by 2002:a05:6122:1d09:b0:50a:12e4:2618 with SMTP id
 71dfb90a1353d-50d1f3910e0mr17957452e0c.2.1729127162031; 
 Wed, 16 Oct 2024 18:06:02 -0700 (PDT)
Received: from postal.iol.unh.edu (postal.iol.unh.edu.
 [2606:4100:3880:1234::84]) by smtp-relay.gmail.com with ESMTPS id
 71dfb90a1353d-50d7b2cdebesm214992e0c.14.2024.10.16.18.06.01
 (version=TLS1_2 cipher=ECDHE-ECDSA-AES128-GCM-SHA256 bits=128/128);
 Wed, 16 Oct 2024 18:06:02 -0700 (PDT)
X-Relaying-Domain: iol.unh.edu
Date: Wed, 16 Oct 2024 18:06:02 -0700 (PDT)
Message-ID: <671062fa.050a0220.1a73d6.eb95SMTPIN_ADDED_MISSING@mx.google.com>
Received: from [172.21.0.2] (unknown [172.18.0.240])
 by postal.iol.unh.edu (Postfix) with ESMTP id AD66F6052471;
 Wed, 16 Oct 2024 21:06:01 -0400 (EDT)
Subject: |SUCCESS| pw146026-146029 [PATCH] [v2,5/5] net/mlx5: implement jump 
From: dpdklab@iol.unh.edu
To: Test Report <test-report@dpdk.org>
Cc: dpdk-test-reports@iol.unh.edu
In-Reply-To: <20241015164718.607858-5-akozyrev@nvidia.com>
References: <20241015164718.607858-5-akozyrev@nvidia.com>
Content-Type: text/plain
X-BeenThere: test-report@dpdk.org
X-Mailman-Version: 2.1.29
Precedence: list
List-Id: automatic DPDK test reports <test-report.dpdk.org>
List-Unsubscribe: <https://mails.dpdk.org/options/test-report>,
 <mailto:test-report-request@dpdk.org?subject=unsubscribe>
List-Archive: <http://mails.dpdk.org/archives/test-report/>
List-Post: <mailto:test-report@dpdk.org>
List-Help: <mailto:test-report-request@dpdk.org?subject=help>
List-Subscribe: <https://mails.dpdk.org/listinfo/test-report>,
 <mailto:test-report-request@dpdk.org?subject=subscribe>
Errors-To: test-report-bounces@dpdk.org

Test-Label: iol-compile-amd64-testing
Test-Status: SUCCESS
http://dpdk.org/patch/146029

_Testing PASS_

Submitter: Alexander Kozyrev <akozyrev@nvidia.com>
Date: Tuesday, October 15 2024 16:47:18 
DPDK git baseline: Repo:dpdk
  Branch: master
  CommitID:9c935343d8c7397198f2fb72500cc9db120c8d8d

146026-146029 --> testing pass

Upstream job id: Windows-Compile-DPDK-VS#3498

Test environment and result as below:

+---------------------+----------------------+-----------------------+--------------------+------------------+-------------------+-------------------+
|     Environment     | dpdk_mingw64_compile | dpdk_win_llvm_compile | dpdk_meson_compile | dpdk_compile_ovs | dpdk_compile_spdk | dpdk_msvc_compile |
+=====================+======================+=======================+====================+==================+===================+===================+
| Windows Server 2022 | PASS                 | PASS                  | SKIPPED            | SKIPPED          | SKIPPED           | PASS              |
+---------------------+----------------------+-----------------------+--------------------+------------------+-------------------+-------------------+
| FreeBSD 13.4        | SKIPPED              | SKIPPED               | PASS               | SKIPPED          | SKIPPED           | SKIPPED           |
+---------------------+----------------------+-----------------------+--------------------+------------------+-------------------+-------------------+
| FreeBSD 14.1        | SKIPPED              | SKIPPED               | PASS               | SKIPPED          | SKIPPED           | SKIPPED           |
+---------------------+----------------------+-----------------------+--------------------+------------------+-------------------+-------------------+
| CentOS Stream 9     | SKIPPED              | SKIPPED               | PASS               | PASS             | PASS              | SKIPPED           |
+---------------------+----------------------+-----------------------+--------------------+------------------+-------------------+-------------------+
| Debian Bullseye     | SKIPPED              | SKIPPED               | PASS               | PASS             | PASS              | SKIPPED           |
+---------------------+----------------------+-----------------------+--------------------+------------------+-------------------+-------------------+
| Debian 12           | SKIPPED              | SKIPPED               | PASS               | PASS             | PASS              | SKIPPED           |
+---------------------+----------------------+-----------------------+--------------------+------------------+-------------------+-------------------+
| Fedora 37           | SKIPPED              | SKIPPED               | PASS               | PASS             | PASS              | SKIPPED           |
+---------------------+----------------------+-----------------------+--------------------+------------------+-------------------+-------------------+
| Fedora 38 (Clang)   | SKIPPED              | SKIPPED               | PASS               | PASS             | PASS              | SKIPPED           |
+---------------------+----------------------+-----------------------+--------------------+------------------+-------------------+-------------------+
| Fedora 38           | SKIPPED              | SKIPPED               | PASS               | PASS             | PASS              | SKIPPED           |
+---------------------+----------------------+-----------------------+--------------------+------------------+-------------------+-------------------+
| Fedora 39 (Clang)   | SKIPPED              | SKIPPED               | PASS               | PASS             | PASS              | SKIPPED           |
+---------------------+----------------------+-----------------------+--------------------+------------------+-------------------+-------------------+
| Fedora 39           | SKIPPED              | SKIPPED               | PASS               | PASS             | PASS              | SKIPPED           |
+---------------------+----------------------+-----------------------+--------------------+------------------+-------------------+-------------------+
| Fedora 40 (Clang)   | SKIPPED              | SKIPPED               | PASS               | PASS             | PASS              | SKIPPED           |
+---------------------+----------------------+-----------------------+--------------------+------------------+-------------------+-------------------+
| Fedora 40           | SKIPPED              | SKIPPED               | PASS               | PASS             | PASS              | SKIPPED           |
+---------------------+----------------------+-----------------------+--------------------+------------------+-------------------+-------------------+
| openSUSE Leap 15    | SKIPPED              | SKIPPED               | PASS               | PASS             | SKIPPED           | SKIPPED           |
+---------------------+----------------------+-----------------------+--------------------+------------------+-------------------+-------------------+
| RHEL8               | SKIPPED              | SKIPPED               | PASS               | PASS             | SKIPPED           | SKIPPED           |
+---------------------+----------------------+-----------------------+--------------------+------------------+-------------------+-------------------+
| RHEL9               | SKIPPED              | SKIPPED               | PASS               | PASS             | SKIPPED           | SKIPPED           |
+---------------------+----------------------+-----------------------+--------------------+------------------+-------------------+-------------------+
| Ubuntu 22.04        | SKIPPED              | SKIPPED               | PASS               | PASS             | PASS              | SKIPPED           |
+---------------------+----------------------+-----------------------+--------------------+------------------+-------------------+-------------------+
| Alpine              | SKIPPED              | SKIPPED               | PASS               | PASS             | SKIPPED           | SKIPPED           |
+---------------------+----------------------+-----------------------+--------------------+------------------+-------------------+-------------------+
| Ubuntu 20.04        | SKIPPED              | SKIPPED               | PASS               | PASS             | SKIPPED           | SKIPPED           |
+---------------------+----------------------+-----------------------+--------------------+------------------+-------------------+-------------------+
| Ubuntu 24.04        | SKIPPED              | SKIPPED               | PASS               | PASS             | PASS              | SKIPPED           |
+---------------------+----------------------+-----------------------+--------------------+------------------+-------------------+-------------------+


Windows Server 2022
	Kernel: 10.0.20348.2031
	Compiler: clang 15.0.7, gcc 14.1.0 (MinGW), and MSVC VS 19.39.33521

FreeBSD 13.4
	Kernel: 13.4-RELEASE-p1
	Compiler: clang 18.1.6

FreeBSD 14.1
	Kernel: 14.1-RELEASE-p3
	Compiler: clang 18.1.5

CentOS Stream 9
	Kernel: Depends on container host
	Compiler: gcc 11.4.1 20231218 (Red Hat 11.4.1-3)

Debian Bullseye
	Kernel: Depends on container host
	Compiler: gcc (Debian 10.2.1-6) 10.2.1 20210110

Debian 12
	Kernel: Depends on container host
	Compiler: gcc (Debian 12.2.0-14) 12.2.0

Fedora 37
	Kernel: Depends on container host system
	Compiler: gcc 12.3.1 20230508 (Red Hat 12.3.1-1)

Fedora 38 (Clang)
	Kernel: Depends on container host
	Compiler: clang 16.0.6 (Fedora 16.0.6-4.fc38)

Fedora 38
	Kernel: Depends on container host
	Compiler: gcc 13.2.1 20240316 (Red Hat 13.2.1-7)

Fedora 39 (Clang)
	Kernel: Depends on container host
	Compiler: clang 17.0.6 (Fedora 17.0.6-2.fc39)

Fedora 39
	Kernel: Depends on container host
	Compiler: gcc 13.3.1 20240522 (Red Hat 13.3.1-1)

Fedora 40 (Clang)
	Kernel: Depends on container host
	Compiler: clang 18.1.6 (Fedora 18.1.6-3.fc40)

Fedora 40
	Kernel: Depends on container host
	Compiler: gcc 14.2.1 20240801 (Red Hat 14.2.1-1)

openSUSE Leap 15
	Kernel: Depends on container host
	Compiler: gcc (SUSE Linux) 7.5.0

RHEL8
	Kernel: Depends on container host
	Compiler: gcc 8.5.0 20210514 (Red Hat 8.5.0-22)

RHEL9
	Kernel: Depends on container host
	Compiler: gcc 11.4.1 20231218 (Red Hat 11.4.1-3)

Ubuntu 22.04
	Kernel: Depends on container host
	Compiler: gcc (Ubuntu 11.4.0-1ubuntu1~22.04) 11.4.0

Alpine
	Kernel: Depends on container host
	Compiler: gcc (Alpine 13.2.1_git20240309) 13.2.1 20240309

Ubuntu 20.04
	Kernel: Depends on container host
	Compiler: gcc (Ubuntu 9.4.0-1ubuntu1~20.04.2) 9.4.0

Ubuntu 24.04
	Kernel: Depends on container host
	Compiler: gcc (Ubuntu 13.2.0-23ubuntu4) 13.2.0

To view detailed results, visit:
https://lab.dpdk.org/results/dashboard/patchsets/31502/

UNH-IOL DPDK Community Lab

To manage your email subscriptions, visit: 
https://lab.dpdk.org/results/dashboard/preferences/subscriptions/