From mboxrd@z Thu Jan 1 00:00:00 1970 Return-Path: Received: from mails.dpdk.org (mails.dpdk.org [217.70.189.124]) by inbox.dpdk.org (Postfix) with ESMTP id E836F45B45 for ; Thu, 17 Oct 2024 03:27:36 +0200 (CEST) Received: from mails.dpdk.org (localhost [127.0.0.1]) by mails.dpdk.org (Postfix) with ESMTP id DFEE04021F; Thu, 17 Oct 2024 03:27:36 +0200 (CEST) Received: from mail-pl1-f228.google.com (mail-pl1-f228.google.com [209.85.214.228]) by mails.dpdk.org (Postfix) with ESMTP id 5CA6C40144 for ; Thu, 17 Oct 2024 03:27:35 +0200 (CEST) Received: by mail-pl1-f228.google.com with SMTP id d9443c01a7336-20c70abba48so3579045ad.0 for ; Wed, 16 Oct 2024 18:27:35 -0700 (PDT) DKIM-Signature: v=1; a=rsa-sha256; c=relaxed/relaxed; d=iol.unh.edu; s=unh-iol; t=1729128454; x=1729733254; darn=dpdk.org; h=cc:to:from:subject:message-id:date:from:to:cc:subject:date :message-id:reply-to; bh=40mDZAIfqTt/UCn8F0xcfWSYB0QH7n+ZKb5KzOmHIsw=; b=VO4iPHaslA9juixa2B8+QAEfKIQqhdo95thmylX2zhyfNk7+m7qZmDqDl/WQXQVGva pXoh+kRFPK46Hb2O6K8DIKnhrAoALc1ILXgIge/cGLC7jWyAZkN1IWM89KCEWyymLxcJ Gc72r6+gYs/hZRa7GUUIPGY73cbEyeu09BE0Y= X-Google-DKIM-Signature: v=1; a=rsa-sha256; c=relaxed/relaxed; d=1e100.net; s=20230601; t=1729128454; x=1729733254; h=cc:to:from:subject:message-id:date:x-gm-message-state:from:to:cc :subject:date:message-id:reply-to; bh=40mDZAIfqTt/UCn8F0xcfWSYB0QH7n+ZKb5KzOmHIsw=; b=a7kZFi2kZ1lswrYTQz649qHc5hDi20E2wEsgejbT779SXn17D18JVjxgYnBVLOVQoG fm4lusuodClRwcM3/VGmAHLB8gYQqY7XUzH0aT48HX2HzCae0oSORlxd0Eg3t4BZ/X1M HlFrbylCTxeFNU7dIsb/veshVHlwAhHZMQPGSBOd014GB1+r4ocdtp0T3ybmeZN6qkKJ m1XRXMcyoDYyx5NRS6lCB3JLVQFZvEswi9xolpHtkbo26rbsuI7gJZWgA7k5FRGnxmzO ynI/brwr4enEdneWdlbtnnlmPpQPMI4onODsLc5+R0GVHn6UYVIIOr6z9mzp4NJjhRbM 58Fw== X-Gm-Message-State: AOJu0Yzvxw6JJxaquftE33ZQ+LInOXKO/nECz2r8wWoVWKEghtv3NgLc gDbrbRJqkLFo/NBDyVh2rX+CCA8O1EAMQ4OwtsnmtRIksSeIg/q86o+62GOI58NrjY7a+5z+zcU cTvWFiNSFRAKf7fsF039Xj0QANypx/wGO6/p/zKU9GDkCBdFe X-Google-Smtp-Source: AGHT+IFWBVpxNx7ba+r/zyiRrEOPxxuYExK9yo2712EgSQ/vhdOF1swdOqenBBdQAdV6YI35/slu7/BmeSur X-Received: by 2002:a17:902:ce91:b0:20b:8bd0:7387 with SMTP id d9443c01a7336-20cbb2566aamr256758825ad.52.1729128454339; Wed, 16 Oct 2024 18:27:34 -0700 (PDT) Received: from postal.iol.unh.edu (postal.iol.unh.edu. [2606:4100:3880:1234::84]) by smtp-relay.gmail.com with ESMTPS id 98e67ed59e1d1-2e3e00f9e79sm46211a91.1.2024.10.16.18.27.34 (version=TLS1_2 cipher=ECDHE-ECDSA-AES128-GCM-SHA256 bits=128/128); Wed, 16 Oct 2024 18:27:34 -0700 (PDT) X-Relaying-Domain: iol.unh.edu Date: Wed, 16 Oct 2024 18:27:34 -0700 (PDT) Message-ID: <67106806.170a0220.15e62c.2fd4SMTPIN_ADDED_MISSING@mx.google.com> Received: from [172.21.0.2] (unknown [172.18.0.240]) by postal.iol.unh.edu (Postfix) with ESMTP id 61FA96052471; Wed, 16 Oct 2024 21:27:33 -0400 (EDT) Subject: |SUCCESS| [GIT MASTER] ff4d4839f9c2a6d05dca0a25ed6b1549402e1682 From: dpdklab@iol.unh.edu To: Test Report Cc: dpdk-test-reports@iol.unh.edu, Xueming Li , Christian Ehrhardt , Kevin Traynor , Luca Boccassi Content-Type: text/plain X-BeenThere: test-report@dpdk.org X-Mailman-Version: 2.1.29 Precedence: list List-Id: automatic DPDK test reports List-Unsubscribe: , List-Archive: List-Post: List-Help: List-Subscribe: , Errors-To: test-report-bounces@dpdk.org _Testing PASS_ Branch: tags/v22.11 ff4d4839f9c2a6d05dca0a25ed6b1549402e1682 --> testing pass Upstream job id: Generic-DPDK-Compile-Meson#317228 Test environment and result as below: +------------------------------------+--------------------+ | Environment | dpdk_meson_compile | +====================================+====================+ | RHEL9 (ARM) | PASS | +------------------------------------+--------------------+ | Ubuntu 20.04 ARM GCC Cross Compile | PASS | +------------------------------------+--------------------+ | Ubuntu 20.04 ARM SVE | PASS | +------------------------------------+--------------------+ | Debian 12 with MUSDK | PASS | +------------------------------------+--------------------+ | Fedora 37 (ARM) | PASS | +------------------------------------+--------------------+ | Fedora 38 (ARM) | PASS | +------------------------------------+--------------------+ | Fedora 38 (ARM Clang) | PASS | +------------------------------------+--------------------+ | Fedora 39 (ARM) | PASS | +------------------------------------+--------------------+ | Fedora 39 (ARM Clang) | PASS | +------------------------------------+--------------------+ | Fedora 40 (ARM) | PASS | +------------------------------------+--------------------+ | Fedora 40 (ARM Clang) | PASS | +------------------------------------+--------------------+ | Ubuntu 20.04 (ARM) | PASS | +------------------------------------+--------------------+ | Ubuntu 22.04 (ARM) | PASS | +------------------------------------+--------------------+ | Ubuntu 24.04 (ARM) | PASS | +------------------------------------+--------------------+ | CentOS Stream 9 (ARM) | PASS | +------------------------------------+--------------------+ | Debian 11 (Buster) (ARM) | PASS | +------------------------------------+--------------------+ | Debian 12 (arm) | PASS | +------------------------------------+--------------------+ RHEL9 (ARM) Kernel: Depends on container host Compiler: gcc 11.4.1 20231218 (Red Hat 11.4.1-3) Ubuntu 20.04 ARM GCC Cross Compile Kernel: Depends on container host Compiler: aarch64-linux-gnu-gcc (Ubuntu 9.4.0-1ubuntu1~20.04.2) 9.4.0 Ubuntu 20.04 ARM SVE Kernel: Depends on container host Compiler: gcc (Ubuntu 10.5.0-1ubuntu1~20.04) 10.5.0 Debian 12 with MUSDK Kernel: Depends on container host Compiler: gcc (Debian 12.2.0-14) 12.2.0 Fedora 37 (ARM) Kernel: Depends on container host Compiler: gcc 12.3.1 20230508 (Red Hat 12.3.1-1) Fedora 38 (ARM) Kernel: Depends on container host Compiler: gcc 13.2.1 20240316 (Red Hat 13.2.1-7) Fedora 38 (ARM Clang) Kernel: Depends on container host Compiler: clang 16.0.6 (Fedora 16.0.6-4.fc38) Fedora 39 (ARM) Kernel: Depends on container host Compiler: gcc 13.3.1 20240522 (Red Hat 13.3.1-1) Fedora 39 (ARM Clang) Kernel: Depends on container host Compiler: clang 17.0.6 (Fedora 17.0.6-2.fc39) Fedora 40 (ARM) Kernel: Depends on container host Compiler: gcc 14.2.1 20240801 (Red Hat 14.2.1-1) Fedora 40 (ARM Clang) Kernel: Depends on container host Compiler: clang 18.1.6 (Fedora 18.1.6-3.fc40) Ubuntu 20.04 (ARM) Kernel: Depends on container host Compiler: gcc (Ubuntu 9.4.0-1ubuntu1~20.04.2) 9.4.0 Ubuntu 22.04 (ARM) Kernel: Depends on container host Compiler: gcc (Ubuntu 11.4.0-1ubuntu1~22.04) 11.4.0 Ubuntu 24.04 (ARM) Kernel: Depends on container host Compiler: gcc (Ubuntu 13.2.0-23ubuntu4) 13.2.0 CentOS Stream 9 (ARM) Kernel: Depends on container host Compiler: gcc 11.4.1 20231218 (Red Hat 11.4.1-3) Debian 11 (Buster) (ARM) Kernel: Depends on container host Compiler: gcc (Debian 10.2.1-6) 10.2.1 20210110 Debian 12 (arm) Kernel: Depends on container host Compiler: gcc (Debian 12.2.0-14) 12.2.0 To view detailed results, visit: https://lab.dpdk.org/results/dashboard/tarballs/31066/ UNH-IOL DPDK Community Lab To manage your email subscriptions, visit: https://lab.dpdk.org/results/dashboard/preferences/subscriptions/