From mboxrd@z Thu Jan  1 00:00:00 1970
Return-Path: <test-report-bounces@dpdk.org>
Received: from mails.dpdk.org (mails.dpdk.org [217.70.189.124])
	by inbox.dpdk.org (Postfix) with ESMTP id 63EAF45B45
	for <public@inbox.dpdk.org>; Thu, 17 Oct 2024 03:39:37 +0200 (CEST)
Received: from mails.dpdk.org (localhost [127.0.0.1])
	by mails.dpdk.org (Postfix) with ESMTP id 48CB24021F;
	Thu, 17 Oct 2024 03:39:37 +0200 (CEST)
Received: from mail-il1-f225.google.com (mail-il1-f225.google.com
 [209.85.166.225])
 by mails.dpdk.org (Postfix) with ESMTP id 1A31640144
 for <test-report@dpdk.org>; Thu, 17 Oct 2024 03:39:36 +0200 (CEST)
Received: by mail-il1-f225.google.com with SMTP id
 e9e14a558f8ab-3a3a03399fbso2472755ab.0
 for <test-report@dpdk.org>; Wed, 16 Oct 2024 18:39:36 -0700 (PDT)
DKIM-Signature: v=1; a=rsa-sha256; c=relaxed/relaxed;
 d=iol.unh.edu; s=unh-iol; t=1729129175; x=1729733975; darn=dpdk.org;
 h=references:in-reply-to:cc:to:from:subject:message-id:date:from:to
 :cc:subject:date:message-id:reply-to;
 bh=OkijF2Lho6NJlmi99+ztIdzmSwkBdkBRmDgPydQSo18=;
 b=Q/kbWT1rOYzQOEL33pkkV4gLdBfW+qBdaf/B0hKCxA2QXDFq6sQ0xDXqNRgLnFgZOE
 lYigSecdrPzA8BvpaDXjrNkAJi6hoKogPbvr88DeP+RLn8v76IC32/urhZl6zI27WfS8
 pFVP0LhQlzb7q3W31hmzMwpG44tIN/fv1Alx8=
X-Google-DKIM-Signature: v=1; a=rsa-sha256; c=relaxed/relaxed;
 d=1e100.net; s=20230601; t=1729129175; x=1729733975;
 h=references:in-reply-to:cc:to:from:subject:message-id:date
 :x-gm-message-state:from:to:cc:subject:date:message-id:reply-to;
 bh=OkijF2Lho6NJlmi99+ztIdzmSwkBdkBRmDgPydQSo18=;
 b=Gok0eH4t/kiriJ3JKM2DYPRmgTyr0CHW52jpPk7zaX2oAN5Vrat+bDspwgJksgosEA
 7LF0N3TVCucPhpch0Ss4GM5YTk+RA1q8zzXFVPDRo7W7Ynl2NEiBVW9a/y2OwhXRUSkW
 DPLJWcDL2bE0/2t4pI0KE1Gp63HR20yZLrRvM+zTZOVZJRdDndlCdWL0JSFISJz7zY7Q
 suK5GtYB6bM7+018qeCTdppWo8gkkbKPrB53rnglF/8PXYenGwx5DwoCvK6xPX8CWIGz
 lehmuTPXHJ/IKlMA5w52qmhQ68a2d7lM8M01ecl4yNYgAo6S+C+QijHcvXYKcx37sIQf
 fv/g==
X-Gm-Message-State: AOJu0Yw3K6vQ045aCA7u2183QMPw1JW4qdam9R60IKDSt0upkqcfk4MV
 2HMWimWWAf8S8x9gWbB6zRElyHOzT8tEBNSANjnuEnuj+iYiEl4yqOsEBofKQim2vHck13yPhsd
 N0jYT/EepnvNOEawTgrTB89EbrySWUqbY2hKpi2zE
X-Google-Smtp-Source: AGHT+IFahP961lNA6+RMKKr0hMY8qHDFwoO21GJaSdm3pk7KnjkkmBE/P5of8ka2iX2ZZkb/KiC58YmuUQFq
X-Received: by 2002:a05:6e02:1aaa:b0:3a0:ae35:f2eb with SMTP id
 e9e14a558f8ab-3a3bcdfdf39mr155624755ab.19.1729129175265; 
 Wed, 16 Oct 2024 18:39:35 -0700 (PDT)
Received: from postal.iol.unh.edu (postal.iol.unh.edu. [132.177.123.84])
 by smtp-relay.gmail.com with ESMTPS id
 8926c6da1cb9f-4dbecc5a959sm171322173.75.2024.10.16.18.39.35
 (version=TLS1_2 cipher=ECDHE-ECDSA-AES128-GCM-SHA256 bits=128/128);
 Wed, 16 Oct 2024 18:39:35 -0700 (PDT)
X-Relaying-Domain: iol.unh.edu
Date: Wed, 16 Oct 2024 18:39:35 -0700 (PDT)
Message-ID: <67106ad7.020a0220.16a8cd.c72dSMTPIN_ADDED_MISSING@mx.google.com>
Received: from [172.17.0.3] (unknown [172.18.0.217])
 by postal.iol.unh.edu (Postfix) with ESMTP id C7AF86052471;
 Wed, 16 Oct 2024 21:39:34 -0400 (EDT)
Subject: |SUCCESS| pw145845 [PATCH] [v3] test: fix option devices
From: dpdklab@iol.unh.edu
To: Test Report <test-report@dpdk.org>
Cc: dpdk-test-reports@iol.unh.edu
In-Reply-To: <20241014100026.1517769-1-mingjinx.ye@intel.com>
References: <20241014100026.1517769-1-mingjinx.ye@intel.com>
Content-Type: text/plain
X-BeenThere: test-report@dpdk.org
X-Mailman-Version: 2.1.29
Precedence: list
List-Id: automatic DPDK test reports <test-report.dpdk.org>
List-Unsubscribe: <https://mails.dpdk.org/options/test-report>,
 <mailto:test-report-request@dpdk.org?subject=unsubscribe>
List-Archive: <http://mails.dpdk.org/archives/test-report/>
List-Post: <mailto:test-report@dpdk.org>
List-Help: <mailto:test-report-request@dpdk.org?subject=help>
List-Subscribe: <https://mails.dpdk.org/listinfo/test-report>,
 <mailto:test-report-request@dpdk.org?subject=subscribe>
Errors-To: test-report-bounces@dpdk.org

Test-Label: iol-sample-apps-testing
Test-Status: SUCCESS
http://dpdk.org/patch/145845

_Testing PASS_

Submitter: Mingjin Ye <mingjinx.ye@intel.com>
Date: Monday, October 14 2024 10:00:26 
DPDK git baseline: Repo:dpdk
  Branch: master
  CommitID:5f7b98189de733080656989d63b0e7ffd249830a

145845 --> testing pass

Upstream job id: ACVP-FIPS-testing#7339

Test environment and result as below:

+--------------------+----------------------+----------------------+
|    Environment     | compressdev_zlib_pmd | dpdk_fips_validation |
+====================+======================+======================+
| Ubuntu 22.04 (ARM) | PASS                 | SKIPPED              |
+--------------------+----------------------+----------------------+
| Ubuntu 22.04       | PASS                 | SKIPPED              |
+--------------------+----------------------+----------------------+
| Ubuntu 20.04       | SKIPPED              | PASS                 |
+--------------------+----------------------+----------------------+


Ubuntu 22.04 (ARM)
	Kernel: 5.15.0-97-generic
	Compiler: gcc gcc (Ubuntu 11.4.0-1ubuntu1~22.04) 11.4.0

Ubuntu 22.04
	Kernel: 5.15.0-100-generic
	Compiler: gcc gcc (Ubuntu 11.4.0-1ubuntu1~22.04) 11.4.0

Ubuntu 20.04
	Kernel: Depends on container host
	Compiler: gcc (Ubuntu 9.4.0-1ubuntu1~20.04.2) 9.4.0

To view detailed results, visit:
https://lab.dpdk.org/results/dashboard/patchsets/31465/

UNH-IOL DPDK Community Lab

To manage your email subscriptions, visit: 
https://lab.dpdk.org/results/dashboard/preferences/subscriptions/