From mboxrd@z Thu Jan  1 00:00:00 1970
Return-Path: <test-report-bounces@dpdk.org>
Received: from mails.dpdk.org (mails.dpdk.org [217.70.189.124])
	by inbox.dpdk.org (Postfix) with ESMTP id 2CCE445B53
	for <public@inbox.dpdk.org>; Thu, 17 Oct 2024 04:03:25 +0200 (CEST)
Received: from mails.dpdk.org (localhost [127.0.0.1])
	by mails.dpdk.org (Postfix) with ESMTP id 0531C4021F;
	Thu, 17 Oct 2024 04:03:25 +0200 (CEST)
Received: from mail-qv1-f100.google.com (mail-qv1-f100.google.com
 [209.85.219.100])
 by mails.dpdk.org (Postfix) with ESMTP id 5BD2840144
 for <test-report@dpdk.org>; Thu, 17 Oct 2024 04:03:24 +0200 (CEST)
Received: by mail-qv1-f100.google.com with SMTP id
 6a1803df08f44-6cbf0769512so2908256d6.3
 for <test-report@dpdk.org>; Wed, 16 Oct 2024 19:03:24 -0700 (PDT)
DKIM-Signature: v=1; a=rsa-sha256; c=relaxed/relaxed;
 d=iol.unh.edu; s=unh-iol; t=1729130604; x=1729735404; darn=dpdk.org;
 h=references:in-reply-to:cc:to:from:subject:message-id:date:from:to
 :cc:subject:date:message-id:reply-to;
 bh=fk3tYJo36zC6P6hFw18baoWQ7xwMPRF3cQtRJxvdbYw=;
 b=TKUXbX40psjJf6wEK5diytpkSfXSlxYI2ZZq52OFiO1yO/hqSKtg0k5sQaBr5aiQSo
 QeUfhDkOs48k744MghOjvEUBt1VAq/zudJWbTTdekQkhX8xb7z2OCtsdFMgg+3Y7lQrU
 QpabrX5EuyZ0ViKzA7UQ9NvHawK/nYKa/CX8Y=
X-Google-DKIM-Signature: v=1; a=rsa-sha256; c=relaxed/relaxed;
 d=1e100.net; s=20230601; t=1729130604; x=1729735404;
 h=references:in-reply-to:cc:to:from:subject:message-id:date
 :x-gm-message-state:from:to:cc:subject:date:message-id:reply-to;
 bh=fk3tYJo36zC6P6hFw18baoWQ7xwMPRF3cQtRJxvdbYw=;
 b=I4dCszHHSyShe0ykKwQ8qtASfPvfdqq5+VWZM7U4o41XzKctg2Wsh2yuKjbDqRMfmF
 7k+40Dj2EG+9/hEgGOhk3YsNzFMpXAztk3+wAQZ8wFZipXO4GvWsMdH9tvHlewoH6w5m
 RyjenycxOHSaTySJWgiht+N5Yg/401bHforhLFjceM+8W7jim0x8RBQljwkf//gfDwgo
 NEdQjEOOGsfQPex6I8G8E1SlD+A0DHzWDt3oAIw7MLvHWX7XLTicqJXpo5rlwgDVBdVB
 iIxHhxisScVdASA3qyI/LSH2ldjhNKeZF/3Q6mGdCs7wdX/fDxCvHaE77rhZp/wFu3a1
 kMYw==
X-Gm-Message-State: AOJu0YxLm1EmjrH5F0E77Dt9Hgumdzt/6S2zZRjvod9h93KnMS4Y+ay1
 IwV2ZIptx3+duY/x1o2KBviPiCoaX9Bomd6YRaDKtvMiGxc/Rty1rSUc5uUOUzmEFGT6tF5mtme
 oaXxeBjZb3TnBbUP45e6Ptd8V4dtgVljWYYUabrHjJX/mAmp2n0xWr/M9
X-Google-Smtp-Source: AGHT+IE1vmWuiar5nQsidsjgm7GXuqw/YllI368+iKaLWvwr6ioDOm+2z+5zCax4Vwja1hIVfjr/dNfHrX6E
X-Received: by 2002:a05:6214:3101:b0:6cb:f9aa:9726 with SMTP id
 6a1803df08f44-6cbf9aaa248mr237980666d6.11.1729130603691; 
 Wed, 16 Oct 2024 19:03:23 -0700 (PDT)
Received: from postal.iol.unh.edu (postal.iol.unh.edu.
 [2606:4100:3880:1234::84]) by smtp-relay.gmail.com with ESMTPS id
 6a1803df08f44-6cc22971d5asm1264626d6.48.2024.10.16.19.03.23
 (version=TLS1_2 cipher=ECDHE-ECDSA-AES128-GCM-SHA256 bits=128/128);
 Wed, 16 Oct 2024 19:03:23 -0700 (PDT)
X-Relaying-Domain: iol.unh.edu
Date: Wed, 16 Oct 2024 19:03:23 -0700 (PDT)
Message-ID: <6710706b.0c0a0220.1c2eea.871aSMTPIN_ADDED_MISSING@mx.google.com>
Received: from [172.17.0.4] (unknown [172.18.0.217])
 by postal.iol.unh.edu (Postfix) with ESMTP id 5EC456052471;
 Wed, 16 Oct 2024 22:03:23 -0400 (EDT)
Subject: |SUCCESS| pw146057-146076 [PATCH] [v10,12/12] crypto/zsda: add zsda 
From: dpdklab@iol.unh.edu
To: Test Report <test-report@dpdk.org>
Cc: dpdk-test-reports@iol.unh.edu
In-Reply-To: <20241016083856.1809965-10-li.hanxiao@zte.com.cn>
References: <20241016083856.1809965-10-li.hanxiao@zte.com.cn>
Content-Type: text/plain
X-BeenThere: test-report@dpdk.org
X-Mailman-Version: 2.1.29
Precedence: list
List-Id: automatic DPDK test reports <test-report.dpdk.org>
List-Unsubscribe: <https://mails.dpdk.org/options/test-report>,
 <mailto:test-report-request@dpdk.org?subject=unsubscribe>
List-Archive: <http://mails.dpdk.org/archives/test-report/>
List-Post: <mailto:test-report@dpdk.org>
List-Help: <mailto:test-report-request@dpdk.org?subject=help>
List-Subscribe: <https://mails.dpdk.org/listinfo/test-report>,
 <mailto:test-report-request@dpdk.org?subject=subscribe>
Errors-To: test-report-bounces@dpdk.org

Test-Label: iol-compile-amd64-testing
Test-Status: SUCCESS
http://dpdk.org/patch/146076

_Testing PASS_

Submitter: Hanxiao Li <li.hanxiao@zte.com.cn>
Date: Wednesday, October 16 2024 08:38:51 
DPDK git baseline: Repo:dpdk
  Branch: master
  CommitID:98613d32e3dac58d685f4f236cf8cc9733abaaf3

146057-146076 --> testing pass

Upstream job id: Windows-Compile-DPDK-Native#23157

Test environment and result as below:

+---------------------+----------------------+--------------------+-----------------------+
|     Environment     | dpdk_mingw64_compile | dpdk_meson_compile | dpdk_win_llvm_compile |
+=====================+======================+====================+=======================+
| Windows Server 2022 | PASS                 | SKIPPED            | PASS                  |
+---------------------+----------------------+--------------------+-----------------------+
| FreeBSD 13.4        | SKIPPED              | PASS               | SKIPPED               |
+---------------------+----------------------+--------------------+-----------------------+
| FreeBSD 14.1        | SKIPPED              | PASS               | SKIPPED               |
+---------------------+----------------------+--------------------+-----------------------+


Windows Server 2022
	Kernel: 10.0.20348.2031
	Compiler: clang 15.0.7, gcc 14.1.0 (MinGW), and MSVC VS 19.39.33521

FreeBSD 13.4
	Kernel: 13.4-RELEASE-p1
	Compiler: clang 18.1.6

FreeBSD 14.1
	Kernel: 14.1-RELEASE-p3
	Compiler: clang 18.1.5

To view detailed results, visit:
https://lab.dpdk.org/results/dashboard/patchsets/31510/

UNH-IOL DPDK Community Lab

To manage your email subscriptions, visit: 
https://lab.dpdk.org/results/dashboard/preferences/subscriptions/