From mboxrd@z Thu Jan  1 00:00:00 1970
Return-Path: <test-report-bounces@dpdk.org>
Received: from mails.dpdk.org (mails.dpdk.org [217.70.189.124])
	by inbox.dpdk.org (Postfix) with ESMTP id 2D8CB45B57
	for <public@inbox.dpdk.org>; Thu, 17 Oct 2024 06:30:57 +0200 (CEST)
Received: from mails.dpdk.org (localhost [127.0.0.1])
	by mails.dpdk.org (Postfix) with ESMTP id 22E8C4021F;
	Thu, 17 Oct 2024 06:30:57 +0200 (CEST)
Received: from mail-oi1-f226.google.com (mail-oi1-f226.google.com
 [209.85.167.226])
 by mails.dpdk.org (Postfix) with ESMTP id EA8A940144
 for <test-report@dpdk.org>; Thu, 17 Oct 2024 06:30:54 +0200 (CEST)
Received: by mail-oi1-f226.google.com with SMTP id
 5614622812f47-3e4d597d6f0so255360b6e.1
 for <test-report@dpdk.org>; Wed, 16 Oct 2024 21:30:54 -0700 (PDT)
DKIM-Signature: v=1; a=rsa-sha256; c=relaxed/relaxed;
 d=iol.unh.edu; s=unh-iol; t=1729139454; x=1729744254; darn=dpdk.org;
 h=cc:to:from:subject:message-id:date:from:to:cc:subject:date
 :message-id:reply-to;
 bh=a8eUzfK0UUR7WqHAiPuKmw6wWK6CDspalK3HtgPioDA=;
 b=bROQUe+ghYy7MzaQNprpF5o9Mokyto3EJzRn4P7AJKzv4rEk2+RP87C6t8tgXt+1ZE
 Jb8X2I4bz5i9aIBavEVWNwlWuMazORQCdqcWsf0moMG4zaQY27kOYOLSILvSImavLXJh
 8l7jg9PxZRjqRPR5Ehw5v5Flv283S+CSNED/E=
X-Google-DKIM-Signature: v=1; a=rsa-sha256; c=relaxed/relaxed;
 d=1e100.net; s=20230601; t=1729139454; x=1729744254;
 h=cc:to:from:subject:message-id:date:x-gm-message-state:from:to:cc
 :subject:date:message-id:reply-to;
 bh=a8eUzfK0UUR7WqHAiPuKmw6wWK6CDspalK3HtgPioDA=;
 b=n/3McShbC/ZjMt3u8eIEckRt9EsaUAjd95/mW5mmWrmHgB7LrRg42/Ab+MQeSW17WO
 XDu0dFgZmzUSmsBQjfTAcHvPiNYzeMhUsvjAKn0Twv1Vytf2YnlIaVSgS71f1Fbk57EK
 CPYxsIFCmw4qnSncOaMyJRqrqZH8DYso5sHfjwtBbazExue/ZxrqYtOOp15mHMLWlVX1
 9HRb3sIyWZP3IQ6jjUgAPJc5lgwaqJn43+wF0W0GQr2eUl3buKLH/pK3pMZHedPyKJNL
 Yds8r8bEZyJTtcqgeYusHCbTVqyrZd7LOR/PiCpVutiWynRVU78j+qQUnsXJ2ySI50bn
 Mgmw==
X-Gm-Message-State: AOJu0YxgbVp+vnKu3LdPmtKDsoUofjkO5UzqYMYAqfSgRsRjyGIRjWTZ
 l3QZf1lpfmppxvlMJiV4DqFh9BvBoPxBM9QNPpdI155qNitQ8s7Dj2FD5Yw5uQks+hZ28UDJ5Vs
 Vy+R5QCuIvE4akQypaHhKCcLbj5itXU8M
X-Google-Smtp-Source: AGHT+IEE8iG4cNeykM4STAHB5Ke8WWkBBEmYRLh188QA79/KwrLTlpyBX9jo0Uyx4k41i2gIk9ZyGTZSvU+S
X-Received: by 2002:a05:6808:219b:b0:3e2:7e65:89a4 with SMTP id
 5614622812f47-3e5f021b998mr6334190b6e.1.1729139453916; 
 Wed, 16 Oct 2024 21:30:53 -0700 (PDT)
Received: from postal.iol.unh.edu (postal.iol.unh.edu. [132.177.123.84])
 by smtp-relay.gmail.com with ESMTPS id
 46e09a7af769-717fb9f021fsm161720a34.5.2024.10.16.21.30.53
 (version=TLS1_2 cipher=ECDHE-ECDSA-AES128-GCM-SHA256 bits=128/128);
 Wed, 16 Oct 2024 21:30:53 -0700 (PDT)
X-Relaying-Domain: iol.unh.edu
Date: Wed, 16 Oct 2024 21:30:53 -0700 (PDT)
Message-ID: <671092fd.050a0220.143505.ab10SMTPIN_ADDED_MISSING@mx.google.com>
Received: from [172.21.0.2] (unknown [172.18.0.240])
 by postal.iol.unh.edu (Postfix) with ESMTP id 56C6A6052471;
 Thu, 17 Oct 2024 00:30:53 -0400 (EDT)
Subject: |SUCCESS| [GIT MASTER] e8eb14e00d56027bef8569d68cf00e39670edca2
From: dpdklab@iol.unh.edu
To: Test Report <test-report@dpdk.org>
Cc: dpdk-test-reports@iol.unh.edu, Xueming Li <xuemingl@nvidia.com>,
 Christian Ehrhardt <christian.ehrhardt@canonical.com>,
 Kevin Traynor <ktraynor@redhat.com>, Luca Boccassi <bluca@debian.org>
Content-Type: text/plain
X-BeenThere: test-report@dpdk.org
X-Mailman-Version: 2.1.29
Precedence: list
List-Id: automatic DPDK test reports <test-report.dpdk.org>
List-Unsubscribe: <https://mails.dpdk.org/options/test-report>,
 <mailto:test-report-request@dpdk.org?subject=unsubscribe>
List-Archive: <http://mails.dpdk.org/archives/test-report/>
List-Post: <mailto:test-report@dpdk.org>
List-Help: <mailto:test-report-request@dpdk.org?subject=help>
List-Subscribe: <https://mails.dpdk.org/listinfo/test-report>,
 <mailto:test-report-request@dpdk.org?subject=subscribe>
Errors-To: test-report-bounces@dpdk.org

_Testing PASS_

Branch: tags/v23.11

e8eb14e00d56027bef8569d68cf00e39670edca2 --> testing pass

Upstream job id: Windows-Compile-DPDK-VS#3503

Test environment and result as below:

+---------------------+--------------------+-----------------------+----------------------+------------------+-------------------+-------------------+
|     Environment     | dpdk_meson_compile | dpdk_win_llvm_compile | dpdk_mingw64_compile | dpdk_compile_ovs | dpdk_compile_spdk | dpdk_msvc_compile |
+=====================+====================+=======================+======================+==================+===================+===================+
| FreeBSD 13.4        | PASS               | SKIPPED               | SKIPPED              | SKIPPED          | SKIPPED           | SKIPPED           |
+---------------------+--------------------+-----------------------+----------------------+------------------+-------------------+-------------------+
| FreeBSD 14.1        | PASS               | SKIPPED               | SKIPPED              | SKIPPED          | SKIPPED           | SKIPPED           |
+---------------------+--------------------+-----------------------+----------------------+------------------+-------------------+-------------------+
| CentOS Stream 9     | PASS               | SKIPPED               | SKIPPED              | PASS             | PASS              | SKIPPED           |
+---------------------+--------------------+-----------------------+----------------------+------------------+-------------------+-------------------+
| Debian Bullseye     | PASS               | SKIPPED               | SKIPPED              | PASS             | PASS              | SKIPPED           |
+---------------------+--------------------+-----------------------+----------------------+------------------+-------------------+-------------------+
| Debian 12           | PASS               | SKIPPED               | SKIPPED              | PASS             | PASS              | SKIPPED           |
+---------------------+--------------------+-----------------------+----------------------+------------------+-------------------+-------------------+
| Fedora 37           | PASS               | SKIPPED               | SKIPPED              | PASS             | PASS              | SKIPPED           |
+---------------------+--------------------+-----------------------+----------------------+------------------+-------------------+-------------------+
| Fedora 38 (Clang)   | PASS               | SKIPPED               | SKIPPED              | PASS             | PASS              | SKIPPED           |
+---------------------+--------------------+-----------------------+----------------------+------------------+-------------------+-------------------+
| Fedora 38           | PASS               | SKIPPED               | SKIPPED              | PASS             | PASS              | SKIPPED           |
+---------------------+--------------------+-----------------------+----------------------+------------------+-------------------+-------------------+
| Fedora 39 (Clang)   | PASS               | SKIPPED               | SKIPPED              | PASS             | PASS              | SKIPPED           |
+---------------------+--------------------+-----------------------+----------------------+------------------+-------------------+-------------------+
| Fedora 39           | PASS               | SKIPPED               | SKIPPED              | PASS             | PASS              | SKIPPED           |
+---------------------+--------------------+-----------------------+----------------------+------------------+-------------------+-------------------+
| Fedora 40 (Clang)   | PASS               | SKIPPED               | SKIPPED              | PASS             | PASS              | SKIPPED           |
+---------------------+--------------------+-----------------------+----------------------+------------------+-------------------+-------------------+
| Fedora 40           | PASS               | SKIPPED               | SKIPPED              | PASS             | PASS              | SKIPPED           |
+---------------------+--------------------+-----------------------+----------------------+------------------+-------------------+-------------------+
| openSUSE Leap 15    | PASS               | SKIPPED               | SKIPPED              | PASS             | SKIPPED           | SKIPPED           |
+---------------------+--------------------+-----------------------+----------------------+------------------+-------------------+-------------------+
| RHEL8               | PASS               | SKIPPED               | SKIPPED              | PASS             | SKIPPED           | SKIPPED           |
+---------------------+--------------------+-----------------------+----------------------+------------------+-------------------+-------------------+
| RHEL9               | PASS               | SKIPPED               | SKIPPED              | PASS             | SKIPPED           | SKIPPED           |
+---------------------+--------------------+-----------------------+----------------------+------------------+-------------------+-------------------+
| Ubuntu 20.04        | PASS               | SKIPPED               | SKIPPED              | PASS             | SKIPPED           | SKIPPED           |
+---------------------+--------------------+-----------------------+----------------------+------------------+-------------------+-------------------+
| Ubuntu 22.04        | PASS               | SKIPPED               | SKIPPED              | PASS             | PASS              | SKIPPED           |
+---------------------+--------------------+-----------------------+----------------------+------------------+-------------------+-------------------+
| Ubuntu 24.04        | PASS               | SKIPPED               | SKIPPED              | PASS             | PASS              | SKIPPED           |
+---------------------+--------------------+-----------------------+----------------------+------------------+-------------------+-------------------+
| Alpine              | PASS               | SKIPPED               | SKIPPED              | PASS             | SKIPPED           | SKIPPED           |
+---------------------+--------------------+-----------------------+----------------------+------------------+-------------------+-------------------+
| Windows Server 2022 | SKIPPED            | PASS                  | PASS                 | SKIPPED          | SKIPPED           | PASS              |
+---------------------+--------------------+-----------------------+----------------------+------------------+-------------------+-------------------+


FreeBSD 13.4
	Kernel: 13.4-RELEASE-p1
	Compiler: clang 18.1.6

FreeBSD 14.1
	Kernel: 14.1-RELEASE-p3
	Compiler: clang 18.1.5

CentOS Stream 9
	Kernel: Depends on container host
	Compiler: gcc 11.4.1 20231218 (Red Hat 11.4.1-3)

Debian Bullseye
	Kernel: Depends on container host
	Compiler: gcc (Debian 10.2.1-6) 10.2.1 20210110

Debian 12
	Kernel: Depends on container host
	Compiler: gcc (Debian 12.2.0-14) 12.2.0

Fedora 37
	Kernel: Depends on container host system
	Compiler: gcc 12.3.1 20230508 (Red Hat 12.3.1-1)

Fedora 38 (Clang)
	Kernel: Depends on container host
	Compiler: clang 16.0.6 (Fedora 16.0.6-4.fc38)

Fedora 38
	Kernel: Depends on container host
	Compiler: gcc 13.2.1 20240316 (Red Hat 13.2.1-7)

Fedora 39 (Clang)
	Kernel: Depends on container host
	Compiler: clang 17.0.6 (Fedora 17.0.6-2.fc39)

Fedora 39
	Kernel: Depends on container host
	Compiler: gcc 13.3.1 20240522 (Red Hat 13.3.1-1)

Fedora 40 (Clang)
	Kernel: Depends on container host
	Compiler: clang 18.1.6 (Fedora 18.1.6-3.fc40)

Fedora 40
	Kernel: Depends on container host
	Compiler: gcc 14.2.1 20240801 (Red Hat 14.2.1-1)

openSUSE Leap 15
	Kernel: Depends on container host
	Compiler: gcc (SUSE Linux) 7.5.0

RHEL8
	Kernel: Depends on container host
	Compiler: gcc 8.5.0 20210514 (Red Hat 8.5.0-22)

RHEL9
	Kernel: Depends on container host
	Compiler: gcc 11.4.1 20231218 (Red Hat 11.4.1-3)

Ubuntu 20.04
	Kernel: Depends on container host
	Compiler: gcc (Ubuntu 9.4.0-1ubuntu1~20.04.2) 9.4.0

Ubuntu 22.04
	Kernel: Depends on container host
	Compiler: gcc (Ubuntu 11.4.0-1ubuntu1~22.04) 11.4.0

Ubuntu 24.04
	Kernel: Depends on container host
	Compiler: gcc (Ubuntu 13.2.0-23ubuntu4) 13.2.0

Alpine
	Kernel: Depends on container host
	Compiler: gcc (Alpine 13.2.1_git20240309) 13.2.1 20240309

Windows Server 2022
	Kernel: 10.0.20348.2031
	Compiler: clang 15.0.7, gcc 14.1.0 (MinGW), and MSVC VS 19.39.33521

To view detailed results, visit:
https://lab.dpdk.org/results/dashboard/tarballs/31068/

UNH-IOL DPDK Community Lab

To manage your email subscriptions, visit: 
https://lab.dpdk.org/results/dashboard/preferences/subscriptions/