From mboxrd@z Thu Jan  1 00:00:00 1970
Return-Path: <test-report-bounces@dpdk.org>
Received: from mails.dpdk.org (mails.dpdk.org [217.70.189.124])
	by inbox.dpdk.org (Postfix) with ESMTP id 3265745B5C
	for <public@inbox.dpdk.org>; Thu, 17 Oct 2024 11:09:26 +0200 (CEST)
Received: from mails.dpdk.org (localhost [127.0.0.1])
	by mails.dpdk.org (Postfix) with ESMTP id 0A05B40672;
	Thu, 17 Oct 2024 11:09:26 +0200 (CEST)
Received: from mail-yw1-f226.google.com (mail-yw1-f226.google.com
 [209.85.128.226])
 by mails.dpdk.org (Postfix) with ESMTP id F0C934066F
 for <test-report@dpdk.org>; Thu, 17 Oct 2024 11:09:24 +0200 (CEST)
Received: by mail-yw1-f226.google.com with SMTP id
 00721157ae682-6e35bf59cf6so18112287b3.0
 for <test-report@dpdk.org>; Thu, 17 Oct 2024 02:09:24 -0700 (PDT)
DKIM-Signature: v=1; a=rsa-sha256; c=relaxed/relaxed;
 d=iol.unh.edu; s=unh-iol; t=1729156164; x=1729760964; darn=dpdk.org;
 h=references:in-reply-to:cc:to:from:subject:message-id:date:from:to
 :cc:subject:date:message-id:reply-to;
 bh=YIimqY9m7dmy0VZp/eQdoGnMpTybHMpPnhYnPFwJA+0=;
 b=eohE4sI4QU1yd6XPab9WmQc2Noc2VwgivrpMnk/fdRNuYYTtuqgYNnEvpKAlUNx0Nu
 wmUyKx9tFQe72wDoSoWb8L9Wk148vqVJpUxsGWGt4NSqFpEgZ/Ug+yHLLdjkW5KqTW2g
 K2RnFSzwkU5vbd7h64PJpdnA635bUMBvmS5Yc=
X-Google-DKIM-Signature: v=1; a=rsa-sha256; c=relaxed/relaxed;
 d=1e100.net; s=20230601; t=1729156164; x=1729760964;
 h=references:in-reply-to:cc:to:from:subject:message-id:date
 :x-gm-message-state:from:to:cc:subject:date:message-id:reply-to;
 bh=YIimqY9m7dmy0VZp/eQdoGnMpTybHMpPnhYnPFwJA+0=;
 b=jNSbNiGf7dm+YcvU0dpsxRFaQ2256jnrnsuYyqE0e+L4EpdSRxXTvOXwiDcmMNseL2
 gtOk1zH9SxVwLGBlA3TYIICDX9D3LCTj+K8h31JFqmR5QO7QxOuAqExqCCDX45OLKEcv
 L6EDKq0L7CSjUvRYghdpEBknlIIl2cdvzZYBNiL89vYUmw2BvPwAklBuM80hMKg2kyLB
 6wBJ6Y2v7njMo1X08YvWrX2ZkdEEeWEIiA2fXtAdUTAE9KVVEzwFmzc7e0Z3i/P8hXBQ
 RTHvEyNIUwWJ8kxGI515qBbqKYD2JqTi3QZwlq6lHwGTDalElHB6LBj5HC111Um1i1Wq
 IEPQ==
X-Gm-Message-State: AOJu0YxyWA4s15yj7PXQ2uqgbjmOveq8r3SQK0+mSaseFKCLFxWi1aFz
 7iT5Jgy0GhLKv+t5EG87zXqE1QORkpIAoGgI/aH1bPfpVqVN0aXMlQYogNWzzwJcCTrGWA8oUn1
 7ZOzvMRmfcJkYx9hglOBvR7SSRooJZf/UuDwGgO4Q
X-Google-Smtp-Source: AGHT+IGaSgzVveoBEN+ToRpBlmFRzdrDRSDtQTX4vM/8PB+9x/un0FhfRXeaM1NRvj2TOmG0RRJJ2wWpleUN
X-Received: by 2002:a05:690c:7308:b0:6e3:2b0b:104f with SMTP id
 00721157ae682-6e5a3d5afa3mr20980687b3.9.1729156164319; 
 Thu, 17 Oct 2024 02:09:24 -0700 (PDT)
Received: from postal.iol.unh.edu (postal.iol.unh.edu. [132.177.123.84])
 by smtp-relay.gmail.com with ESMTPS id
 00721157ae682-6e3c5a15dacsm3559637b3.12.2024.10.17.02.09.24
 (version=TLS1_2 cipher=ECDHE-ECDSA-AES128-GCM-SHA256 bits=128/128);
 Thu, 17 Oct 2024 02:09:24 -0700 (PDT)
X-Relaying-Domain: iol.unh.edu
Date: Thu, 17 Oct 2024 02:09:24 -0700 (PDT)
Message-ID: <6710d444.810a0220.38c93.82faSMTPIN_ADDED_MISSING@mx.google.com>
Received: from [172.21.0.2] (unknown [172.18.0.240])
 by postal.iol.unh.edu (Postfix) with ESMTP id EEC2D6052471;
 Thu, 17 Oct 2024 05:09:23 -0400 (EDT)
Subject: |SUCCESS| pw146058-146064 [PATCH] [V1,7/7] mlx5: add backward compat
From: dpdklab@iol.unh.edu
To: Test Report <test-report@dpdk.org>
Cc: dpdk-test-reports@iol.unh.edu
In-Reply-To: <20241016083818.662020-8-gavinl@nvidia.com>
References: <20241016083818.662020-8-gavinl@nvidia.com>
Content-Type: text/plain
X-BeenThere: test-report@dpdk.org
X-Mailman-Version: 2.1.29
Precedence: list
List-Id: automatic DPDK test reports <test-report.dpdk.org>
List-Unsubscribe: <https://mails.dpdk.org/options/test-report>,
 <mailto:test-report-request@dpdk.org?subject=unsubscribe>
List-Archive: <http://mails.dpdk.org/archives/test-report/>
List-Post: <mailto:test-report@dpdk.org>
List-Help: <mailto:test-report-request@dpdk.org?subject=help>
List-Subscribe: <https://mails.dpdk.org/listinfo/test-report>,
 <mailto:test-report-request@dpdk.org?subject=subscribe>
Errors-To: test-report-bounces@dpdk.org

Test-Label: iol-compile-amd64-testing
Test-Status: SUCCESS
http://dpdk.org/patch/146064

_Testing PASS_

Submitter: Minggang Li(Gavin) <gavinl@nvidia.com>
Date: Wednesday, October 16 2024 08:38:18 
DPDK git baseline: Repo:dpdk
  Branch: master
  CommitID:9c935343d8c7397198f2fb72500cc9db120c8d8d

146058-146064 --> testing pass

Upstream job id: Generic-DPDK-Compile-Meson#317467

Test environment and result as below:

+---------------------+--------------------+----------------------+-----------------------+-------------------+------------------+-------------------+
|     Environment     | dpdk_meson_compile | dpdk_mingw64_compile | dpdk_win_llvm_compile | dpdk_msvc_compile | dpdk_compile_ovs | dpdk_compile_spdk |
+=====================+====================+======================+=======================+===================+==================+===================+
| FreeBSD 13.4        | PASS               | SKIPPED              | SKIPPED               | SKIPPED           | SKIPPED          | SKIPPED           |
+---------------------+--------------------+----------------------+-----------------------+-------------------+------------------+-------------------+
| FreeBSD 14.1        | PASS               | SKIPPED              | SKIPPED               | SKIPPED           | SKIPPED          | SKIPPED           |
+---------------------+--------------------+----------------------+-----------------------+-------------------+------------------+-------------------+
| CentOS Stream 9     | PASS               | SKIPPED              | SKIPPED               | SKIPPED           | PASS             | PASS              |
+---------------------+--------------------+----------------------+-----------------------+-------------------+------------------+-------------------+
| Debian Bullseye     | PASS               | SKIPPED              | SKIPPED               | SKIPPED           | PASS             | PASS              |
+---------------------+--------------------+----------------------+-----------------------+-------------------+------------------+-------------------+
| Debian 12           | PASS               | SKIPPED              | SKIPPED               | SKIPPED           | PASS             | PASS              |
+---------------------+--------------------+----------------------+-----------------------+-------------------+------------------+-------------------+
| Fedora 37           | PASS               | SKIPPED              | SKIPPED               | SKIPPED           | PASS             | PASS              |
+---------------------+--------------------+----------------------+-----------------------+-------------------+------------------+-------------------+
| Fedora 38 (Clang)   | PASS               | SKIPPED              | SKIPPED               | SKIPPED           | PASS             | PASS              |
+---------------------+--------------------+----------------------+-----------------------+-------------------+------------------+-------------------+
| Fedora 38           | PASS               | SKIPPED              | SKIPPED               | SKIPPED           | PASS             | PASS              |
+---------------------+--------------------+----------------------+-----------------------+-------------------+------------------+-------------------+
| Fedora 39 (Clang)   | PASS               | SKIPPED              | SKIPPED               | SKIPPED           | PASS             | PASS              |
+---------------------+--------------------+----------------------+-----------------------+-------------------+------------------+-------------------+
| Fedora 39           | PASS               | SKIPPED              | SKIPPED               | SKIPPED           | PASS             | PASS              |
+---------------------+--------------------+----------------------+-----------------------+-------------------+------------------+-------------------+
| Fedora 40 (Clang)   | PASS               | SKIPPED              | SKIPPED               | SKIPPED           | PASS             | PASS              |
+---------------------+--------------------+----------------------+-----------------------+-------------------+------------------+-------------------+
| Fedora 40           | PASS               | SKIPPED              | SKIPPED               | SKIPPED           | PASS             | PASS              |
+---------------------+--------------------+----------------------+-----------------------+-------------------+------------------+-------------------+
| openSUSE Leap 15    | PASS               | SKIPPED              | SKIPPED               | SKIPPED           | PASS             | SKIPPED           |
+---------------------+--------------------+----------------------+-----------------------+-------------------+------------------+-------------------+
| RHEL8               | PASS               | SKIPPED              | SKIPPED               | SKIPPED           | PASS             | SKIPPED           |
+---------------------+--------------------+----------------------+-----------------------+-------------------+------------------+-------------------+
| RHEL9               | PASS               | SKIPPED              | SKIPPED               | SKIPPED           | PASS             | SKIPPED           |
+---------------------+--------------------+----------------------+-----------------------+-------------------+------------------+-------------------+
| Ubuntu 20.04        | PASS               | SKIPPED              | SKIPPED               | SKIPPED           | PASS             | SKIPPED           |
+---------------------+--------------------+----------------------+-----------------------+-------------------+------------------+-------------------+
| Ubuntu 22.04        | PASS               | SKIPPED              | SKIPPED               | SKIPPED           | PASS             | PASS              |
+---------------------+--------------------+----------------------+-----------------------+-------------------+------------------+-------------------+
| Alpine              | PASS               | SKIPPED              | SKIPPED               | SKIPPED           | PASS             | SKIPPED           |
+---------------------+--------------------+----------------------+-----------------------+-------------------+------------------+-------------------+
| Windows Server 2022 | SKIPPED            | PASS                 | PASS                  | PASS              | SKIPPED          | SKIPPED           |
+---------------------+--------------------+----------------------+-----------------------+-------------------+------------------+-------------------+


FreeBSD 13.4
	Kernel: 13.4-RELEASE-p1
	Compiler: clang 18.1.6

FreeBSD 14.1
	Kernel: 14.1-RELEASE-p3
	Compiler: clang 18.1.5

CentOS Stream 9
	Kernel: Depends on container host
	Compiler: gcc 11.4.1 20231218 (Red Hat 11.4.1-3)

Debian Bullseye
	Kernel: Depends on container host
	Compiler: gcc (Debian 10.2.1-6) 10.2.1 20210110

Debian 12
	Kernel: Depends on container host
	Compiler: gcc (Debian 12.2.0-14) 12.2.0

Fedora 37
	Kernel: Depends on container host system
	Compiler: gcc 12.3.1 20230508 (Red Hat 12.3.1-1)

Fedora 38 (Clang)
	Kernel: Depends on container host
	Compiler: clang 16.0.6 (Fedora 16.0.6-4.fc38)

Fedora 38
	Kernel: Depends on container host
	Compiler: gcc 13.2.1 20240316 (Red Hat 13.2.1-7)

Fedora 39 (Clang)
	Kernel: Depends on container host
	Compiler: clang 17.0.6 (Fedora 17.0.6-2.fc39)

Fedora 39
	Kernel: Depends on container host
	Compiler: gcc 13.3.1 20240522 (Red Hat 13.3.1-1)

Fedora 40 (Clang)
	Kernel: Depends on container host
	Compiler: clang 18.1.6 (Fedora 18.1.6-3.fc40)

Fedora 40
	Kernel: Depends on container host
	Compiler: gcc 14.2.1 20240801 (Red Hat 14.2.1-1)

openSUSE Leap 15
	Kernel: Depends on container host
	Compiler: gcc (SUSE Linux) 7.5.0

RHEL8
	Kernel: Depends on container host
	Compiler: gcc 8.5.0 20210514 (Red Hat 8.5.0-22)

RHEL9
	Kernel: Depends on container host
	Compiler: gcc 11.4.1 20231218 (Red Hat 11.4.1-3)

Ubuntu 20.04
	Kernel: Depends on container host
	Compiler: gcc (Ubuntu 9.4.0-1ubuntu1~20.04.2) 9.4.0

Ubuntu 22.04
	Kernel: Depends on container host
	Compiler: gcc (Ubuntu 11.4.0-1ubuntu1~22.04) 11.4.0

Alpine
	Kernel: Depends on container host
	Compiler: gcc (Alpine 13.2.1_git20240309) 13.2.1 20240309

Windows Server 2022
	Kernel: 10.0.20348.2031
	Compiler: clang 15.0.7, gcc 14.1.0 (MinGW), and MSVC VS 19.39.33521

To view detailed results, visit:
https://lab.dpdk.org/results/dashboard/patchsets/31511/

UNH-IOL DPDK Community Lab

To manage your email subscriptions, visit: 
https://lab.dpdk.org/results/dashboard/preferences/subscriptions/