From mboxrd@z Thu Jan  1 00:00:00 1970
Return-Path: <test-report-bounces@dpdk.org>
Received: from mails.dpdk.org (mails.dpdk.org [217.70.189.124])
	by inbox.dpdk.org (Postfix) with ESMTP id 904C945B5E
	for <public@inbox.dpdk.org>; Thu, 17 Oct 2024 15:13:50 +0200 (CEST)
Received: from mails.dpdk.org (localhost [127.0.0.1])
	by mails.dpdk.org (Postfix) with ESMTP id 62B354025F;
	Thu, 17 Oct 2024 15:13:50 +0200 (CEST)
Received: from mail-qt1-f226.google.com (mail-qt1-f226.google.com
 [209.85.160.226])
 by mails.dpdk.org (Postfix) with ESMTP id 8CD4D4021E
 for <test-report@dpdk.org>; Thu, 17 Oct 2024 15:13:49 +0200 (CEST)
Received: by mail-qt1-f226.google.com with SMTP id
 d75a77b69052e-4609967ab7eso7538881cf.3
 for <test-report@dpdk.org>; Thu, 17 Oct 2024 06:13:49 -0700 (PDT)
DKIM-Signature: v=1; a=rsa-sha256; c=relaxed/relaxed;
 d=iol.unh.edu; s=unh-iol; t=1729170829; x=1729775629; darn=dpdk.org;
 h=references:in-reply-to:cc:to:from:subject:message-id:date:from:to
 :cc:subject:date:message-id:reply-to;
 bh=V8vi9mMo75B1VOHRO92quyItmeh3upogSbwDYRF/zOk=;
 b=doddDmQ/8BxpFpt7DhTJxFjqTLLGt9MtTPvA+c1X0JqEyw8DUOR93BQGqmwglRbeJT
 MKzEI91tP3i18t0vNQdYKImEvN/iL7EHIMDmFL0KTjxVFUoPcU+9qcaWixNUkEjjVa/u
 jVQzI995KxMgafmInDikNuIe4hn9CyvpCz57s=
X-Google-DKIM-Signature: v=1; a=rsa-sha256; c=relaxed/relaxed;
 d=1e100.net; s=20230601; t=1729170829; x=1729775629;
 h=references:in-reply-to:cc:to:from:subject:message-id:date
 :x-gm-message-state:from:to:cc:subject:date:message-id:reply-to;
 bh=V8vi9mMo75B1VOHRO92quyItmeh3upogSbwDYRF/zOk=;
 b=rY1+EaRqxr2dQEXewAiKlwssYZPI8HgyF2w8KPJXIgBQ3XuxZh47XvmLa20R5TsDoP
 ja8yA6vDKcLcJWCDuDu8qo3YoRGV66dnUv/6bv2mCjIr//6a/zN/Lrpo+f2V0g4RjAyw
 Pv/RObPI5J5glWKdpLrmgp5tojbChiYMgg3rirVeZeERIYVnPZ0Kb0V0q22iz5cnRc0q
 hVpsgOc3+fCyhoNRNZ8FYIxDda/7p4arTbEE9SWWGfo7waGtM6AgUjyL6IGUDj3b2ikX
 ZYQw1YG/hpNU0xyQ7BnLXeX16W5OAwQndV9txGu1eOQEo8INR/S6J/Ukr3rHnPMtbG62
 hfKA==
X-Gm-Message-State: AOJu0YyACehxCeOYNzhM4DT/gTsxe7hhkuaawmYdSOWimP7X/DN+L8e3
 1XlQ2bgkJ+QZAEFupTSEX0KdpyRMsavCky7ARwLjhAWSLbE7eAHxbFy+cdAv3eh29+rhbDzfmaI
 P4pPvJubSkrO9FZCXDKdxlOwwqxipaNH1RqUDXmmPvv8/2v2aslBw6Tlg
X-Google-Smtp-Source: AGHT+IGuxHQVbC/TTYhXjAE/zuINAseckxs8MPoE+BfGhrGT7B21oPhF5oxxuGxXjZQGT9dTM85FFKq8ACUM
X-Received: by 2002:a05:6214:54c6:b0:6cb:bd0f:2d8b with SMTP id
 6a1803df08f44-6cc2b9734d9mr78996676d6.51.1729170828814; 
 Thu, 17 Oct 2024 06:13:48 -0700 (PDT)
Received: from postal.iol.unh.edu (postal.iol.unh.edu.
 [2606:4100:3880:1234::84]) by smtp-relay.gmail.com with ESMTPS id
 6a1803df08f44-6cc22930662sm1576706d6.17.2024.10.17.06.13.48
 (version=TLS1_2 cipher=ECDHE-ECDSA-AES128-GCM-SHA256 bits=128/128);
 Thu, 17 Oct 2024 06:13:48 -0700 (PDT)
X-Relaying-Domain: iol.unh.edu
Date: Thu, 17 Oct 2024 06:13:48 -0700 (PDT)
Message-ID: <67110d8c.0c0a0220.52a56.a68dSMTPIN_ADDED_MISSING@mx.google.com>
Received: from [172.17.0.3] (unknown [172.18.0.217])
 by postal.iol.unh.edu (Postfix) with ESMTP id 7B13E6052471;
 Thu, 17 Oct 2024 09:13:48 -0400 (EDT)
Subject: |SUCCESS| pw146058-146064 [PATCH] [V1,7/7] mlx5: add backward compat
From: dpdklab@iol.unh.edu
To: Test Report <test-report@dpdk.org>
Cc: dpdk-test-reports@iol.unh.edu
In-Reply-To: <20241016083818.662020-8-gavinl@nvidia.com>
References: <20241016083818.662020-8-gavinl@nvidia.com>
Content-Type: text/plain
X-BeenThere: test-report@dpdk.org
X-Mailman-Version: 2.1.29
Precedence: list
List-Id: automatic DPDK test reports <test-report.dpdk.org>
List-Unsubscribe: <https://mails.dpdk.org/options/test-report>,
 <mailto:test-report-request@dpdk.org?subject=unsubscribe>
List-Archive: <http://mails.dpdk.org/archives/test-report/>
List-Post: <mailto:test-report@dpdk.org>
List-Help: <mailto:test-report-request@dpdk.org?subject=help>
List-Subscribe: <https://mails.dpdk.org/listinfo/test-report>,
 <mailto:test-report-request@dpdk.org?subject=subscribe>
Errors-To: test-report-bounces@dpdk.org

Test-Label: iol-compile-arm64-testing
Test-Status: SUCCESS
http://dpdk.org/patch/146064

_Testing PASS_

Submitter: Minggang Li(Gavin) <gavinl@nvidia.com>
Date: Wednesday, October 16 2024 08:38:18 
DPDK git baseline: Repo:dpdk
  Branch: master
  CommitID:9c935343d8c7397198f2fb72500cc9db120c8d8d

146058-146064 --> testing pass

Upstream job id: Generic-DPDK-Compile-Meson#317481

Test environment and result as below:

+----------------------------------------+--------------------+
|              Environment               | dpdk_meson_compile |
+========================================+====================+
| RHEL9 (ARM)                            | PASS               |
+----------------------------------------+--------------------+
| Ubuntu 20.04 ARM SVE                   | PASS               |
+----------------------------------------+--------------------+
| Debian 12 with MUSDK                   | PASS               |
+----------------------------------------+--------------------+
| Fedora 38 (ARM Clang)                  | PASS               |
+----------------------------------------+--------------------+
| Fedora 39 (ARM)                        | PASS               |
+----------------------------------------+--------------------+
| Fedora 39 (ARM Clang)                  | PASS               |
+----------------------------------------+--------------------+
| Fedora 40 (ARM)                        | PASS               |
+----------------------------------------+--------------------+
| Fedora 40 (ARM Clang)                  | PASS               |
+----------------------------------------+--------------------+
| CentOS Stream 9 (ARM)                  | PASS               |
+----------------------------------------+--------------------+
| Debian 11 (Buster) (ARM)               | PASS               |
+----------------------------------------+--------------------+
| Ubuntu 20.04 ARM Clang Cross Compile   | PASS               |
+----------------------------------------+--------------------+
| Ubuntu 20.04 aarch32 GCC Cross Compile | PASS               |
+----------------------------------------+--------------------+
| Fedora 37 (ARM)                        | PASS               |
+----------------------------------------+--------------------+
| Ubuntu 20.04 (ARM)                     | PASS               |
+----------------------------------------+--------------------+
| Ubuntu 20.04 ARM GCC Cross Compile     | PASS               |
+----------------------------------------+--------------------+
| Fedora 38 (ARM)                        | PASS               |
+----------------------------------------+--------------------+
| Ubuntu 22.04 (ARM)                     | PASS               |
+----------------------------------------+--------------------+
| Debian 12 (arm)                        | PASS               |
+----------------------------------------+--------------------+
| Ubuntu 24.04 (ARM)                     | PASS               |
+----------------------------------------+--------------------+


RHEL9 (ARM)
	Kernel: Depends on container host
	Compiler: gcc 11.4.1 20231218 (Red Hat 11.4.1-3)

Ubuntu 20.04 ARM SVE
	Kernel: Depends on container host
	Compiler: gcc (Ubuntu 10.5.0-1ubuntu1~20.04) 10.5.0

Debian 12 with MUSDK
	Kernel: Depends on container host
	Compiler: gcc (Debian 12.2.0-14) 12.2.0

Fedora 38 (ARM Clang)
	Kernel: Depends on container host
	Compiler: clang 16.0.6 (Fedora 16.0.6-4.fc38)

Fedora 39 (ARM)
	Kernel: Depends on container host
	Compiler: gcc 13.3.1 20240522 (Red Hat 13.3.1-1)

Fedora 39 (ARM Clang)
	Kernel: Depends on container host
	Compiler: clang 17.0.6 (Fedora 17.0.6-2.fc39)

Fedora 40 (ARM)
	Kernel: Depends on container host
	Compiler: gcc 14.2.1 20240801 (Red Hat 14.2.1-1)

Fedora 40 (ARM Clang)
	Kernel: Depends on container host
	Compiler: clang 18.1.6 (Fedora 18.1.6-3.fc40)

CentOS Stream 9 (ARM)
	Kernel: Depends on container host
	Compiler: gcc 11.4.1 20231218 (Red Hat 11.4.1-3)

Debian 11 (Buster) (ARM)
	Kernel: Depends on container host
	Compiler: gcc (Debian 10.2.1-6) 10.2.1 20210110

Ubuntu 20.04 ARM Clang Cross Compile
	Kernel: Depends on container host
	Compiler: clang 10.0.0-4ubuntu1

Ubuntu 20.04 aarch32 GCC Cross Compile
	Kernel: Depends on container host
	Compiler: gcc 9.4.0

Fedora 37 (ARM)
	Kernel: Depends on container host
	Compiler: gcc 12.3.1 20230508 (Red Hat 12.3.1-1)

Ubuntu 20.04 (ARM)
	Kernel: Depends on container host
	Compiler: gcc (Ubuntu 9.4.0-1ubuntu1~20.04.2) 9.4.0

Ubuntu 20.04 ARM GCC Cross Compile
	Kernel: Depends on container host
	Compiler: aarch64-linux-gnu-gcc (Ubuntu 9.4.0-1ubuntu1~20.04.2) 9.4.0

Fedora 38 (ARM)
	Kernel: Depends on container host
	Compiler: gcc 13.2.1 20240316 (Red Hat 13.2.1-7)

Ubuntu 22.04 (ARM)
	Kernel: Depends on container host
	Compiler: gcc (Ubuntu 11.4.0-1ubuntu1~22.04) 11.4.0

Debian 12 (arm)
	Kernel: Depends on container host
	Compiler: gcc (Debian 12.2.0-14) 12.2.0

Ubuntu 24.04 (ARM)
	Kernel: Depends on container host
	Compiler: gcc (Ubuntu 13.2.0-23ubuntu4) 13.2.0

To view detailed results, visit:
https://lab.dpdk.org/results/dashboard/patchsets/31511/

UNH-IOL DPDK Community Lab

To manage your email subscriptions, visit: 
https://lab.dpdk.org/results/dashboard/preferences/subscriptions/