From mboxrd@z Thu Jan  1 00:00:00 1970
Return-Path: <test-report-bounces@dpdk.org>
Received: from mails.dpdk.org (mails.dpdk.org [217.70.189.124])
	by inbox.dpdk.org (Postfix) with ESMTP id 72E4C45B61
	for <public@inbox.dpdk.org>; Thu, 17 Oct 2024 22:56:09 +0200 (CEST)
Received: from mails.dpdk.org (localhost [127.0.0.1])
	by mails.dpdk.org (Postfix) with ESMTP id 69BC94028F;
	Thu, 17 Oct 2024 22:56:09 +0200 (CEST)
Received: from mail-oa1-f100.google.com (mail-oa1-f100.google.com
 [209.85.160.100])
 by mails.dpdk.org (Postfix) with ESMTP id 02BD640267
 for <test-report@dpdk.org>; Thu, 17 Oct 2024 22:56:08 +0200 (CEST)
Received: by mail-oa1-f100.google.com with SMTP id
 586e51a60fabf-260e6298635so1050638fac.1
 for <test-report@dpdk.org>; Thu, 17 Oct 2024 13:56:07 -0700 (PDT)
DKIM-Signature: v=1; a=rsa-sha256; c=relaxed/relaxed;
 d=iol.unh.edu; s=unh-iol; t=1729198567; x=1729803367; darn=dpdk.org;
 h=references:in-reply-to:cc:to:from:subject:message-id:date:from:to
 :cc:subject:date:message-id:reply-to;
 bh=IAZ/ZsXIIxqgtIMBPg4+4jPELfmhYe1UrlGMDYVsCAU=;
 b=exsSDpoZ72zA9cGuZyK0B967G7p7jLCRb0lEawjYBQBnSBQzPX450OoViGRqc+B9TG
 q2CowD20XYtKzfVmIH9Pij4NUNDKFvXoylvxE3V4MusQpltJQ9SSl7i9hYlt34h+JxKy
 eLZiU+vf7S5OJo0mbC7tzVl2j9TeF+0V5fQ9w=
X-Google-DKIM-Signature: v=1; a=rsa-sha256; c=relaxed/relaxed;
 d=1e100.net; s=20230601; t=1729198567; x=1729803367;
 h=references:in-reply-to:cc:to:from:subject:message-id:date
 :x-gm-message-state:from:to:cc:subject:date:message-id:reply-to;
 bh=IAZ/ZsXIIxqgtIMBPg4+4jPELfmhYe1UrlGMDYVsCAU=;
 b=fp93vPunmQZ06V3UYL5pgmgpK80HBbzy23lUXft9sw9+QNs6bgEFUedLbg687ZI/Hi
 I/7bj/Kcqkv199pxj8rUutgIXzKLbkM2OhvGK7XooJkgWjdLMNwvfNr/krhuxQ7STNpJ
 XooPMWG6GemsRHKMpnzh++A8m7ab2cXXna9+sJQA8N3RSAesd6p/RXTSFGfZRLOrpyGy
 UIAN+Y+lGyTOG3Errzk6bVd1V+nKVikdFxefqwNBep20evuH+mfD1RZecilPQmJbDKhq
 cIbqQClrPGSQU8l4Jug2EBi67qkIKMqfv0RAp+7QIfd4Y/QAaxkQHL7LUONVKK5EAoUD
 ExjA==
X-Gm-Message-State: AOJu0YyaaVkPO+9jCgf1DNTv66zL/aO+AExdZd9XgrA47/KbCioWnKSS
 Et6eDwtnY/QcJpcpo8BZ1YaIn2eHBJesX0WI51cYAa1P9aGVhaovJU+1aLnoWbPLhpjIiHtkLxq
 hhcquJDWBIPR9cQ+D2LhkFKtXZi/DTkNIBmBcSRiN
X-Google-Smtp-Source: AGHT+IH9YS8pQfEs+cbLxQGnGn3T7By9vEd+1nrCfnRgBavxLM4dGmJis7bI2EkLm0Z3KGG4g8WT3+xOg70J
X-Received: by 2002:a05:6870:912b:b0:260:ffc8:6d9f with SMTP id
 586e51a60fabf-2892d693966mr15440fac.19.1729198567085; 
 Thu, 17 Oct 2024 13:56:07 -0700 (PDT)
Received: from postal.iol.unh.edu (postal.iol.unh.edu. [132.177.123.84])
 by smtp-relay.gmail.com with ESMTPS id
 586e51a60fabf-2892afdcea8sm11053fac.36.2024.10.17.13.56.06
 (version=TLS1_2 cipher=ECDHE-ECDSA-AES128-GCM-SHA256 bits=128/128);
 Thu, 17 Oct 2024 13:56:07 -0700 (PDT)
X-Relaying-Domain: iol.unh.edu
Date: Thu, 17 Oct 2024 13:56:07 -0700 (PDT)
Message-ID: <671179e7.050a0220.293ad.0aa1SMTPIN_ADDED_MISSING@mx.google.com>
Received: from [172.21.0.4] (unknown [172.18.0.240])
 by postal.iol.unh.edu (Postfix) with ESMTP id 8C1806052471;
 Thu, 17 Oct 2024 16:56:06 -0400 (EDT)
Subject: |SUCCESS| pw146088-146089 [PATCH] [2/2] devtools: forbid the use of 
From: dpdklab@iol.unh.edu
To: Test Report <test-report@dpdk.org>
Cc: dpdk-test-reports@iol.unh.edu
In-Reply-To: <20241016135411.827850-2-mattias.ronnblom@ericsson.com>
References: <20241016135411.827850-2-mattias.ronnblom@ericsson.com>
Content-Type: text/plain
X-BeenThere: test-report@dpdk.org
X-Mailman-Version: 2.1.29
Precedence: list
List-Id: automatic DPDK test reports <test-report.dpdk.org>
List-Unsubscribe: <https://mails.dpdk.org/options/test-report>,
 <mailto:test-report-request@dpdk.org?subject=unsubscribe>
List-Archive: <http://mails.dpdk.org/archives/test-report/>
List-Post: <mailto:test-report@dpdk.org>
List-Help: <mailto:test-report-request@dpdk.org?subject=help>
List-Subscribe: <https://mails.dpdk.org/listinfo/test-report>,
 <mailto:test-report-request@dpdk.org?subject=subscribe>
Errors-To: test-report-bounces@dpdk.org

Test-Label: iol-compile-arm64-testing
Test-Status: SUCCESS
http://dpdk.org/patch/146089

_Testing PASS_

Submitter: Mattias Ronnblom <mattias.ronnblom@ericsson.com>
Date: Wednesday, October 16 2024 13:54:11 
DPDK git baseline: Repo:dpdk
  Branch: master
  CommitID:7594cafa92189fd5bad87a5caa6b7a92bbab0979

146088-146089 --> testing pass

Upstream job id: Generic-DPDK-Compile-Meson#317700

Test environment and result as below:

+----------------------------------------+--------------------+
|              Environment               | dpdk_meson_compile |
+========================================+====================+
| RHEL9 (ARM)                            | PASS               |
+----------------------------------------+--------------------+
| Ubuntu 20.04 ARM GCC Cross Compile     | PASS               |
+----------------------------------------+--------------------+
| Ubuntu 20.04 ARM SVE                   | PASS               |
+----------------------------------------+--------------------+
| Fedora 37 (ARM)                        | PASS               |
+----------------------------------------+--------------------+
| Debian 12 with MUSDK                   | PASS               |
+----------------------------------------+--------------------+
| Fedora 38 (ARM)                        | PASS               |
+----------------------------------------+--------------------+
| Fedora 38 (ARM Clang)                  | PASS               |
+----------------------------------------+--------------------+
| Fedora 39 (ARM)                        | PASS               |
+----------------------------------------+--------------------+
| Fedora 39 (ARM Clang)                  | PASS               |
+----------------------------------------+--------------------+
| Fedora 40 (ARM)                        | PASS               |
+----------------------------------------+--------------------+
| Fedora 40 (ARM Clang)                  | PASS               |
+----------------------------------------+--------------------+
| Ubuntu 20.04 (ARM)                     | PASS               |
+----------------------------------------+--------------------+
| Ubuntu 22.04 (ARM)                     | PASS               |
+----------------------------------------+--------------------+
| Ubuntu 24.04 (ARM)                     | PASS               |
+----------------------------------------+--------------------+
| CentOS Stream 9 (ARM)                  | PASS               |
+----------------------------------------+--------------------+
| Debian 11 (Buster) (ARM)               | PASS               |
+----------------------------------------+--------------------+
| Debian 12 (arm)                        | PASS               |
+----------------------------------------+--------------------+
| Ubuntu 20.04 ARM Clang Cross Compile   | PASS               |
+----------------------------------------+--------------------+
| Ubuntu 20.04 aarch32 GCC Cross Compile | PASS               |
+----------------------------------------+--------------------+


RHEL9 (ARM)
	Kernel: Depends on container host
	Compiler: gcc 11.4.1 20231218 (Red Hat 11.4.1-3)

Ubuntu 20.04 ARM GCC Cross Compile
	Kernel: Depends on container host
	Compiler: aarch64-linux-gnu-gcc (Ubuntu 9.4.0-1ubuntu1~20.04.2) 9.4.0

Ubuntu 20.04 ARM SVE
	Kernel: Depends on container host
	Compiler: gcc (Ubuntu 10.5.0-1ubuntu1~20.04) 10.5.0

Fedora 37 (ARM)
	Kernel: Depends on container host
	Compiler: gcc 12.3.1 20230508 (Red Hat 12.3.1-1)

Debian 12 with MUSDK
	Kernel: Depends on container host
	Compiler: gcc (Debian 12.2.0-14) 12.2.0

Fedora 38 (ARM)
	Kernel: Depends on container host
	Compiler: gcc 13.2.1 20240316 (Red Hat 13.2.1-7)

Fedora 38 (ARM Clang)
	Kernel: Depends on container host
	Compiler: clang 16.0.6 (Fedora 16.0.6-4.fc38)

Fedora 39 (ARM)
	Kernel: Depends on container host
	Compiler: gcc 13.3.1 20240522 (Red Hat 13.3.1-1)

Fedora 39 (ARM Clang)
	Kernel: Depends on container host
	Compiler: clang 17.0.6 (Fedora 17.0.6-2.fc39)

Fedora 40 (ARM)
	Kernel: Depends on container host
	Compiler: gcc 14.2.1 20240801 (Red Hat 14.2.1-1)

Fedora 40 (ARM Clang)
	Kernel: Depends on container host
	Compiler: clang 18.1.6 (Fedora 18.1.6-3.fc40)

Ubuntu 20.04 (ARM)
	Kernel: Depends on container host
	Compiler: gcc (Ubuntu 9.4.0-1ubuntu1~20.04.2) 9.4.0

Ubuntu 22.04 (ARM)
	Kernel: Depends on container host
	Compiler: gcc (Ubuntu 11.4.0-1ubuntu1~22.04) 11.4.0

Ubuntu 24.04 (ARM)
	Kernel: Depends on container host
	Compiler: gcc (Ubuntu 13.2.0-23ubuntu4) 13.2.0

CentOS Stream 9 (ARM)
	Kernel: Depends on container host
	Compiler: gcc 11.4.1 20231218 (Red Hat 11.4.1-3)

Debian 11 (Buster) (ARM)
	Kernel: Depends on container host
	Compiler: gcc (Debian 10.2.1-6) 10.2.1 20210110

Debian 12 (arm)
	Kernel: Depends on container host
	Compiler: gcc (Debian 12.2.0-14) 12.2.0

Ubuntu 20.04 ARM Clang Cross Compile
	Kernel: Depends on container host
	Compiler: clang 10.0.0-4ubuntu1

Ubuntu 20.04 aarch32 GCC Cross Compile
	Kernel: Depends on container host
	Compiler: gcc 9.4.0

To view detailed results, visit:
https://lab.dpdk.org/results/dashboard/patchsets/31515/

UNH-IOL DPDK Community Lab

To manage your email subscriptions, visit: 
https://lab.dpdk.org/results/dashboard/preferences/subscriptions/