From mboxrd@z Thu Jan  1 00:00:00 1970
Return-Path: <test-report-bounces@dpdk.org>
Received: from mails.dpdk.org (mails.dpdk.org [217.70.189.124])
	by inbox.dpdk.org (Postfix) with ESMTP id 2E82545B69
	for <public@inbox.dpdk.org>; Fri, 18 Oct 2024 13:07:31 +0200 (CEST)
Received: from mails.dpdk.org (localhost [127.0.0.1])
	by mails.dpdk.org (Postfix) with ESMTP id 0691340265;
	Fri, 18 Oct 2024 13:07:31 +0200 (CEST)
Received: from mail-il1-f225.google.com (mail-il1-f225.google.com
 [209.85.166.225])
 by mails.dpdk.org (Postfix) with ESMTP id 722334025F
 for <test-report@dpdk.org>; Fri, 18 Oct 2024 13:07:29 +0200 (CEST)
Received: by mail-il1-f225.google.com with SMTP id
 e9e14a558f8ab-3a3b7d95a11so7293615ab.2
 for <test-report@dpdk.org>; Fri, 18 Oct 2024 04:07:29 -0700 (PDT)
DKIM-Signature: v=1; a=rsa-sha256; c=relaxed/relaxed;
 d=iol.unh.edu; s=unh-iol; t=1729249649; x=1729854449; darn=dpdk.org;
 h=references:in-reply-to:cc:to:from:subject:message-id:date:from:to
 :cc:subject:date:message-id:reply-to;
 bh=tAf0EOTY2h0KC+eMSdAPDR007TtKWlbWG2WJhjSIj+g=;
 b=CqCKQOQWYvo1Vb1Q9306LCWgLFVqX/B78VA6g50rbZe8oUoxEU+uKPXfTqzN09nrs+
 zNp6sLh1NVqVyo8Co8Wu7RHz7vAes+JKCrub8/362r+/BD5yROMPXfOOAKUaAqw/an+y
 VsxgImwq4TNd+cCmyrqpJv6jc0rahaBNbDzOo=
X-Google-DKIM-Signature: v=1; a=rsa-sha256; c=relaxed/relaxed;
 d=1e100.net; s=20230601; t=1729249649; x=1729854449;
 h=references:in-reply-to:cc:to:from:subject:message-id:date
 :x-gm-message-state:from:to:cc:subject:date:message-id:reply-to;
 bh=tAf0EOTY2h0KC+eMSdAPDR007TtKWlbWG2WJhjSIj+g=;
 b=nU+tV5yBZSb6jRWMrCeFgS3PYYSyIQ/e8ebbGsz6rjHuN/wzuUSpv4vpDGERmiRfHH
 vviwUTuRjNyR6AIfAqJa0HJ83hgkCKRUbgpftFxc9NW1xYJWCUa8u6EvqC5p97lkn4Uf
 DyjP6ULNrLXWAlz8C4tH8VAAITFk/67vLNrssjXtLCHGBLpds3+vbmeNozsHPq3Wu+h1
 GHS8A+Fdh+m5vfVyUnbKCFnYMDu+/KAumgkm94qQlqPv+T0dhV9szc5H/WSQ+z5I28UH
 MYOr8EeodfJpy70fZPFx/7OKfnRoLm4BbVvaTStugRTKo1IFkd+s8VhxmnKZSBm4dGKk
 zABw==
X-Gm-Message-State: AOJu0Ywld8Q42SFXCiR0b0IGU+nqAMd67RhMbaNsnM2xoJVaMffQc3K7
 Z/FXCJU6etA2xvNErcT39Mch6K5VG4Hn9MC6I/TT8D/K9EWCXJqiCwOJrfAmqlA089yE/00vpdY
 Xfx5AicWR4UvjlCfVuVyKJ1B9XiKBMJu3Gk48dMqV
X-Google-Smtp-Source: AGHT+IG2W9SoGEsxaQUFwfDPSZ6+f94ASXEmowKJ3s0D+C5KYtGTNW0TmIObmI4qU0olbwpGsFEgS1bDLdxr
X-Received: by 2002:a05:6e02:1fc3:b0:3a1:a243:c7a6 with SMTP id
 e9e14a558f8ab-3a3f40531c5mr20191545ab.10.1729249648712; 
 Fri, 18 Oct 2024 04:07:28 -0700 (PDT)
Received: from postal.iol.unh.edu (postal.iol.unh.edu. [132.177.123.84])
 by smtp-relay.gmail.com with ESMTPS id
 e9e14a558f8ab-3a3f3ffc731sm644325ab.36.2024.10.18.04.07.28
 (version=TLS1_2 cipher=ECDHE-ECDSA-AES128-GCM-SHA256 bits=128/128);
 Fri, 18 Oct 2024 04:07:28 -0700 (PDT)
X-Relaying-Domain: iol.unh.edu
Date: Fri, 18 Oct 2024 04:07:28 -0700 (PDT)
Message-ID: <67124170.050a0220.25aacc.425bSMTPIN_ADDED_MISSING@mx.google.com>
Received: from [172.17.0.2] (unknown [172.18.0.217])
 by postal.iol.unh.edu (Postfix) with ESMTP id 3C8366052471;
 Fri, 18 Oct 2024 07:07:28 -0400 (EDT)
Subject: |WARNING| pw146180-146181 [PATCH] [v3,2/2] examples/l3fwd: add optio
From: dpdklab@iol.unh.edu
To: Test Report <test-report@dpdk.org>
Cc: dpdk-test-reports@iol.unh.edu
In-Reply-To: <20241017095858.27865-3-haijie1@huawei.com>
References: <20241017095858.27865-3-haijie1@huawei.com>
Content-Type: text/plain
X-BeenThere: test-report@dpdk.org
X-Mailman-Version: 2.1.29
Precedence: list
List-Id: automatic DPDK test reports <test-report.dpdk.org>
List-Unsubscribe: <https://mails.dpdk.org/options/test-report>,
 <mailto:test-report-request@dpdk.org?subject=unsubscribe>
List-Archive: <http://mails.dpdk.org/archives/test-report/>
List-Post: <mailto:test-report@dpdk.org>
List-Help: <mailto:test-report-request@dpdk.org?subject=help>
List-Subscribe: <https://mails.dpdk.org/listinfo/test-report>,
 <mailto:test-report-request@dpdk.org?subject=subscribe>
Errors-To: test-report-bounces@dpdk.org

Test-Label: iol-unit-arm64-testing
Test-Status: WARNING
http://dpdk.org/patch/146181

_Testing issues_

Submitter: Jie Hai <haijie1@huawei.com>
Date: Thursday, October 17 2024 09:58:58 
DPDK git baseline: Repo:dpdk
  Branch: master
  CommitID:74efd38b416fcf9eae2a5b429b81b550a73a47b6

146180-146181 --> testing issues

Upstream job id: Generic-Unit-Test-DPDK#277195

Test environment and result as below:

+-----------------------------+----------------+--------------+---------------------------+------------------------------+
|         Environment         | dpdk_unit_test | lpm_autotest | cryptodev_sw_zuc_autotest | cryptodev_sw_snow3g_autotest |
+=============================+================+==============+===========================+==============================+
| CentOS Stream 9 (ARM)       | PASS           | SKIPPED      | SKIPPED                   | SKIPPED                      |
+-----------------------------+----------------+--------------+---------------------------+------------------------------+
| Debian 11 (Buster) (ARM)    | PASS           | SKIPPED      | SKIPPED                   | SKIPPED                      |
+-----------------------------+----------------+--------------+---------------------------+------------------------------+
| Debian 12 (arm)             | PEND           | SKIPPED      | WARN                      | PEND                         |
+-----------------------------+----------------+--------------+---------------------------+------------------------------+
| 32-bit Ubuntu 20.04.4 (ARM) | PEND           | SKIPPED      | SKIPPED                   | SKIPPED                      |
+-----------------------------+----------------+--------------+---------------------------+------------------------------+
| Fedora 37 (ARM)             | PEND           | SKIPPED      | SKIPPED                   | SKIPPED                      |
+-----------------------------+----------------+--------------+---------------------------+------------------------------+
| Fedora 38 (ARM)             | PEND           | SKIPPED      | SKIPPED                   | SKIPPED                      |
+-----------------------------+----------------+--------------+---------------------------+------------------------------+
| Fedora 38 (ARM Clang)       | PEND           | SKIPPED      | SKIPPED                   | SKIPPED                      |
+-----------------------------+----------------+--------------+---------------------------+------------------------------+
| Fedora 39 (ARM)             | PEND           | SKIPPED      | SKIPPED                   | SKIPPED                      |
+-----------------------------+----------------+--------------+---------------------------+------------------------------+
| Fedora 39 (ARM Clang)       | PEND           | SKIPPED      | SKIPPED                   | SKIPPED                      |
+-----------------------------+----------------+--------------+---------------------------+------------------------------+
| Fedora 40 (ARM)             | PEND           | SKIPPED      | SKIPPED                   | SKIPPED                      |
+-----------------------------+----------------+--------------+---------------------------+------------------------------+
| Fedora 40 (ARM Clang)       | PEND           | SKIPPED      | SKIPPED                   | SKIPPED                      |
+-----------------------------+----------------+--------------+---------------------------+------------------------------+
| RHEL9 (ARM)                 | PEND           | SKIPPED      | SKIPPED                   | SKIPPED                      |
+-----------------------------+----------------+--------------+---------------------------+------------------------------+
| Ubuntu 20.04 (ARM)          | PEND           | SKIPPED      | SKIPPED                   | SKIPPED                      |
+-----------------------------+----------------+--------------+---------------------------+------------------------------+
| Ubuntu 22.04 (ARM)          | PEND           | SKIPPED      | SKIPPED                   | SKIPPED                      |
+-----------------------------+----------------+--------------+---------------------------+------------------------------+
| Ubuntu 24.04 (ARM)          | PEND           | SKIPPED      | SKIPPED                   | SKIPPED                      |
+-----------------------------+----------------+--------------+---------------------------+------------------------------+
| Ubuntu 20.04 ARM SVE        | SKIPPED        | PASS         | SKIPPED                   | SKIPPED                      |
+-----------------------------+----------------+--------------+---------------------------+------------------------------+

==== 20 line log output for Debian 12 (arm) (cryptodev_sw_zuc_autotest): ====
 --- Failed to get log output --- 
==== End log output ====

CentOS Stream 9 (ARM)
	Kernel: Depends on container host
	Compiler: gcc 11.4.1 20231218 (Red Hat 11.4.1-3)

Debian 11 (Buster) (ARM)
	Kernel: Depends on container host
	Compiler: gcc (Debian 10.2.1-6) 10.2.1 20210110

Debian 12 (arm)
	Kernel: Depends on container host
	Compiler: gcc (Debian 12.2.0-14) 12.2.0

32-bit Ubuntu 20.04.4 (ARM)
	Kernel: 5.4.0-155-generic aarch64
	Compiler: gcc 9.4

Fedora 37 (ARM)
	Kernel: Depends on container host
	Compiler: gcc 12.3.1 20230508 (Red Hat 12.3.1-1)

Fedora 38 (ARM)
	Kernel: Depends on container host
	Compiler: gcc 13.2.1 20240316 (Red Hat 13.2.1-7)

Fedora 38 (ARM Clang)
	Kernel: Depends on container host
	Compiler: clang 16.0.6 (Fedora 16.0.6-4.fc38)

Fedora 39 (ARM)
	Kernel: Depends on container host
	Compiler: gcc 13.3.1 20240522 (Red Hat 13.3.1-1)

Fedora 39 (ARM Clang)
	Kernel: Depends on container host
	Compiler: clang 17.0.6 (Fedora 17.0.6-2.fc39)

Fedora 40 (ARM)
	Kernel: Depends on container host
	Compiler: gcc 14.2.1 20240801 (Red Hat 14.2.1-1)

Fedora 40 (ARM Clang)
	Kernel: Depends on container host
	Compiler: clang 18.1.6 (Fedora 18.1.6-3.fc40)

RHEL9 (ARM)
	Kernel: Depends on container host
	Compiler: gcc 11.4.1 20231218 (Red Hat 11.4.1-3)

Ubuntu 20.04 (ARM)
	Kernel: Depends on container host
	Compiler: gcc (Ubuntu 9.4.0-1ubuntu1~20.04.2) 9.4.0

Ubuntu 22.04 (ARM)
	Kernel: Depends on container host
	Compiler: gcc (Ubuntu 11.4.0-1ubuntu1~22.04) 11.4.0

Ubuntu 24.04 (ARM)
	Kernel: Depends on container host
	Compiler: gcc (Ubuntu 13.2.0-23ubuntu4) 13.2.0

Ubuntu 20.04 ARM SVE
	Kernel: Depends on container host
	Compiler: gcc (Ubuntu 10.5.0-1ubuntu1~20.04) 10.5.0

To view detailed results, visit:
https://lab.dpdk.org/results/dashboard/patchsets/31532/

UNH-IOL DPDK Community Lab

To manage your email subscriptions, visit: 
https://lab.dpdk.org/results/dashboard/preferences/subscriptions/