From mboxrd@z Thu Jan  1 00:00:00 1970
Return-Path: <test-report-bounces@dpdk.org>
Received: from mails.dpdk.org (mails.dpdk.org [217.70.189.124])
	by inbox.dpdk.org (Postfix) with ESMTP id 3BBE545B6D
	for <public@inbox.dpdk.org>; Sat, 19 Oct 2024 03:02:29 +0200 (CEST)
Received: from mails.dpdk.org (localhost [127.0.0.1])
	by mails.dpdk.org (Postfix) with ESMTP id 3257840268;
	Sat, 19 Oct 2024 03:02:29 +0200 (CEST)
Received: from mail-ot1-f100.google.com (mail-ot1-f100.google.com
 [209.85.210.100])
 by mails.dpdk.org (Postfix) with ESMTP id 8C04C4025C
 for <test-report@dpdk.org>; Sat, 19 Oct 2024 03:02:27 +0200 (CEST)
Received: by mail-ot1-f100.google.com with SMTP id
 46e09a7af769-7181285c7c4so1174864a34.0
 for <test-report@dpdk.org>; Fri, 18 Oct 2024 18:02:27 -0700 (PDT)
DKIM-Signature: v=1; a=rsa-sha256; c=relaxed/relaxed;
 d=iol.unh.edu; s=unh-iol; t=1729299746; x=1729904546; darn=dpdk.org;
 h=references:in-reply-to:cc:to:from:subject:message-id:date:from:to
 :cc:subject:date:message-id:reply-to;
 bh=4A42RsgGVMw1MiJ5PpW7HTFXMk0GnMukkf5Nugaxj60=;
 b=J/5XraYpK9rAGe2/7QMyLE1sbdq+XTMjUV4E4ITJoHUmKMGCXQm2Xt3j6WDrylGDAP
 mKGRvR5prjJdoNtwKM8GDk17n3k/SPDue2wiulx42SHViZZBBF9bl/LL6yHTOi7pRlSU
 X//Hc7dVvt7BCNEe/b9Yvj6H00o4v6Oi3/TLs=
X-Google-DKIM-Signature: v=1; a=rsa-sha256; c=relaxed/relaxed;
 d=1e100.net; s=20230601; t=1729299746; x=1729904546;
 h=references:in-reply-to:cc:to:from:subject:message-id:date
 :x-gm-message-state:from:to:cc:subject:date:message-id:reply-to;
 bh=4A42RsgGVMw1MiJ5PpW7HTFXMk0GnMukkf5Nugaxj60=;
 b=TENCSy/9bj8RzSOt9Vwto5lQek1klPkYofHgwDCGTC3u6h+x9aPoJ9VAWzWMSdmohS
 2FTkguiU/KiQ8LgyFXxSo9IBUHG0xkI5/EJSsKsgezw03T6uLQzu7ooJbBhiJrF1URKn
 TQhkLdDiDWpc5HSE4kCso+ck0e3HOU1meLFIUSrM/hCiTuPgzzC7XbNQKRkw8CiB/8M4
 6iDmoqf8LA+UE1nFZpz+KBO9xKXe3tB7uHaIOGayTwuf3di9cAV0S6sqFx7UO8uHF5SA
 S8ilCkHX0Par4JbwuqCYYe+nf8JA0kFqI/qoT2JbCTtF/hEuztxS5E3sIg6jwsUfnhG7
 FHew==
X-Gm-Message-State: AOJu0YxfOtFhMIz8fzEXDiDuwNSh/oU5ZJXq3azOlX8EuLY2r5/uYcz7
 2PKrkvPn8Kp2a9LTQUZK9/DVJzF/3ca/6/1tfPJUK7YGi5Oj7345n73vMp8Yc3IEVttr0mtGTX+
 MsWUHWW/DMrskK+EF+5LlxeIQUKwGMExTnR06PUb3Xqo1vmjop5yC2ylf
X-Google-Smtp-Source: AGHT+IFye2iHPHZwzv+aaon/vbTOVYhYSN/MTMQTcyAannXO8puFrW/6y2N/Yo5TeR9ZJFlhZ5ol+KyVlIdk
X-Received: by 2002:a05:6870:495:b0:288:6c52:ffab with SMTP id
 586e51a60fabf-2892c34cec7mr4092421fac.24.1729299746556; 
 Fri, 18 Oct 2024 18:02:26 -0700 (PDT)
Received: from postal.iol.unh.edu (postal.iol.unh.edu.
 [2606:4100:3880:1234::84]) by smtp-relay.gmail.com with ESMTPS id
 586e51a60fabf-2892adc9c54sm95878fac.20.2024.10.18.18.02.26
 (version=TLS1_2 cipher=ECDHE-ECDSA-AES128-GCM-SHA256 bits=128/128);
 Fri, 18 Oct 2024 18:02:26 -0700 (PDT)
X-Relaying-Domain: iol.unh.edu
Date: Fri, 18 Oct 2024 18:02:26 -0700 (PDT)
Message-ID: <67130522.050a0220.1c9612.637fSMTPIN_ADDED_MISSING@mx.google.com>
Received: from [172.17.0.5] (unknown [172.18.0.217])
 by postal.iol.unh.edu (Postfix) with ESMTP id 104C16052471;
 Fri, 18 Oct 2024 21:02:26 -0400 (EDT)
Subject: |SUCCESS| pw145986 [PATCH] [v2] net/bonding: add user callback for b
From: dpdklab@iol.unh.edu
To: Test Report <test-report@dpdk.org>
Cc: dpdk-test-reports@iol.unh.edu
In-Reply-To: <20241015082049.3910138-1-vignesh.purushotham.srinivas@ericsson.com>
References: <20241015082049.3910138-1-vignesh.purushotham.srinivas@ericsson.com>
Content-Type: text/plain
X-BeenThere: test-report@dpdk.org
X-Mailman-Version: 2.1.29
Precedence: list
List-Id: automatic DPDK test reports <test-report.dpdk.org>
List-Unsubscribe: <https://mails.dpdk.org/options/test-report>,
 <mailto:test-report-request@dpdk.org?subject=unsubscribe>
List-Archive: <http://mails.dpdk.org/archives/test-report/>
List-Post: <mailto:test-report@dpdk.org>
List-Help: <mailto:test-report-request@dpdk.org?subject=help>
List-Subscribe: <https://mails.dpdk.org/listinfo/test-report>,
 <mailto:test-report-request@dpdk.org?subject=subscribe>
Errors-To: test-report-bounces@dpdk.org

Test-Label: iol-sample-apps-testing
Test-Status: SUCCESS
http://dpdk.org/patch/145986

_Testing PASS_

Submitter: Vignesh Purushotham Srinivas <vignesh.purushotham.srinivas@ericsson.com>
Date: Tuesday, October 15 2024 08:20:49 
DPDK git baseline: Repo:dpdk
  Branch: master
  CommitID:f2e424aeb6edf8c4990abf266aaa8814a8050616

145986 --> testing pass

Upstream job id: ACVP-FIPS-testing#7371

Test environment and result as below:

+--------------------+----------------------+----------------------+
|    Environment     | compressdev_zlib_pmd | dpdk_fips_validation |
+====================+======================+======================+
| Ubuntu 22.04 (ARM) | PASS                 | SKIPPED              |
+--------------------+----------------------+----------------------+
| Ubuntu 22.04       | PASS                 | SKIPPED              |
+--------------------+----------------------+----------------------+
| Ubuntu 20.04       | SKIPPED              | PASS                 |
+--------------------+----------------------+----------------------+


Ubuntu 22.04 (ARM)
	Kernel: 5.15.0-97-generic
	Compiler: gcc gcc (Ubuntu 11.4.0-1ubuntu1~22.04) 11.4.0

Ubuntu 22.04
	Kernel: 5.15.0-100-generic
	Compiler: gcc gcc (Ubuntu 11.4.0-1ubuntu1~22.04) 11.4.0

Ubuntu 20.04
	Kernel: Depends on container host
	Compiler: gcc (Ubuntu 9.4.0-1ubuntu1~20.04.2) 9.4.0

To view detailed results, visit:
https://lab.dpdk.org/results/dashboard/patchsets/31492/

UNH-IOL DPDK Community Lab

To manage your email subscriptions, visit: 
https://lab.dpdk.org/results/dashboard/preferences/subscriptions/