From mboxrd@z Thu Jan 1 00:00:00 1970 Return-Path: Received: from mails.dpdk.org (mails.dpdk.org [217.70.189.124]) by inbox.dpdk.org (Postfix) with ESMTP id 2798145B72 for ; Sat, 19 Oct 2024 09:32:16 +0200 (CEST) Received: from mails.dpdk.org (localhost [127.0.0.1]) by mails.dpdk.org (Postfix) with ESMTP id F173340268; Sat, 19 Oct 2024 09:32:15 +0200 (CEST) Received: from mail-pl1-f227.google.com (mail-pl1-f227.google.com [209.85.214.227]) by mails.dpdk.org (Postfix) with ESMTP id 23BE34025C for ; Sat, 19 Oct 2024 09:32:15 +0200 (CEST) Received: by mail-pl1-f227.google.com with SMTP id d9443c01a7336-20c70abba48so24894875ad.0 for ; Sat, 19 Oct 2024 00:32:15 -0700 (PDT) DKIM-Signature: v=1; a=rsa-sha256; c=relaxed/relaxed; d=iol.unh.edu; s=unh-iol; t=1729323134; x=1729927934; darn=dpdk.org; h=cc:to:from:subject:message-id:date:from:to:cc:subject:date :message-id:reply-to; bh=PyH5z99Q8Q0Egja1Uth3uKq1RejQGoCiLNj1zm4wAm0=; b=T9sYWrN9YEOpNGHfUcKMA5aABVXI+YZ3O5Nt7q1LybL1NjaUt8YjTLl/fxi9ttNr71 8z6U3LoaGUvyGBadWeoCNqtIy+XuVIHtNOIuAs+AapXJ5MBQwpVGrmFZ0I8BsYO+2Weq 61jyopkaHTmEbBUfcEbqorkdw6HpFYtkcktwQ= X-Google-DKIM-Signature: v=1; a=rsa-sha256; c=relaxed/relaxed; d=1e100.net; s=20230601; t=1729323134; x=1729927934; h=cc:to:from:subject:message-id:date:x-gm-message-state:from:to:cc :subject:date:message-id:reply-to; bh=PyH5z99Q8Q0Egja1Uth3uKq1RejQGoCiLNj1zm4wAm0=; b=SU5fW+g6GVIFgtuMa3FKow1ww0vU5gG/bvCI+yyJZV9s1K1/IwmKoiG80NIQrTH+zP XE5HdQfQzp5FpwJSugL2gXa4FNzmCFkF+lktd/GB6Htmj+Os+xGZLm7B0eOfZAEeS/Pp xj6dhPMu1X+9igFYFK9raO0FM85ouOoqYGFwBb2g1xa9s4zVHoka9khexRqcbHOqaEBc EBBZBCdyRFgXRbcJ+h74Qjlo5jr53xWuedh9QVO5vjorkCfhpBqBXX/o7LTnWTmeXeP0 RLMqury2ix1g9A2DKoQdIxNeqQK4aPfM5Gj4OMoLQ2y5nTmafwzUobsSVyAgidH9lBtL 6nZw== X-Gm-Message-State: AOJu0YwKLd6ZUMiIVW/0isC30SURqElcA/JL+YgOHgu0/wjiv+dFRd8+ Bap9pGEB2hED4ledS87kAPchZx5KmHZTiSq4Abi1KEh6BRCIXckLFxFN+vpK5LNGrSgUBfHbeKF 6HuqB6Tgw4WSgDCftGNducAxJQ5y23lnvfDarznJdaD+0rhRn X-Google-Smtp-Source: AGHT+IGVBPrPUDJU6tcxv4AH3Esawjx5qK2DQ4VLEBtSLE5E71+INVR5ld+Q0DSCK6zbJ3mp/OVy41jiKgbC X-Received: by 2002:a17:902:f54c:b0:20c:5d05:69b4 with SMTP id d9443c01a7336-20e5a8a3ed0mr60280245ad.26.1729323134226; Sat, 19 Oct 2024 00:32:14 -0700 (PDT) Received: from postal.iol.unh.edu (postal.iol.unh.edu. [2606:4100:3880:1234::84]) by smtp-relay.gmail.com with ESMTPS id d9443c01a7336-20e5a8f0f6bsm1151025ad.110.2024.10.19.00.32.14 (version=TLS1_2 cipher=ECDHE-ECDSA-AES128-GCM-SHA256 bits=128/128); Sat, 19 Oct 2024 00:32:14 -0700 (PDT) X-Relaying-Domain: iol.unh.edu Date: Sat, 19 Oct 2024 00:32:14 -0700 (PDT) Message-ID: <6713607e.170a0220.22baf8.7edfSMTPIN_ADDED_MISSING@mx.google.com> Received: from [172.21.0.3] (unknown [172.18.0.240]) by postal.iol.unh.edu (Postfix) with ESMTP id 638F46052471; Sat, 19 Oct 2024 03:32:13 -0400 (EDT) Subject: |SUCCESS| [GIT MASTER] ff4d4839f9c2a6d05dca0a25ed6b1549402e1682 From: dpdklab@iol.unh.edu To: Test Report Cc: dpdk-test-reports@iol.unh.edu, Xueming Li , Christian Ehrhardt , Kevin Traynor , Luca Boccassi Content-Type: text/plain X-BeenThere: test-report@dpdk.org X-Mailman-Version: 2.1.29 Precedence: list List-Id: automatic DPDK test reports List-Unsubscribe: , List-Archive: List-Post: List-Help: List-Subscribe: , Errors-To: test-report-bounces@dpdk.org _Testing PASS_ Branch: tags/v22.11 ff4d4839f9c2a6d05dca0a25ed6b1549402e1682 --> testing pass Upstream job id: ACVP-FIPS-testing#7374 Test environment and result as below: +--------------------+----------------------+----------------------+ | Environment | compressdev_zlib_pmd | dpdk_fips_validation | +====================+======================+======================+ | Ubuntu 22.04 (ARM) | PASS | SKIPPED | +--------------------+----------------------+----------------------+ | Ubuntu 22.04 | PASS | SKIPPED | +--------------------+----------------------+----------------------+ | Ubuntu 20.04 | SKIPPED | PASS | +--------------------+----------------------+----------------------+ Ubuntu 22.04 (ARM) Kernel: 5.15.0-97-generic Compiler: gcc gcc (Ubuntu 11.4.0-1ubuntu1~22.04) 11.4.0 Ubuntu 22.04 Kernel: 5.15.0-100-generic Compiler: gcc gcc (Ubuntu 11.4.0-1ubuntu1~22.04) 11.4.0 Ubuntu 20.04 Kernel: Depends on container host Compiler: gcc (Ubuntu 9.4.0-1ubuntu1~20.04.2) 9.4.0 To view detailed results, visit: https://lab.dpdk.org/results/dashboard/tarballs/31066/ UNH-IOL DPDK Community Lab To manage your email subscriptions, visit: https://lab.dpdk.org/results/dashboard/preferences/subscriptions/