From mboxrd@z Thu Jan  1 00:00:00 1970
Return-Path: <test-report-bounces@dpdk.org>
Received: from mails.dpdk.org (mails.dpdk.org [217.70.189.124])
	by inbox.dpdk.org (Postfix) with ESMTP id 1681E45B75
	for <public@inbox.dpdk.org>; Sat, 19 Oct 2024 13:34:17 +0200 (CEST)
Received: from mails.dpdk.org (localhost [127.0.0.1])
	by mails.dpdk.org (Postfix) with ESMTP id EE27140268;
	Sat, 19 Oct 2024 13:34:16 +0200 (CEST)
Received: from mail-il1-f226.google.com (mail-il1-f226.google.com
 [209.85.166.226])
 by mails.dpdk.org (Postfix) with ESMTP id BD8074025C
 for <test-report@dpdk.org>; Sat, 19 Oct 2024 13:34:15 +0200 (CEST)
Received: by mail-il1-f226.google.com with SMTP id
 e9e14a558f8ab-3a3bb6a01eeso11375275ab.0
 for <test-report@dpdk.org>; Sat, 19 Oct 2024 04:34:15 -0700 (PDT)
DKIM-Signature: v=1; a=rsa-sha256; c=relaxed/relaxed;
 d=iol.unh.edu; s=unh-iol; t=1729337655; x=1729942455; darn=dpdk.org;
 h=references:in-reply-to:cc:to:from:subject:message-id:date:from:to
 :cc:subject:date:message-id:reply-to;
 bh=6i9D8RqtGC+BRDka8dmXZtgnXWNl7So4I4ialHwC39I=;
 b=L1bgwBrf1uSvwNTuABWCYpy84LzBjVuAJha1sXgpzGOJqWnCWIIBqLoX22Bi39GxEF
 fJxeVPL0uTtznqt2qQtScxARYV/Tgl7N6gyAVfOJqlQNfukPBzt/VzoVP54UmqAdGyj2
 kGE3SnhbKA3Cl4UZeDFp7YV0INlKyCVyWWvMM=
X-Google-DKIM-Signature: v=1; a=rsa-sha256; c=relaxed/relaxed;
 d=1e100.net; s=20230601; t=1729337655; x=1729942455;
 h=references:in-reply-to:cc:to:from:subject:message-id:date
 :x-gm-message-state:from:to:cc:subject:date:message-id:reply-to;
 bh=6i9D8RqtGC+BRDka8dmXZtgnXWNl7So4I4ialHwC39I=;
 b=mC9AUfgybyZzuxgmQiw+tFbE4/li2Hp4R8d0GveBS8BDMG4MQsAW/659YzfpmdlG21
 EW2JhOc6ZZsd4+tScMA15DWbKlMCr2rSGZ/GtmbsknPpaxutDzX25LPF9c8tKGx4lk4v
 QxH4uH74cptLs2K2wBR6CtZapBWQbbCA6hkS7OWSd8qUqGVHVn7uq1/FfwsY+Mg5/nyi
 lMOOs1W/K926eo5yJiZXWHjgt9219VrN1of9qkBQQ1P4bHN6uR5NBfTCCGNiAsaFO8KI
 ag56kehutL2RYTuBmTAWMqMitxtUccMQIJwz3aHHAV+kx094mW8h2V2tDydy57mLVmHo
 sMVg==
X-Gm-Message-State: AOJu0Ywk7eIzD1IxrZ0t92UhAJfnmXR0HvT0x5s7+El14pGbVscw3JQP
 fxabd6z94pNjszc90ASX2YLAckheQePawb5uPQGTY+O/iRx4lmchaW1AgSFe4aMu11l8coXjmV2
 Uv2HMfTEz2QOKCncZ1WLnpao80XQ8USd+QM6JPggzvjPRJMKx6d+i4k+l
X-Google-Smtp-Source: AGHT+IGwrWLTpZqdN/mH2qCIzjQTOuyGw8jGG9OfWV/C+Tcq/noLRy/atI5ETt6GC8eBIPXGqz3Ph4SucygU
X-Received: by 2002:a05:6e02:1988:b0:3a0:8c68:7705 with SMTP id
 e9e14a558f8ab-3a3f40b6ff5mr56677035ab.21.1729337654839; 
 Sat, 19 Oct 2024 04:34:14 -0700 (PDT)
Received: from postal.iol.unh.edu (postal.iol.unh.edu.
 [2606:4100:3880:1234::84]) by smtp-relay.gmail.com with ESMTPS id
 8926c6da1cb9f-4dc10bb098csm155105173.45.2024.10.19.04.34.14
 (version=TLS1_2 cipher=ECDHE-ECDSA-AES128-GCM-SHA256 bits=128/128);
 Sat, 19 Oct 2024 04:34:14 -0700 (PDT)
X-Relaying-Domain: iol.unh.edu
Date: Sat, 19 Oct 2024 04:34:14 -0700 (PDT)
Message-ID: <67139936.050a0220.f5d25.a700SMTPIN_ADDED_MISSING@mx.google.com>
Received: from [172.21.0.2] (unknown [172.18.0.240])
 by postal.iol.unh.edu (Postfix) with ESMTP id 541416052471;
 Sat, 19 Oct 2024 07:34:14 -0400 (EDT)
Subject: |SUCCESS| pw146210-146213 [PATCH] [4/4] net/hns3: support outer VLAN
From: dpdklab@iol.unh.edu
To: Test Report <test-report@dpdk.org>
Cc: dpdk-test-reports@iol.unh.edu
In-Reply-To: <20241018061941.29960-5-haijie1@huawei.com>
References: <20241018061941.29960-5-haijie1@huawei.com>
Content-Type: text/plain
X-BeenThere: test-report@dpdk.org
X-Mailman-Version: 2.1.29
Precedence: list
List-Id: automatic DPDK test reports <test-report.dpdk.org>
List-Unsubscribe: <https://mails.dpdk.org/options/test-report>,
 <mailto:test-report-request@dpdk.org?subject=unsubscribe>
List-Archive: <http://mails.dpdk.org/archives/test-report/>
List-Post: <mailto:test-report@dpdk.org>
List-Help: <mailto:test-report-request@dpdk.org?subject=help>
List-Subscribe: <https://mails.dpdk.org/listinfo/test-report>,
 <mailto:test-report-request@dpdk.org?subject=subscribe>
Errors-To: test-report-bounces@dpdk.org

Test-Label: iol-compile-arm64-testing
Test-Status: SUCCESS
http://dpdk.org/patch/146213

_Testing PASS_

Submitter: Jie Hai <haijie1@huawei.com>
Date: Friday, October 18 2024 06:19:41 
DPDK git baseline: Repo:dpdk
  Branch: master
  CommitID:03d37ac13b61563fb31e4a0f5d0e427a61d548d5

146210-146213 --> testing pass

Upstream job id: Generic-DPDK-Compile-Meson#318822

Test environment and result as below:

+----------------------------------------+--------------------+
|              Environment               | dpdk_meson_compile |
+========================================+====================+
| RHEL9 (ARM)                            | PASS               |
+----------------------------------------+--------------------+
| Ubuntu 20.04 ARM GCC Cross Compile     | PASS               |
+----------------------------------------+--------------------+
| Ubuntu 20.04 ARM SVE                   | PASS               |
+----------------------------------------+--------------------+
| Debian 12 with MUSDK                   | PASS               |
+----------------------------------------+--------------------+
| Fedora 37 (ARM)                        | PASS               |
+----------------------------------------+--------------------+
| Fedora 38 (ARM)                        | PASS               |
+----------------------------------------+--------------------+
| Fedora 38 (ARM Clang)                  | PASS               |
+----------------------------------------+--------------------+
| Fedora 39 (ARM)                        | PASS               |
+----------------------------------------+--------------------+
| Fedora 39 (ARM Clang)                  | PASS               |
+----------------------------------------+--------------------+
| Fedora 40 (ARM)                        | PASS               |
+----------------------------------------+--------------------+
| Fedora 40 (ARM Clang)                  | PASS               |
+----------------------------------------+--------------------+
| Ubuntu 20.04 (ARM)                     | PASS               |
+----------------------------------------+--------------------+
| Ubuntu 22.04 (ARM)                     | PASS               |
+----------------------------------------+--------------------+
| Ubuntu 24.04 (ARM)                     | PASS               |
+----------------------------------------+--------------------+
| Debian 11 (Buster) (ARM)               | PASS               |
+----------------------------------------+--------------------+
| Debian 12 (arm)                        | PASS               |
+----------------------------------------+--------------------+
| Ubuntu 20.04 ARM Clang Cross Compile   | PASS               |
+----------------------------------------+--------------------+
| Ubuntu 20.04 aarch32 GCC Cross Compile | PASS               |
+----------------------------------------+--------------------+
| CentOS Stream 9 (ARM)                  | PASS               |
+----------------------------------------+--------------------+


RHEL9 (ARM)
	Kernel: Depends on container host
	Compiler: gcc 11.4.1 20231218 (Red Hat 11.4.1-3)

Ubuntu 20.04 ARM GCC Cross Compile
	Kernel: Depends on container host
	Compiler: aarch64-linux-gnu-gcc (Ubuntu 9.4.0-1ubuntu1~20.04.2) 9.4.0

Ubuntu 20.04 ARM SVE
	Kernel: Depends on container host
	Compiler: gcc (Ubuntu 10.5.0-1ubuntu1~20.04) 10.5.0

Debian 12 with MUSDK
	Kernel: Depends on container host
	Compiler: gcc (Debian 12.2.0-14) 12.2.0

Fedora 37 (ARM)
	Kernel: Depends on container host
	Compiler: gcc 12.3.1 20230508 (Red Hat 12.3.1-1)

Fedora 38 (ARM)
	Kernel: Depends on container host
	Compiler: gcc 13.2.1 20240316 (Red Hat 13.2.1-7)

Fedora 38 (ARM Clang)
	Kernel: Depends on container host
	Compiler: clang 16.0.6 (Fedora 16.0.6-4.fc38)

Fedora 39 (ARM)
	Kernel: Depends on container host
	Compiler: gcc 13.3.1 20240522 (Red Hat 13.3.1-1)

Fedora 39 (ARM Clang)
	Kernel: Depends on container host
	Compiler: clang 17.0.6 (Fedora 17.0.6-2.fc39)

Fedora 40 (ARM)
	Kernel: Depends on container host
	Compiler: gcc 14.2.1 20240801 (Red Hat 14.2.1-1)

Fedora 40 (ARM Clang)
	Kernel: Depends on container host
	Compiler: clang 18.1.6 (Fedora 18.1.6-3.fc40)

Ubuntu 20.04 (ARM)
	Kernel: Depends on container host
	Compiler: gcc (Ubuntu 9.4.0-1ubuntu1~20.04.2) 9.4.0

Ubuntu 22.04 (ARM)
	Kernel: Depends on container host
	Compiler: gcc (Ubuntu 11.4.0-1ubuntu1~22.04) 11.4.0

Ubuntu 24.04 (ARM)
	Kernel: Depends on container host
	Compiler: gcc (Ubuntu 13.2.0-23ubuntu4) 13.2.0

Debian 11 (Buster) (ARM)
	Kernel: Depends on container host
	Compiler: gcc (Debian 10.2.1-6) 10.2.1 20210110

Debian 12 (arm)
	Kernel: Depends on container host
	Compiler: gcc (Debian 12.2.0-14) 12.2.0

Ubuntu 20.04 ARM Clang Cross Compile
	Kernel: Depends on container host
	Compiler: clang 10.0.0-4ubuntu1

Ubuntu 20.04 aarch32 GCC Cross Compile
	Kernel: Depends on container host
	Compiler: gcc 9.4.0

CentOS Stream 9 (ARM)
	Kernel: Depends on container host
	Compiler: gcc 11.4.1 20231218 (Red Hat 11.4.1-3)

To view detailed results, visit:
https://lab.dpdk.org/results/dashboard/patchsets/31548/

UNH-IOL DPDK Community Lab

To manage your email subscriptions, visit: 
https://lab.dpdk.org/results/dashboard/preferences/subscriptions/