From mboxrd@z Thu Jan  1 00:00:00 1970
Return-Path: <test-report-bounces@dpdk.org>
Received: from mails.dpdk.org (mails.dpdk.org [217.70.189.124])
	by inbox.dpdk.org (Postfix) with ESMTP id DCC1B45B22
	for <public@inbox.dpdk.org>; Sun, 20 Oct 2024 00:19:43 +0200 (CEST)
Received: from mails.dpdk.org (localhost [127.0.0.1])
	by mails.dpdk.org (Postfix) with ESMTP id BC8E640290;
	Sun, 20 Oct 2024 00:19:43 +0200 (CEST)
Received: from mail-oa1-f98.google.com (mail-oa1-f98.google.com
 [209.85.160.98]) by mails.dpdk.org (Postfix) with ESMTP id B7B5C40289
 for <test-report@dpdk.org>; Sun, 20 Oct 2024 00:19:41 +0200 (CEST)
Received: by mail-oa1-f98.google.com with SMTP id
 586e51a60fabf-2884e7fadb8so1643179fac.2
 for <test-report@dpdk.org>; Sat, 19 Oct 2024 15:19:41 -0700 (PDT)
DKIM-Signature: v=1; a=rsa-sha256; c=relaxed/relaxed;
 d=iol.unh.edu; s=unh-iol; t=1729376380; x=1729981180; darn=dpdk.org;
 h=references:in-reply-to:cc:to:from:subject:message-id:date:from:to
 :cc:subject:date:message-id:reply-to;
 bh=W7fK40753qLgCfD/8spB7WyFHbo4wu1iZRz47jGpPjc=;
 b=XTbnFQJKg4HTZpKacTFMKiF/k5bBrd3dx1hoe/lWYOveUkqPnYmNh5A+VF/n1rraFd
 e+KTUvoyhAXWIlXUtoRA2n0U5QKXKuLohqESYLE9nvC27TS9l8nCjAxkeUYcWan/vcZJ
 7D49FdDZkzAqql6XrTc54WWbXrwO4HrQzPeBw=
X-Google-DKIM-Signature: v=1; a=rsa-sha256; c=relaxed/relaxed;
 d=1e100.net; s=20230601; t=1729376380; x=1729981180;
 h=references:in-reply-to:cc:to:from:subject:message-id:date
 :x-gm-message-state:from:to:cc:subject:date:message-id:reply-to;
 bh=W7fK40753qLgCfD/8spB7WyFHbo4wu1iZRz47jGpPjc=;
 b=IOh7ZHBvoV3YWXJKLgzfnxnu6T6KX0/LgMgRLw6qfY3UOpJCOcbyuxdq9A3fSZnYn3
 IokfZPv1AHVKJJ98DMYVWgWCSt2906bqAk0SaFiHoRL89xvIkehG+E9sqczri8h6f+IY
 r6nl+5kPKYe5nrUJAricalE3u+yINmjJ6bRCQNmdQqnRDPeJfEy3k3oR7YRnecXIuaA6
 843BrCKjYhQXyzMiP9Neg2vhz79H+NG2vQFsFYI8kVLnbR+ZkZ8tr5HHeqe3cYRacitq
 hypROleWW7SDNm0fyeGeTA2KrpqmFBXkY2Z8laIXpsHF+NS1mE82MHxaaDqwwyg3PFnd
 KUBw==
X-Gm-Message-State: AOJu0Yz/UfECO5S2vH8W+oA6qHEHaWJ2m4LnyhvOvgIEGGleHQ38cxlG
 +c5d/MnZ74EPG0INFmkXbUG2K8yV1nkA5t4Vdk1bG3SuPNTfmTyrMsKVrsd2+ObS/R9rvGtufhu
 VPpe+BaSCXXXMGuO5HKNn/ZEml/MRFc4NGSdYMZuuY/g46q0jeEk0TRrq
X-Google-Smtp-Source: AGHT+IH9o2e3AbK7gmzqudV1zNSmpe/wcrV+6q1xOFf86cmpjRcMgXvsU1dqB3gR3vPrqsMv3/lBGkPzSLQ1
X-Received: by 2002:a05:6870:d10d:b0:288:693f:7f27 with SMTP id
 586e51a60fabf-2892c24dfafmr5552568fac.6.1729376380691; 
 Sat, 19 Oct 2024 15:19:40 -0700 (PDT)
Received: from postal.iol.unh.edu (postal.iol.unh.edu.
 [2606:4100:3880:1234::84]) by smtp-relay.gmail.com with ESMTPS id
 586e51a60fabf-28c7942306fsm26780fac.35.2024.10.19.15.19.40
 (version=TLS1_2 cipher=ECDHE-ECDSA-AES128-GCM-SHA256 bits=128/128);
 Sat, 19 Oct 2024 15:19:40 -0700 (PDT)
X-Relaying-Domain: iol.unh.edu
Date: Sat, 19 Oct 2024 15:19:40 -0700 (PDT)
Message-ID: <6714307c.050a0220.32ce1a.10a1SMTPIN_ADDED_MISSING@mx.google.com>
Received: from [172.17.0.4] (unknown [172.18.0.217])
 by postal.iol.unh.edu (Postfix) with ESMTP id 2D4D86052471;
 Sat, 19 Oct 2024 18:19:40 -0400 (EDT)
Subject: |SUCCESS| pw146291 [PATCH] ci: fix unit tests with Fedora 37
From: dpdklab@iol.unh.edu
To: Test Report <test-report@dpdk.org>
Cc: dpdk-test-reports@iol.unh.edu
In-Reply-To: <20241018135641.3546518-1-david.marchand@redhat.com>
References: <20241018135641.3546518-1-david.marchand@redhat.com>
Content-Type: text/plain
X-BeenThere: test-report@dpdk.org
X-Mailman-Version: 2.1.29
Precedence: list
List-Id: automatic DPDK test reports <test-report.dpdk.org>
List-Unsubscribe: <https://mails.dpdk.org/options/test-report>,
 <mailto:test-report-request@dpdk.org?subject=unsubscribe>
List-Archive: <http://mails.dpdk.org/archives/test-report/>
List-Post: <mailto:test-report@dpdk.org>
List-Help: <mailto:test-report-request@dpdk.org?subject=help>
List-Subscribe: <https://mails.dpdk.org/listinfo/test-report>,
 <mailto:test-report-request@dpdk.org?subject=subscribe>
Errors-To: test-report-bounces@dpdk.org

Test-Label: iol-unit-amd64-testing
Test-Status: SUCCESS
http://dpdk.org/patch/146291

_Testing PASS_

Submitter: David Marchand <david.marchand@redhat.com>
Date: Friday, October 18 2024 13:56:41 
DPDK git baseline: Repo:dpdk
  Branch: master
  CommitID:e214d58eb87b8af488272f084220617ecabb510a

146291 --> testing pass

Upstream job id: Generic-Unit-Test-DPDK#278338

Test environment and result as below:

+---------------------+----------------+
|     Environment     | dpdk_unit_test |
+=====================+================+
| Windows Server 2022 | PASS           |
+---------------------+----------------+
| CentOS Stream 9     | PASS           |
+---------------------+----------------+
| Debian Bullseye     | PASS           |
+---------------------+----------------+
| Fedora 37           | PASS           |
+---------------------+----------------+
| Debian 12           | PASS           |
+---------------------+----------------+
| Fedora 38           | PASS           |
+---------------------+----------------+
| Fedora 38 (Clang)   | PASS           |
+---------------------+----------------+
| Fedora 39           | PASS           |
+---------------------+----------------+
| Fedora 39 (Clang)   | PASS           |
+---------------------+----------------+
| Fedora 40           | PASS           |
+---------------------+----------------+
| Fedora 40 (Clang)   | PASS           |
+---------------------+----------------+
| RHEL8               | PASS           |
+---------------------+----------------+
| RHEL9               | PASS           |
+---------------------+----------------+
| Ubuntu 20.04        | PASS           |
+---------------------+----------------+
| Ubuntu 22.04        | PASS           |
+---------------------+----------------+
| Ubuntu 24.04        | PASS           |
+---------------------+----------------+


Windows Server 2022
	Kernel: 10.0.20348.2031
	Compiler: clang 15.0.7, gcc 14.1.0 (MinGW), and MSVC VS 19.39.33521

CentOS Stream 9
	Kernel: Depends on container host
	Compiler: gcc 11.4.1 20231218 (Red Hat 11.4.1-3)

Debian Bullseye
	Kernel: Depends on container host
	Compiler: gcc (Debian 10.2.1-6) 10.2.1 20210110

Fedora 37
	Kernel: Depends on container host system
	Compiler: gcc 12.3.1 20230508 (Red Hat 12.3.1-1)

Debian 12
	Kernel: Depends on container host
	Compiler: gcc (Debian 12.2.0-14) 12.2.0

Fedora 38
	Kernel: Depends on container host
	Compiler: gcc 13.2.1 20240316 (Red Hat 13.2.1-7)

Fedora 38 (Clang)
	Kernel: Depends on container host
	Compiler: clang 16.0.6 (Fedora 16.0.6-4.fc38)

Fedora 39
	Kernel: Depends on container host
	Compiler: gcc 13.3.1 20240522 (Red Hat 13.3.1-1)

Fedora 39 (Clang)
	Kernel: Depends on container host
	Compiler: clang 17.0.6 (Fedora 17.0.6-2.fc39)

Fedora 40
	Kernel: Depends on container host
	Compiler: gcc 14.2.1 20240801 (Red Hat 14.2.1-1)

Fedora 40 (Clang)
	Kernel: Depends on container host
	Compiler: clang 18.1.6 (Fedora 18.1.6-3.fc40)

RHEL8
	Kernel: Depends on container host
	Compiler: gcc 8.5.0 20210514 (Red Hat 8.5.0-22)

RHEL9
	Kernel: Depends on container host
	Compiler: gcc 11.4.1 20231218 (Red Hat 11.4.1-3)

Ubuntu 20.04
	Kernel: Depends on container host
	Compiler: gcc (Ubuntu 9.4.0-1ubuntu1~20.04.2) 9.4.0

Ubuntu 22.04
	Kernel: Depends on container host
	Compiler: gcc (Ubuntu 11.4.0-1ubuntu1~22.04) 11.4.0

Ubuntu 24.04
	Kernel: Depends on container host
	Compiler: gcc (Ubuntu 13.2.0-23ubuntu4) 13.2.0

To view detailed results, visit:
https://lab.dpdk.org/results/dashboard/patchsets/31553/

UNH-IOL DPDK Community Lab

To manage your email subscriptions, visit: 
https://lab.dpdk.org/results/dashboard/preferences/subscriptions/