From mboxrd@z Thu Jan  1 00:00:00 1970
Return-Path: <test-report-bounces@dpdk.org>
Received: from mails.dpdk.org (mails.dpdk.org [217.70.189.124])
	by inbox.dpdk.org (Postfix) with ESMTP id 8DA5B45B80
	for <public@inbox.dpdk.org>; Sun, 20 Oct 2024 08:31:05 +0200 (CEST)
Received: from mails.dpdk.org (localhost [127.0.0.1])
	by mails.dpdk.org (Postfix) with ESMTP id 56BC240268;
	Sun, 20 Oct 2024 08:31:05 +0200 (CEST)
Received: from mail-oa1-f100.google.com (mail-oa1-f100.google.com
 [209.85.160.100])
 by mails.dpdk.org (Postfix) with ESMTP id 0FC9C40156
 for <test-report@dpdk.org>; Sun, 20 Oct 2024 08:31:03 +0200 (CEST)
Received: by mail-oa1-f100.google.com with SMTP id
 586e51a60fabf-2887abeefbdso1764859fac.0
 for <test-report@dpdk.org>; Sat, 19 Oct 2024 23:31:02 -0700 (PDT)
DKIM-Signature: v=1; a=rsa-sha256; c=relaxed/relaxed;
 d=iol.unh.edu; s=unh-iol; t=1729405862; x=1730010662; darn=dpdk.org;
 h=references:in-reply-to:cc:to:from:subject:message-id:date:from:to
 :cc:subject:date:message-id:reply-to;
 bh=6xSuxafTJ9/1o8P+S3IZFKQBPqAiB22sjY8T+Twi754=;
 b=JIB8Nj9KBeWZYNXHxzOxkRTJhTOHgvTv5oYVxq63q4zkzo9WI4iyW5LGJEonwziwTX
 WOsnK2f1mWPXG5E//AjQgeW4PnW5LKY8vviNpt/s9Zb4t2iGnD7ucNjl0cEM73diVRnM
 7mWoRciwjchjZqdjaLtoBAwxx5E4ABSqCvd1E=
X-Google-DKIM-Signature: v=1; a=rsa-sha256; c=relaxed/relaxed;
 d=1e100.net; s=20230601; t=1729405862; x=1730010662;
 h=references:in-reply-to:cc:to:from:subject:message-id:date
 :x-gm-message-state:from:to:cc:subject:date:message-id:reply-to;
 bh=6xSuxafTJ9/1o8P+S3IZFKQBPqAiB22sjY8T+Twi754=;
 b=Eex6cREd9v57ezhKypWWhpdIqvmq5IPaxiFUCh69oiVkH0H7NvjLvb1mqGPCaz3QHS
 IWk7Ux1vxiILjDx1rg+nY3EuLZqng0cm5O1CTBlZEbKlX1RVnZZ9idpFm3zNJHRkYbCJ
 Y7hIXMAlCbmRFQn+UzU0/oKvb+EgUZlVKvawjbsSJDL4QELzahArjseaAB8I7rBE8c1g
 khK6G0GzEo6TE5NBlXW1rbS9R0qmbUkrrq9PfZSfNmgIKptJFnh8Rp/yK+TYFk2LAozJ
 3rEwcfu1OGvNmdQnmQGlEB9n85ueHFGjXt5bFWuhQz7XP7jiVxNRuUnOhkoP8uSvlwtT
 FNlw==
X-Gm-Message-State: AOJu0YwQFFn0V8Xzt5iue8sac8cbm3fJRd1bACD4xGTJJsxt0vY4Eo2s
 aHclGiBC8sn+f+Ahs/xARQrhzQQ3yLzxngfxPdBxaa4QjND4pYcqBngtmi/KT+6QXWg75aYogaa
 ti55mVZ7bG4WcdVV+PVKgtLQ8CV1V8Lfa6YpgiS76DhkrPdmvYdCKy0e7
X-Google-Smtp-Source: AGHT+IGZH3EqmuLLroyYBAaO8xadRrEqdamjMZtHmzkUOlV7eYdMRmrqhoR5/8otz1FtFy/NiukDfwESYr4b
X-Received: by 2002:a05:6870:b6a6:b0:287:886:2e62 with SMTP id
 586e51a60fabf-2892c2ff2d5mr6128824fac.12.1729405862017; 
 Sat, 19 Oct 2024 23:31:02 -0700 (PDT)
Received: from postal.iol.unh.edu (postal.iol.unh.edu.
 [2606:4100:3880:1234::84]) by smtp-relay.gmail.com with ESMTPS id
 586e51a60fabf-28c7947277fsm48849fac.44.2024.10.19.23.31.01
 (version=TLS1_2 cipher=ECDHE-ECDSA-AES128-GCM-SHA256 bits=128/128);
 Sat, 19 Oct 2024 23:31:02 -0700 (PDT)
X-Relaying-Domain: iol.unh.edu
Date: Sat, 19 Oct 2024 23:31:02 -0700 (PDT)
Message-ID: <6714a3a6.050a0220.185c53.2d85SMTPIN_ADDED_MISSING@mx.google.com>
Received: from [172.17.0.3] (unknown [172.18.0.217])
 by postal.iol.unh.edu (Postfix) with ESMTP id 824E96052471;
 Sun, 20 Oct 2024 02:31:01 -0400 (EDT)
Subject: |SUCCESS| pw146187-146188 [PATCH] [v1,2/2] test/power: fix power lib
From: dpdklab@iol.unh.edu
To: Test Report <test-report@dpdk.org>
Cc: dpdk-test-reports@iol.unh.edu
In-Reply-To: <20241017110247.1051770-2-sivaprasad.tummala@amd.com>
References: <20241017110247.1051770-2-sivaprasad.tummala@amd.com>
Content-Type: text/plain
X-BeenThere: test-report@dpdk.org
X-Mailman-Version: 2.1.29
Precedence: list
List-Id: automatic DPDK test reports <test-report.dpdk.org>
List-Unsubscribe: <https://mails.dpdk.org/options/test-report>,
 <mailto:test-report-request@dpdk.org?subject=unsubscribe>
List-Archive: <http://mails.dpdk.org/archives/test-report/>
List-Post: <mailto:test-report@dpdk.org>
List-Help: <mailto:test-report-request@dpdk.org?subject=help>
List-Subscribe: <https://mails.dpdk.org/listinfo/test-report>,
 <mailto:test-report-request@dpdk.org?subject=subscribe>
Errors-To: test-report-bounces@dpdk.org

Test-Label: iol-sample-apps-testing
Test-Status: SUCCESS
http://dpdk.org/patch/146188

_Testing PASS_

Submitter: Sivaprasad Tummala <Sivaprasad.Tummala@amd.com>
Date: Thursday, October 17 2024 11:02:47 
DPDK git baseline: Repo:dpdk
  Branch: master
  CommitID:2dff0bcd3b54bc3279de42123aa618620224ad44

146187-146188 --> testing pass

Upstream job id: ACVP-FIPS-testing#7397

Test environment and result as below:

+--------------------+----------------------+----------------------+
|    Environment     | compressdev_zlib_pmd | dpdk_fips_validation |
+====================+======================+======================+
| Ubuntu 22.04 (ARM) | PASS                 | SKIPPED              |
+--------------------+----------------------+----------------------+
| Ubuntu 22.04       | PASS                 | SKIPPED              |
+--------------------+----------------------+----------------------+
| Ubuntu 20.04       | SKIPPED              | PASS                 |
+--------------------+----------------------+----------------------+


Ubuntu 22.04 (ARM)
	Kernel: 5.15.0-97-generic
	Compiler: gcc gcc (Ubuntu 11.4.0-1ubuntu1~22.04) 11.4.0

Ubuntu 22.04
	Kernel: 5.15.0-100-generic
	Compiler: gcc gcc (Ubuntu 11.4.0-1ubuntu1~22.04) 11.4.0

Ubuntu 20.04
	Kernel: Depends on container host
	Compiler: gcc (Ubuntu 9.4.0-1ubuntu1~20.04.2) 9.4.0

To view detailed results, visit:
https://lab.dpdk.org/results/dashboard/patchsets/31534/

UNH-IOL DPDK Community Lab

To manage your email subscriptions, visit: 
https://lab.dpdk.org/results/dashboard/preferences/subscriptions/