From mboxrd@z Thu Jan  1 00:00:00 1970
Return-Path: <test-report-bounces@dpdk.org>
Received: from mails.dpdk.org (mails.dpdk.org [217.70.189.124])
	by inbox.dpdk.org (Postfix) with ESMTP id A7DFD45B82
	for <public@inbox.dpdk.org>; Sun, 20 Oct 2024 10:09:02 +0200 (CEST)
Received: from mails.dpdk.org (localhost [127.0.0.1])
	by mails.dpdk.org (Postfix) with ESMTP id 7A00B40268;
	Sun, 20 Oct 2024 10:09:02 +0200 (CEST)
Received: from mail-ot1-f98.google.com (mail-ot1-f98.google.com
 [209.85.210.98]) by mails.dpdk.org (Postfix) with ESMTP id 273C04021F
 for <test-report@dpdk.org>; Sun, 20 Oct 2024 10:09:01 +0200 (CEST)
Received: by mail-ot1-f98.google.com with SMTP id
 46e09a7af769-718066adb47so1926460a34.0
 for <test-report@dpdk.org>; Sun, 20 Oct 2024 01:09:01 -0700 (PDT)
DKIM-Signature: v=1; a=rsa-sha256; c=relaxed/relaxed;
 d=iol.unh.edu; s=unh-iol; t=1729411740; x=1730016540; darn=dpdk.org;
 h=references:in-reply-to:cc:to:from:subject:message-id:date:from:to
 :cc:subject:date:message-id:reply-to;
 bh=7e/UZ13wNDO8vjyuTf6HSfBhvpwOBX4SKuUchVN36bQ=;
 b=XOf5Ks9NvJWhMs5sh5tNm9R9gG/kvEpj9rfMzudXWYMckkR63e67/8ay68BEV/ANoS
 FGL991q7o8iFKa7lo1OF5ZBfz5lLMti344r5HNjfZf/QhNrzVSrPPDx8pPh5HtcvXbMM
 colBMsV+UtLttC0juN9Eac/0H9jCanXj5dTPQ=
X-Google-DKIM-Signature: v=1; a=rsa-sha256; c=relaxed/relaxed;
 d=1e100.net; s=20230601; t=1729411740; x=1730016540;
 h=references:in-reply-to:cc:to:from:subject:message-id:date
 :x-gm-message-state:from:to:cc:subject:date:message-id:reply-to;
 bh=7e/UZ13wNDO8vjyuTf6HSfBhvpwOBX4SKuUchVN36bQ=;
 b=XffzhPAGo/HihUbjcz3JX0lirodhjmOJhEtVBajBJgIifv62fzzAuFJlJ4GOqvcp8T
 bhFQtOi0CdAK9fXmWP2wMWJ5enXxKOkrFC/9LCtlwsdBxhrCN7eMyu9AP++X/JRBLVZy
 hwcmYjBJk81oo1AKgMblNASVqMIamrRSX2FWfxeeVbHFQwbiJbSV1z3g8grquUTJZtOX
 z6z6RwichymICeU0PlWsvmQpIpnmt3Sy7teTb6NTevCzHCQK1bhAXycHWd8kbRDgAEbo
 RiVlD/AqwXLkajFw0yrflbUfU1+xJe8UD0Ncuto9rMuVgtqdYQEte1+l3q6JEq5TLKR/
 l0Yg==
X-Gm-Message-State: AOJu0YyhBon8gIAKvNgm0v91wHTH/Jnyi9x82CxP79iiGKRnWHNdcNll
 6gPYbPS1aX0HbcC2DL442tNX/5nROy8litmk8H6joC+gHRmash/GDVVNdNfmlMYSWBk/KFwtpZk
 2iDPKssRUJqZsuYfvA4zDhEUZuHLGD3tTT0i0JmR2KLaPf9b4A2QREsid
X-Google-Smtp-Source: AGHT+IFwwoTapUn/Ccr5YH+JCt4GEaHS2dDfBAJT3YggSCjMMF2RSExSXOzN5uGATJKKYX9bbFId+lZUWGLo
X-Received: by 2002:a05:6830:6d19:b0:718:d7c:2ef3 with SMTP id
 46e09a7af769-7181a70beb2mr8085655a34.12.1729411740105; 
 Sun, 20 Oct 2024 01:09:00 -0700 (PDT)
Received: from postal.iol.unh.edu (postal.iol.unh.edu.
 [2606:4100:3880:1234::84]) by smtp-relay.gmail.com with ESMTPS id
 46e09a7af769-7182eb596cesm40519a34.5.2024.10.20.01.08.59
 (version=TLS1_2 cipher=ECDHE-ECDSA-AES128-GCM-SHA256 bits=128/128);
 Sun, 20 Oct 2024 01:09:00 -0700 (PDT)
X-Relaying-Domain: iol.unh.edu
Date: Sun, 20 Oct 2024 01:09:00 -0700 (PDT)
Message-ID: <6714ba9c.050a0220.2d54e6.257fSMTPIN_ADDED_MISSING@mx.google.com>
Received: from [172.21.0.2] (unknown [172.18.0.240])
 by postal.iol.unh.edu (Postfix) with ESMTP id 28D526052471;
 Sun, 20 Oct 2024 04:08:59 -0400 (EDT)
Subject: |SUCCESS| pw146309-146312 [PATCH] [v3,4/4] net/ice: limit the number
From: dpdklab@iol.unh.edu
To: Test Report <test-report@dpdk.org>
Cc: dpdk-test-reports@iol.unh.edu
In-Reply-To: <20241018143822.2784548-5-bruce.richardson@intel.com>
References: <20241018143822.2784548-5-bruce.richardson@intel.com>
Content-Type: text/plain
X-BeenThere: test-report@dpdk.org
X-Mailman-Version: 2.1.29
Precedence: list
List-Id: automatic DPDK test reports <test-report.dpdk.org>
List-Unsubscribe: <https://mails.dpdk.org/options/test-report>,
 <mailto:test-report-request@dpdk.org?subject=unsubscribe>
List-Archive: <http://mails.dpdk.org/archives/test-report/>
List-Post: <mailto:test-report@dpdk.org>
List-Help: <mailto:test-report-request@dpdk.org?subject=help>
List-Subscribe: <https://mails.dpdk.org/listinfo/test-report>,
 <mailto:test-report-request@dpdk.org?subject=subscribe>
Errors-To: test-report-bounces@dpdk.org

Test-Label: iol-compile-amd64-testing
Test-Status: SUCCESS
http://dpdk.org/patch/146312

_Testing PASS_

Submitter: Bruce Richardson <bruce.richardson@intel.com>
Date: Friday, October 18 2024 14:38:22 
DPDK git baseline: Repo:dpdk
  Branch: master
  CommitID:e214d58eb87b8af488272f084220617ecabb510a

146309-146312 --> testing pass

Upstream job id: Generic-DPDK-Compile-Meson#319345

Test environment and result as below:

+---------------------+--------------------+-------------------+------------------+-------------------+
|     Environment     | dpdk_meson_compile | dpdk_msvc_compile | dpdk_compile_ovs | dpdk_compile_spdk |
+=====================+====================+===================+==================+===================+
| FreeBSD 13.4        | PASS               | SKIPPED           | SKIPPED          | SKIPPED           |
+---------------------+--------------------+-------------------+------------------+-------------------+
| FreeBSD 14.1        | PASS               | SKIPPED           | SKIPPED          | SKIPPED           |
+---------------------+--------------------+-------------------+------------------+-------------------+
| CentOS Stream 9     | PASS               | SKIPPED           | PASS             | PASS              |
+---------------------+--------------------+-------------------+------------------+-------------------+
| Debian Bullseye     | PASS               | SKIPPED           | PASS             | PASS              |
+---------------------+--------------------+-------------------+------------------+-------------------+
| Debian 12           | PASS               | SKIPPED           | PASS             | PASS              |
+---------------------+--------------------+-------------------+------------------+-------------------+
| Fedora 37           | PASS               | SKIPPED           | PASS             | PASS              |
+---------------------+--------------------+-------------------+------------------+-------------------+
| Fedora 38 (Clang)   | PASS               | SKIPPED           | PASS             | PASS              |
+---------------------+--------------------+-------------------+------------------+-------------------+
| Fedora 38           | PASS               | SKIPPED           | PASS             | PASS              |
+---------------------+--------------------+-------------------+------------------+-------------------+
| Fedora 39 (Clang)   | PASS               | SKIPPED           | PASS             | PASS              |
+---------------------+--------------------+-------------------+------------------+-------------------+
| Fedora 39           | PASS               | SKIPPED           | PASS             | PASS              |
+---------------------+--------------------+-------------------+------------------+-------------------+
| Fedora 40 (Clang)   | PASS               | SKIPPED           | PASS             | PASS              |
+---------------------+--------------------+-------------------+------------------+-------------------+
| Fedora 40           | PASS               | SKIPPED           | PASS             | PASS              |
+---------------------+--------------------+-------------------+------------------+-------------------+
| openSUSE Leap 15    | PASS               | SKIPPED           | PASS             | SKIPPED           |
+---------------------+--------------------+-------------------+------------------+-------------------+
| RHEL9               | PASS               | SKIPPED           | PASS             | SKIPPED           |
+---------------------+--------------------+-------------------+------------------+-------------------+
| Ubuntu 20.04        | PASS               | SKIPPED           | PASS             | SKIPPED           |
+---------------------+--------------------+-------------------+------------------+-------------------+
| Ubuntu 22.04        | PASS               | SKIPPED           | PASS             | PASS              |
+---------------------+--------------------+-------------------+------------------+-------------------+
| Ubuntu 24.04        | PASS               | SKIPPED           | PASS             | PASS              |
+---------------------+--------------------+-------------------+------------------+-------------------+
| Alpine              | PASS               | SKIPPED           | PASS             | SKIPPED           |
+---------------------+--------------------+-------------------+------------------+-------------------+
| Windows Server 2022 | SKIPPED            | PASS              | SKIPPED          | SKIPPED           |
+---------------------+--------------------+-------------------+------------------+-------------------+


FreeBSD 13.4
	Kernel: 13.4-RELEASE-p1
	Compiler: clang 18.1.6

FreeBSD 14.1
	Kernel: 14.1-RELEASE-p3
	Compiler: clang 18.1.5

CentOS Stream 9
	Kernel: Depends on container host
	Compiler: gcc 11.4.1 20231218 (Red Hat 11.4.1-3)

Debian Bullseye
	Kernel: Depends on container host
	Compiler: gcc (Debian 10.2.1-6) 10.2.1 20210110

Debian 12
	Kernel: Depends on container host
	Compiler: gcc (Debian 12.2.0-14) 12.2.0

Fedora 37
	Kernel: Depends on container host system
	Compiler: gcc 12.3.1 20230508 (Red Hat 12.3.1-1)

Fedora 38 (Clang)
	Kernel: Depends on container host
	Compiler: clang 16.0.6 (Fedora 16.0.6-4.fc38)

Fedora 38
	Kernel: Depends on container host
	Compiler: gcc 13.2.1 20240316 (Red Hat 13.2.1-7)

Fedora 39 (Clang)
	Kernel: Depends on container host
	Compiler: clang 17.0.6 (Fedora 17.0.6-2.fc39)

Fedora 39
	Kernel: Depends on container host
	Compiler: gcc 13.3.1 20240522 (Red Hat 13.3.1-1)

Fedora 40 (Clang)
	Kernel: Depends on container host
	Compiler: clang 18.1.6 (Fedora 18.1.6-3.fc40)

Fedora 40
	Kernel: Depends on container host
	Compiler: gcc 14.2.1 20240801 (Red Hat 14.2.1-1)

openSUSE Leap 15
	Kernel: Depends on container host
	Compiler: gcc (SUSE Linux) 7.5.0

RHEL9
	Kernel: Depends on container host
	Compiler: gcc 11.4.1 20231218 (Red Hat 11.4.1-3)

Ubuntu 20.04
	Kernel: Depends on container host
	Compiler: gcc (Ubuntu 9.4.0-1ubuntu1~20.04.2) 9.4.0

Ubuntu 22.04
	Kernel: Depends on container host
	Compiler: gcc (Ubuntu 11.4.0-1ubuntu1~22.04) 11.4.0

Ubuntu 24.04
	Kernel: Depends on container host
	Compiler: gcc (Ubuntu 13.2.0-23ubuntu4) 13.2.0

Alpine
	Kernel: Depends on container host
	Compiler: gcc (Alpine 13.2.1_git20240309) 13.2.1 20240309

Windows Server 2022
	Kernel: 10.0.20348.2031
	Compiler: clang 15.0.7, gcc 14.1.0 (MinGW), and MSVC VS 19.39.33521

To view detailed results, visit:
https://lab.dpdk.org/results/dashboard/patchsets/31554/

UNH-IOL DPDK Community Lab

To manage your email subscriptions, visit: 
https://lab.dpdk.org/results/dashboard/preferences/subscriptions/