From mboxrd@z Thu Jan  1 00:00:00 1970
Return-Path: <test-report-bounces@dpdk.org>
Received: from mails.dpdk.org (mails.dpdk.org [217.70.189.124])
	by inbox.dpdk.org (Postfix) with ESMTP id 0DFF145B85
	for <public@inbox.dpdk.org>; Sun, 20 Oct 2024 16:07:50 +0200 (CEST)
Received: from mails.dpdk.org (localhost [127.0.0.1])
	by mails.dpdk.org (Postfix) with ESMTP id 184194021F;
	Sun, 20 Oct 2024 16:07:49 +0200 (CEST)
Received: from mail-io1-f100.google.com (mail-io1-f100.google.com
 [209.85.166.100])
 by mails.dpdk.org (Postfix) with ESMTP id BD75E400EF
 for <test-report@dpdk.org>; Sun, 20 Oct 2024 16:07:47 +0200 (CEST)
Received: by mail-io1-f100.google.com with SMTP id
 ca18e2360f4ac-83ab9445254so96225439f.0
 for <test-report@dpdk.org>; Sun, 20 Oct 2024 07:07:47 -0700 (PDT)
DKIM-Signature: v=1; a=rsa-sha256; c=relaxed/relaxed;
 d=iol.unh.edu; s=unh-iol; t=1729433267; x=1730038067; darn=dpdk.org;
 h=references:in-reply-to:cc:to:from:subject:message-id:date:from:to
 :cc:subject:date:message-id:reply-to;
 bh=k3KD4BGdGx0RJlOcrbVsi8m7jsyGHvbEeL1ZZKFA/r0=;
 b=DdzVBPzjChYFWO/4L0UAVpCuOWP7gMsM5ZkhQQdnkc8rTpCQclereTu2cRWngKm5Ig
 yNmQ3jblpv3u2/56Rp5aU790KTneL/lJY5ujK9yoeZSzudJ3Dw6iH5OKnZjXIcRHkvI1
 6KRkP+Q8Go/vB3z6E9lr/1AK9/KDtlDSOdiX8=
X-Google-DKIM-Signature: v=1; a=rsa-sha256; c=relaxed/relaxed;
 d=1e100.net; s=20230601; t=1729433267; x=1730038067;
 h=references:in-reply-to:cc:to:from:subject:message-id:date
 :x-gm-message-state:from:to:cc:subject:date:message-id:reply-to;
 bh=k3KD4BGdGx0RJlOcrbVsi8m7jsyGHvbEeL1ZZKFA/r0=;
 b=IQox9hbfSkHexXy3+recg5BZSDsh0hKYQ5YVkyR0/4bPKT1dTEGRUQlA8kB2kShvET
 QdwZnRP19l2yW2Bcxo4R9GNkDVZwXexYPlMUjVoipVOW9m/u2lcf9MUzUN4KNiailwlU
 9g/oNQEwUynB9UZEQVEdyQmDZLqHdnD6EFAf65mlQCkPeuhLtqv1yqX2hsq+l7PoIms/
 Uz33iye4U/BJBVNThDk80Gb+9HFoVcjM3q9bjkCl2ZC9JlFPy088v9njUiFqR7tljGj0
 CUcLxuf8iZS4M24mmmKziZJmLnJgtDSdC7wD0c4+rLb+77xWjfTz9+83ezJhrpCV9h04
 Xvbg==
X-Gm-Message-State: AOJu0YxdgwkXts8F7P+CV4g4nkJOB+YpC4xjCbfI7wZNh8Jt3MMz4iCK
 Q4BqPfBnBcxKYlCkjyF0cmpxIcf6tseJ/aj2MAWr6BXevbU6PYrm8Zkwz+UDxalqAduANhylzed
 2WJjwA/DcOz8yRv5zgd5neHQjfE02pT56nyVwGsUgTu03fX0rELI4OogQ
X-Google-Smtp-Source: AGHT+IG/9mjHXr9I+cWpQcgeV+3Ny6avF/wvlR9Q8cLMIkZqiGYfx/0w2RWcvcgiMVF87wdCdPxOLJgDhy6d
X-Received: by 2002:a05:6602:2d8a:b0:83a:aa8e:5f72 with SMTP id
 ca18e2360f4ac-83aba5d41ebmr813189839f.4.1729433266953; 
 Sun, 20 Oct 2024 07:07:46 -0700 (PDT)
Received: from postal.iol.unh.edu (postal.iol.unh.edu.
 [2606:4100:3880:1234::84]) by smtp-relay.gmail.com with ESMTPS id
 ca18e2360f4ac-83ad1c3bfb8sm6758739f.8.2024.10.20.07.07.46
 (version=TLS1_2 cipher=ECDHE-ECDSA-AES128-GCM-SHA256 bits=128/128);
 Sun, 20 Oct 2024 07:07:46 -0700 (PDT)
X-Relaying-Domain: iol.unh.edu
Date: Sun, 20 Oct 2024 07:07:46 -0700 (PDT)
Message-ID: <67150eb2.050a0220.ddc8d.4019SMTPIN_ADDED_MISSING@mx.google.com>
Received: from [172.17.0.2] (unknown [172.18.0.217])
 by postal.iol.unh.edu (Postfix) with ESMTP id 90C856052471;
 Sun, 20 Oct 2024 10:07:46 -0400 (EDT)
Subject: |SUCCESS| pw146163 [PATCH] net: add more icmp types and code
From: dpdklab@iol.unh.edu
To: Test Report <test-report@dpdk.org>
Cc: dpdk-test-reports@iol.unh.edu
In-Reply-To: <20241017083322.2166467-1-rjarry@redhat.com>
References: <20241017083322.2166467-1-rjarry@redhat.com>
Content-Type: text/plain
X-BeenThere: test-report@dpdk.org
X-Mailman-Version: 2.1.29
Precedence: list
List-Id: automatic DPDK test reports <test-report.dpdk.org>
List-Unsubscribe: <https://mails.dpdk.org/options/test-report>,
 <mailto:test-report-request@dpdk.org?subject=unsubscribe>
List-Archive: <http://mails.dpdk.org/archives/test-report/>
List-Post: <mailto:test-report@dpdk.org>
List-Help: <mailto:test-report-request@dpdk.org?subject=help>
List-Subscribe: <https://mails.dpdk.org/listinfo/test-report>,
 <mailto:test-report-request@dpdk.org?subject=subscribe>
Errors-To: test-report-bounces@dpdk.org

Test-Label: iol-sample-apps-testing
Test-Status: SUCCESS
http://dpdk.org/patch/146163

_Testing PASS_

Submitter: Robin Jarry <rjarry@redhat.com>
Date: Thursday, October 17 2024 08:33:22 
DPDK git baseline: Repo:dpdk
  Branch: master
  CommitID:1e942d005e431a417fae53abfcb09253377ddfd4

146163 --> testing pass

Upstream job id: ACVP-FIPS-testing#7405

Test environment and result as below:

+--------------------+----------------------+----------------------+
|    Environment     | compressdev_zlib_pmd | dpdk_fips_validation |
+====================+======================+======================+
| Ubuntu 22.04 (ARM) | PASS                 | SKIPPED              |
+--------------------+----------------------+----------------------+
| Ubuntu 22.04       | PASS                 | SKIPPED              |
+--------------------+----------------------+----------------------+
| Ubuntu 20.04       | SKIPPED              | PASS                 |
+--------------------+----------------------+----------------------+


Ubuntu 22.04 (ARM)
	Kernel: 5.15.0-97-generic
	Compiler: gcc gcc (Ubuntu 11.4.0-1ubuntu1~22.04) 11.4.0

Ubuntu 22.04
	Kernel: 5.15.0-100-generic
	Compiler: gcc gcc (Ubuntu 11.4.0-1ubuntu1~22.04) 11.4.0

Ubuntu 20.04
	Kernel: Depends on container host
	Compiler: gcc (Ubuntu 9.4.0-1ubuntu1~20.04.2) 9.4.0

To view detailed results, visit:
https://lab.dpdk.org/results/dashboard/patchsets/31527/

UNH-IOL DPDK Community Lab

To manage your email subscriptions, visit: 
https://lab.dpdk.org/results/dashboard/preferences/subscriptions/