From mboxrd@z Thu Jan  1 00:00:00 1970
Return-Path: <test-report-bounces@dpdk.org>
Received: from mails.dpdk.org (mails.dpdk.org [217.70.189.124])
	by inbox.dpdk.org (Postfix) with ESMTP id D8D3745B8E
	for <public@inbox.dpdk.org>; Mon, 21 Oct 2024 07:25:42 +0200 (CEST)
Received: from mails.dpdk.org (localhost [127.0.0.1])
	by mails.dpdk.org (Postfix) with ESMTP id C22394028C;
	Mon, 21 Oct 2024 07:25:42 +0200 (CEST)
Received: from mail-il1-f225.google.com (mail-il1-f225.google.com
 [209.85.166.225])
 by mails.dpdk.org (Postfix) with ESMTP id 9D0CE4027C
 for <test-report@dpdk.org>; Mon, 21 Oct 2024 07:25:41 +0200 (CEST)
Received: by mail-il1-f225.google.com with SMTP id
 e9e14a558f8ab-3a3f8b5fc45so5636125ab.1
 for <test-report@dpdk.org>; Sun, 20 Oct 2024 22:25:41 -0700 (PDT)
DKIM-Signature: v=1; a=rsa-sha256; c=relaxed/relaxed;
 d=iol.unh.edu; s=unh-iol; t=1729488341; x=1730093141; darn=dpdk.org;
 h=references:in-reply-to:cc:to:from:subject:message-id:date:from:to
 :cc:subject:date:message-id:reply-to;
 bh=7RxbcqS3P8pPc03mJcl3ZmP/pcaCiKyt0aqiamr4bNc=;
 b=CVKbR2812w3ejaN5afDemSL4fMBna29cnZGHPZQL8l5amEzaZXgS9I23SPWCRyTMtK
 p8CIDA05DYX6QtR220q3TiN6AHQ81qvacJfrC6rfGlXyU3l599qzCK0/nKC9s2k+weKJ
 gF7BUTfBBoIN5GMBSTnlHhyza+j8/6q2lCEPk=
X-Google-DKIM-Signature: v=1; a=rsa-sha256; c=relaxed/relaxed;
 d=1e100.net; s=20230601; t=1729488341; x=1730093141;
 h=references:in-reply-to:cc:to:from:subject:message-id:date
 :x-gm-message-state:from:to:cc:subject:date:message-id:reply-to;
 bh=7RxbcqS3P8pPc03mJcl3ZmP/pcaCiKyt0aqiamr4bNc=;
 b=kFYuB3BPuI3QVHeb5lrHoa5zK9WtGvW5Px7O6QRFgeK+djNTlM1sEUCw+Jnpci59a4
 FARvj5Xwuxwi3Kvw3esOUJqzkiv8j1w1h/uW3v3HiOiuSVjYLZaSl+poFC/QTOUU3jp3
 i/8Oz4MCUVAsBS45gGfhjceSpgWrsDLj692Rmr8Zf6iss6RPSpRojlln4+Wo5KFUNwJA
 YnReepQz4sJcZBLPTjVWOCIegfl72+UcRbBXqyUyR2IVKWW8kKdL77uMB3BipSQSUhkH
 l75SIt2ZRAL79im3el/mpitZRfCb9Ihv7tamRDPr84bYXW5IBvPaY9YPjLLB3w57jB/q
 CIWw==
X-Gm-Message-State: AOJu0YwKCf0lOzam0MUi1aDnnkY24/r/XoWrEePdfkU9tlGKtcrWXh8Y
 ociBbu7FBUNIo7JMYMVchyiv7tiKPndflsRtz5P1zrR9ERvwMd6w+9n8D3bBzm6aslvA6cyuTla
 jwAGdwkZiDQ/i5PCcsRcRgLJuITRufECZ2tBEZjL7lRTiJ5J4Vf4UM8wW
X-Google-Smtp-Source: AGHT+IGBun+gbeg1f0VpAF4Xy3ZgKNSQlZawFQuZkPzqW6juqWIoEBYoTxskMfAxLgAi+S2CyeZENBvmejlw
X-Received: by 2002:a05:6e02:1605:b0:3a3:a639:a594 with SMTP id
 e9e14a558f8ab-3a3f418908cmr76368855ab.4.1729488340871; 
 Sun, 20 Oct 2024 22:25:40 -0700 (PDT)
Received: from postal.iol.unh.edu (postal.iol.unh.edu.
 [2606:4100:3880:1234::84]) by smtp-relay.gmail.com with ESMTPS id
 e9e14a558f8ab-3a400b156b0sm1377255ab.44.2024.10.20.22.25.40
 (version=TLS1_2 cipher=ECDHE-ECDSA-AES128-GCM-SHA256 bits=128/128);
 Sun, 20 Oct 2024 22:25:40 -0700 (PDT)
X-Relaying-Domain: iol.unh.edu
Date: Sun, 20 Oct 2024 22:25:40 -0700 (PDT)
Message-ID: <6715e5d4.050a0220.de404.8b27SMTPIN_ADDED_MISSING@mx.google.com>
Received: from [172.21.0.3] (unknown [172.18.0.240])
 by postal.iol.unh.edu (Postfix) with ESMTP id 63C136052471;
 Mon, 21 Oct 2024 01:25:40 -0400 (EDT)
Subject: |SUCCESS| pw145829-145843 [PATCH] [v6,15/15] bus/dpaa: add port bmi 
From: dpdklab@iol.unh.edu
To: Test Report <test-report@dpdk.org>
Cc: dpdk-test-reports@iol.unh.edu
In-Reply-To: <20241014093639.553467-16-g.singh@nxp.com>
References: <20241014093639.553467-16-g.singh@nxp.com>
Content-Type: text/plain
X-BeenThere: test-report@dpdk.org
X-Mailman-Version: 2.1.29
Precedence: list
List-Id: automatic DPDK test reports <test-report.dpdk.org>
List-Unsubscribe: <https://mails.dpdk.org/options/test-report>,
 <mailto:test-report-request@dpdk.org?subject=unsubscribe>
List-Archive: <http://mails.dpdk.org/archives/test-report/>
List-Post: <mailto:test-report@dpdk.org>
List-Help: <mailto:test-report-request@dpdk.org?subject=help>
List-Subscribe: <https://mails.dpdk.org/listinfo/test-report>,
 <mailto:test-report-request@dpdk.org?subject=subscribe>
Errors-To: test-report-bounces@dpdk.org

Test-Label: iol-unit-arm64-testing
Test-Status: SUCCESS
http://dpdk.org/patch/145843

_Testing PASS_

Submitter: Gagandeep Singh <g.singh@nxp.com>
Date: Monday, October 14 2024 09:36:39 
DPDK git baseline: Repo:dpdk
  Branch: master
  CommitID:3423756cf2e33cb222c2f82361c11f5d83a48ba3

145829-145843 --> testing pass

Upstream job id: Generic-Unit-Test-DPDK#279353

Test environment and result as below:

+-----------------------------+------------------------------+--------------+---------------------------+----------------+
|         Environment         | cryptodev_sw_snow3g_autotest | lpm_autotest | cryptodev_sw_zuc_autotest | dpdk_unit_test |
+=============================+==============================+==============+===========================+================+
| Debian 12 (arm)             | PASS                         | SKIPPED      | PASS                      | PASS           |
+-----------------------------+------------------------------+--------------+---------------------------+----------------+
| Ubuntu 20.04 ARM SVE        | SKIPPED                      | PASS         | SKIPPED                   | SKIPPED        |
+-----------------------------+------------------------------+--------------+---------------------------+----------------+
| CentOS Stream 9 (ARM)       | SKIPPED                      | SKIPPED      | SKIPPED                   | PASS           |
+-----------------------------+------------------------------+--------------+---------------------------+----------------+
| Debian 11 (Buster) (ARM)    | SKIPPED                      | SKIPPED      | SKIPPED                   | PASS           |
+-----------------------------+------------------------------+--------------+---------------------------+----------------+
| 32-bit Ubuntu 20.04.4 (ARM) | SKIPPED                      | SKIPPED      | SKIPPED                   | PASS           |
+-----------------------------+------------------------------+--------------+---------------------------+----------------+
| Fedora 37 (ARM)             | SKIPPED                      | SKIPPED      | SKIPPED                   | PASS           |
+-----------------------------+------------------------------+--------------+---------------------------+----------------+
| Fedora 38 (ARM)             | SKIPPED                      | SKIPPED      | SKIPPED                   | PASS           |
+-----------------------------+------------------------------+--------------+---------------------------+----------------+
| Fedora 38 (ARM Clang)       | SKIPPED                      | SKIPPED      | SKIPPED                   | PASS           |
+-----------------------------+------------------------------+--------------+---------------------------+----------------+
| Fedora 39 (ARM)             | SKIPPED                      | SKIPPED      | SKIPPED                   | PASS           |
+-----------------------------+------------------------------+--------------+---------------------------+----------------+
| Fedora 39 (ARM Clang)       | SKIPPED                      | SKIPPED      | SKIPPED                   | PASS           |
+-----------------------------+------------------------------+--------------+---------------------------+----------------+
| Fedora 40 (ARM Clang)       | SKIPPED                      | SKIPPED      | SKIPPED                   | PASS           |
+-----------------------------+------------------------------+--------------+---------------------------+----------------+
| Ubuntu 20.04 (ARM)          | SKIPPED                      | SKIPPED      | SKIPPED                   | PASS           |
+-----------------------------+------------------------------+--------------+---------------------------+----------------+
| RHEL9 (ARM)                 | SKIPPED                      | SKIPPED      | SKIPPED                   | PASS           |
+-----------------------------+------------------------------+--------------+---------------------------+----------------+
| Ubuntu 24.04 (ARM)          | SKIPPED                      | SKIPPED      | SKIPPED                   | PASS           |
+-----------------------------+------------------------------+--------------+---------------------------+----------------+
| Ubuntu 22.04 (ARM)          | SKIPPED                      | SKIPPED      | SKIPPED                   | PASS           |
+-----------------------------+------------------------------+--------------+---------------------------+----------------+
| Fedora 40 (ARM)             | SKIPPED                      | SKIPPED      | SKIPPED                   | PASS           |
+-----------------------------+------------------------------+--------------+---------------------------+----------------+


Debian 12 (arm)
	Kernel: Depends on container host
	Compiler: gcc (Debian 12.2.0-14) 12.2.0

Ubuntu 20.04 ARM SVE
	Kernel: Depends on container host
	Compiler: gcc (Ubuntu 10.5.0-1ubuntu1~20.04) 10.5.0

CentOS Stream 9 (ARM)
	Kernel: Depends on container host
	Compiler: gcc 11.4.1 20231218 (Red Hat 11.4.1-3)

Debian 11 (Buster) (ARM)
	Kernel: Depends on container host
	Compiler: gcc (Debian 10.2.1-6) 10.2.1 20210110

32-bit Ubuntu 20.04.4 (ARM)
	Kernel: 5.4.0-155-generic aarch64
	Compiler: gcc 9.4

Fedora 37 (ARM)
	Kernel: Depends on container host
	Compiler: gcc 12.3.1 20230508 (Red Hat 12.3.1-1)

Fedora 38 (ARM)
	Kernel: Depends on container host
	Compiler: gcc 13.2.1 20240316 (Red Hat 13.2.1-7)

Fedora 38 (ARM Clang)
	Kernel: Depends on container host
	Compiler: clang 16.0.6 (Fedora 16.0.6-4.fc38)

Fedora 39 (ARM)
	Kernel: Depends on container host
	Compiler: gcc 13.3.1 20240522 (Red Hat 13.3.1-1)

Fedora 39 (ARM Clang)
	Kernel: Depends on container host
	Compiler: clang 17.0.6 (Fedora 17.0.6-2.fc39)

Fedora 40 (ARM Clang)
	Kernel: Depends on container host
	Compiler: clang 18.1.6 (Fedora 18.1.6-3.fc40)

Ubuntu 20.04 (ARM)
	Kernel: Depends on container host
	Compiler: gcc (Ubuntu 9.4.0-1ubuntu1~20.04.2) 9.4.0

RHEL9 (ARM)
	Kernel: Depends on container host
	Compiler: gcc 11.4.1 20231218 (Red Hat 11.4.1-3)

Ubuntu 24.04 (ARM)
	Kernel: Depends on container host
	Compiler: gcc (Ubuntu 13.2.0-23ubuntu4) 13.2.0

Ubuntu 22.04 (ARM)
	Kernel: Depends on container host
	Compiler: gcc (Ubuntu 11.4.0-1ubuntu1~22.04) 11.4.0

Fedora 40 (ARM)
	Kernel: Depends on container host
	Compiler: gcc 14.2.1 20240801 (Red Hat 14.2.1-1)

To view detailed results, visit:
https://lab.dpdk.org/results/dashboard/patchsets/31463/

UNH-IOL DPDK Community Lab

To manage your email subscriptions, visit: 
https://lab.dpdk.org/results/dashboard/preferences/subscriptions/