From mboxrd@z Thu Jan  1 00:00:00 1970
Return-Path: <test-report-bounces@dpdk.org>
Received: from mails.dpdk.org (mails.dpdk.org [217.70.189.124])
	by inbox.dpdk.org (Postfix) with ESMTP id AD4C345B90
	for <public@inbox.dpdk.org>; Mon, 21 Oct 2024 13:58:30 +0200 (CEST)
Received: from mails.dpdk.org (localhost [127.0.0.1])
	by mails.dpdk.org (Postfix) with ESMTP id 819D7402E6;
	Mon, 21 Oct 2024 13:58:30 +0200 (CEST)
Received: from mail-pg1-f228.google.com (mail-pg1-f228.google.com
 [209.85.215.228])
 by mails.dpdk.org (Postfix) with ESMTP id A35CF40263
 for <test-report@dpdk.org>; Mon, 21 Oct 2024 13:58:29 +0200 (CEST)
Received: by mail-pg1-f228.google.com with SMTP id
 41be03b00d2f7-7ae3d7222d4so3257321a12.3
 for <test-report@dpdk.org>; Mon, 21 Oct 2024 04:58:29 -0700 (PDT)
DKIM-Signature: v=1; a=rsa-sha256; c=relaxed/relaxed;
 d=iol.unh.edu; s=unh-iol; t=1729511908; x=1730116708; darn=dpdk.org;
 h=references:in-reply-to:cc:to:from:subject:message-id:date:from:to
 :cc:subject:date:message-id:reply-to;
 bh=LIr75FN7nqW8Ijy6MzDnizohpcq29W/jVjgJSjVAWNI=;
 b=QqxNTUcm6ZoX2k4FoPKraqP4G+2811tXefDGm9agobumwU6BcHpERCAubpZX2TQzU4
 WxStNMsxp260M6MtajMxifBzDjVkM2tcGmOhrU+Vv0fuH2AUzlLXrvx/VE67JVArO+Mx
 BqAZaWM5Fd5yCKv54ni+ww0NolkbX+cWiNync=
X-Google-DKIM-Signature: v=1; a=rsa-sha256; c=relaxed/relaxed;
 d=1e100.net; s=20230601; t=1729511908; x=1730116708;
 h=references:in-reply-to:cc:to:from:subject:message-id:date
 :x-gm-message-state:from:to:cc:subject:date:message-id:reply-to;
 bh=LIr75FN7nqW8Ijy6MzDnizohpcq29W/jVjgJSjVAWNI=;
 b=LegLGBzwTqE8brwlJOZYnL26BCKcld2O6vz1E6x0w8xsB0bsMctRZ5F5GDscDxuSS5
 a0tHLfNLY96Z953S4oidPdCh2i1fBviTgc5+HvGLtuCt00u+tJ4rRhIYINm5t7y+0OH9
 8pbvW//IycnvQaiyveyea5U05S76HLpWy7+9YPoFT6VDNAdfYcqW3OFWzi70oZ1t+L4J
 kzgnAfGg1z/U8SLTMpiHYl4zo78EpHn/flwQ/bYJW+uchAX0Gi7O0GERRaXDdWOIaRXd
 h+YfX+jobT3CGM3WXPzjBt1D8RfQSOe9tG3UEUsNoKFPMWnNvfMKCu+I/QJPpkcLVFmz
 P8sg==
X-Gm-Message-State: AOJu0YzSpd0xiiawyq+Pf0VQrz7ENUBp9fzduy6I+koPplTFEGln1lpQ
 KAv/47Xna1ms9n6Y/+oIY7Kx80EbwnYwEtl5k02S8+shFBAQILqjB1T94ZzngBzdG2oh+Eu4Ge4
 BBz5X4OJbeJOtahGFuHUSTHLxKZJaujpeCdCe4+qu
X-Google-Smtp-Source: AGHT+IGuz3YNLJ9syHSEO+n54IIeff34DzH1fMaFTWLJ/ZzLbQsrkPWo7uhHISENhkqD3/nYuOZ6VjJ9ywBI
X-Received: by 2002:a05:6a21:9d91:b0:1d9:2b36:3e3c with SMTP id
 adf61e73a8af0-1d92c57580cmr15144164637.33.1729511908494; 
 Mon, 21 Oct 2024 04:58:28 -0700 (PDT)
Received: from postal.iol.unh.edu (postal.iol.unh.edu. [132.177.123.84])
 by smtp-relay.gmail.com with ESMTPS id
 d2e1a72fcca58-71ec137421csm194562b3a.8.2024.10.21.04.58.28
 (version=TLS1_2 cipher=ECDHE-ECDSA-AES128-GCM-SHA256 bits=128/128);
 Mon, 21 Oct 2024 04:58:28 -0700 (PDT)
X-Relaying-Domain: iol.unh.edu
Date: Mon, 21 Oct 2024 04:58:28 -0700 (PDT)
Message-ID: <671641e4.a70a0220.386225.c1beSMTPIN_ADDED_MISSING@mx.google.com>
Received: from [172.21.0.2] (unknown [172.18.0.240])
 by postal.iol.unh.edu (Postfix) with ESMTP id 8DFEB6052471;
 Mon, 21 Oct 2024 07:58:27 -0400 (EDT)
Subject: |SUCCESS| pw145709-145720 [PATCH] [v9,12/12] crypto/zsda: add zsda c
From: dpdklab@iol.unh.edu
To: Test Report <test-report@dpdk.org>
Cc: dpdk-test-reports@iol.unh.edu
In-Reply-To: <20241011015701.1429733-10-li.hanxiao@zte.com.cn>
References: <20241011015701.1429733-10-li.hanxiao@zte.com.cn>
Content-Type: text/plain
X-BeenThere: test-report@dpdk.org
X-Mailman-Version: 2.1.29
Precedence: list
List-Id: automatic DPDK test reports <test-report.dpdk.org>
List-Unsubscribe: <https://mails.dpdk.org/options/test-report>,
 <mailto:test-report-request@dpdk.org?subject=unsubscribe>
List-Archive: <http://mails.dpdk.org/archives/test-report/>
List-Post: <mailto:test-report@dpdk.org>
List-Help: <mailto:test-report-request@dpdk.org?subject=help>
List-Subscribe: <https://mails.dpdk.org/listinfo/test-report>,
 <mailto:test-report-request@dpdk.org?subject=subscribe>
Errors-To: test-report-bounces@dpdk.org

Test-Label: iol-compile-amd64-testing
Test-Status: SUCCESS
http://dpdk.org/patch/145720

_Testing PASS_

Submitter: Hanxiao Li <li.hanxiao@zte.com.cn>
Date: Friday, October 11 2024 01:56:32 
DPDK git baseline: Repo:dpdk
  Branch: master
  CommitID:98613d32e3dac58d685f4f236cf8cc9733abaaf3

145709-145720 --> testing pass

Upstream job id: Generic-DPDK-Compile-Meson#320319

Test environment and result as below:

+---------------------+-----------------------+--------------------+----------------------+------------------+-------------------+
|     Environment     | dpdk_win_llvm_compile | dpdk_meson_compile | dpdk_mingw64_compile | dpdk_compile_ovs | dpdk_compile_spdk |
+=====================+=======================+====================+======================+==================+===================+
| Windows Server 2022 | PASS                  | SKIPPED            | PASS                 | SKIPPED          | SKIPPED           |
+---------------------+-----------------------+--------------------+----------------------+------------------+-------------------+
| FreeBSD 14.1        | SKIPPED               | PASS               | SKIPPED              | SKIPPED          | SKIPPED           |
+---------------------+-----------------------+--------------------+----------------------+------------------+-------------------+
| FreeBSD 13.4        | SKIPPED               | PASS               | SKIPPED              | SKIPPED          | SKIPPED           |
+---------------------+-----------------------+--------------------+----------------------+------------------+-------------------+
| CentOS Stream 9     | SKIPPED               | PASS               | SKIPPED              | PASS             | PASS              |
+---------------------+-----------------------+--------------------+----------------------+------------------+-------------------+
| Debian Bullseye     | SKIPPED               | PASS               | SKIPPED              | PASS             | PASS              |
+---------------------+-----------------------+--------------------+----------------------+------------------+-------------------+
| Debian 12           | SKIPPED               | PASS               | SKIPPED              | PASS             | PASS              |
+---------------------+-----------------------+--------------------+----------------------+------------------+-------------------+
| Fedora 39 (Clang)   | SKIPPED               | PASS               | SKIPPED              | PASS             | PASS              |
+---------------------+-----------------------+--------------------+----------------------+------------------+-------------------+
| RHEL9               | SKIPPED               | PASS               | SKIPPED              | PASS             | SKIPPED           |
+---------------------+-----------------------+--------------------+----------------------+------------------+-------------------+
| Fedora 40           | SKIPPED               | PASS               | SKIPPED              | PASS             | PASS              |
+---------------------+-----------------------+--------------------+----------------------+------------------+-------------------+
| RHEL8               | SKIPPED               | PASS               | SKIPPED              | PASS             | SKIPPED           |
+---------------------+-----------------------+--------------------+----------------------+------------------+-------------------+
| Fedora 39           | SKIPPED               | PASS               | SKIPPED              | PASS             | PASS              |
+---------------------+-----------------------+--------------------+----------------------+------------------+-------------------+
| Ubuntu 22.04        | SKIPPED               | PASS               | SKIPPED              | PASS             | PASS              |
+---------------------+-----------------------+--------------------+----------------------+------------------+-------------------+
| Fedora 40 (Clang)   | SKIPPED               | PASS               | SKIPPED              | PASS             | PASS              |
+---------------------+-----------------------+--------------------+----------------------+------------------+-------------------+
| Ubuntu 20.04        | SKIPPED               | PASS               | SKIPPED              | PASS             | SKIPPED           |
+---------------------+-----------------------+--------------------+----------------------+------------------+-------------------+
| Fedora 38           | SKIPPED               | PASS               | SKIPPED              | PASS             | PASS              |
+---------------------+-----------------------+--------------------+----------------------+------------------+-------------------+
| Alpine              | SKIPPED               | PASS               | SKIPPED              | PASS             | SKIPPED           |
+---------------------+-----------------------+--------------------+----------------------+------------------+-------------------+
| Ubuntu 24.04        | SKIPPED               | PASS               | SKIPPED              | PASS             | PASS              |
+---------------------+-----------------------+--------------------+----------------------+------------------+-------------------+
| openSUSE Leap 15    | SKIPPED               | PASS               | SKIPPED              | PASS             | SKIPPED           |
+---------------------+-----------------------+--------------------+----------------------+------------------+-------------------+
| Fedora 38 (Clang)   | SKIPPED               | PASS               | SKIPPED              | PASS             | PASS              |
+---------------------+-----------------------+--------------------+----------------------+------------------+-------------------+
| Fedora 37           | SKIPPED               | PASS               | SKIPPED              | PASS             | PASS              |
+---------------------+-----------------------+--------------------+----------------------+------------------+-------------------+


Windows Server 2022
	Kernel: 10.0.20348.2031
	Compiler: clang 15.0.7, gcc 14.1.0 (MinGW), and MSVC VS 19.39.33521

FreeBSD 14.1
	Kernel: 14.1-RELEASE-p3
	Compiler: clang 18.1.5

FreeBSD 13.4
	Kernel: 13.4-RELEASE-p1
	Compiler: clang 18.1.6

CentOS Stream 9
	Kernel: Depends on container host
	Compiler: gcc 11.4.1 20231218 (Red Hat 11.4.1-3)

Debian Bullseye
	Kernel: Depends on container host
	Compiler: gcc (Debian 10.2.1-6) 10.2.1 20210110

Debian 12
	Kernel: Depends on container host
	Compiler: gcc (Debian 12.2.0-14) 12.2.0

Fedora 39 (Clang)
	Kernel: Depends on container host
	Compiler: clang 17.0.6 (Fedora 17.0.6-2.fc39)

RHEL9
	Kernel: Depends on container host
	Compiler: gcc 11.4.1 20231218 (Red Hat 11.4.1-3)

Fedora 40
	Kernel: Depends on container host
	Compiler: gcc 14.2.1 20240801 (Red Hat 14.2.1-1)

RHEL8
	Kernel: Depends on container host
	Compiler: gcc 8.5.0 20210514 (Red Hat 8.5.0-22)

Fedora 39
	Kernel: Depends on container host
	Compiler: gcc 13.3.1 20240522 (Red Hat 13.3.1-1)

Ubuntu 22.04
	Kernel: Depends on container host
	Compiler: gcc (Ubuntu 11.4.0-1ubuntu1~22.04) 11.4.0

Fedora 40 (Clang)
	Kernel: Depends on container host
	Compiler: clang 18.1.6 (Fedora 18.1.6-3.fc40)

Ubuntu 20.04
	Kernel: Depends on container host
	Compiler: gcc (Ubuntu 9.4.0-1ubuntu1~20.04.2) 9.4.0

Fedora 38
	Kernel: Depends on container host
	Compiler: gcc 13.2.1 20240316 (Red Hat 13.2.1-7)

Alpine
	Kernel: Depends on container host
	Compiler: gcc (Alpine 13.2.1_git20240309) 13.2.1 20240309

Ubuntu 24.04
	Kernel: Depends on container host
	Compiler: gcc (Ubuntu 13.2.0-23ubuntu4) 13.2.0

openSUSE Leap 15
	Kernel: Depends on container host
	Compiler: gcc (SUSE Linux) 7.5.0

Fedora 38 (Clang)
	Kernel: Depends on container host
	Compiler: clang 16.0.6 (Fedora 16.0.6-4.fc38)

Fedora 37
	Kernel: Depends on container host system
	Compiler: gcc 12.3.1 20230508 (Red Hat 12.3.1-1)

To view detailed results, visit:
https://lab.dpdk.org/results/dashboard/patchsets/31420/

UNH-IOL DPDK Community Lab

To manage your email subscriptions, visit: 
https://lab.dpdk.org/results/dashboard/preferences/subscriptions/