From mboxrd@z Thu Jan 1 00:00:00 1970 Return-Path: Received: from mails.dpdk.org (mails.dpdk.org [217.70.189.124]) by inbox.dpdk.org (Postfix) with ESMTP id 3EB4245B99 for ; Tue, 22 Oct 2024 04:32:28 +0200 (CEST) Received: from mails.dpdk.org (localhost [127.0.0.1]) by mails.dpdk.org (Postfix) with ESMTP id 1D5D0402BC; Tue, 22 Oct 2024 04:32:28 +0200 (CEST) Received: from mail-pl1-f226.google.com (mail-pl1-f226.google.com [209.85.214.226]) by mails.dpdk.org (Postfix) with ESMTP id 7E59640295 for ; Tue, 22 Oct 2024 04:32:26 +0200 (CEST) Received: by mail-pl1-f226.google.com with SMTP id d9443c01a7336-20c767a9c50so47449195ad.1 for ; Mon, 21 Oct 2024 19:32:26 -0700 (PDT) DKIM-Signature: v=1; a=rsa-sha256; c=relaxed/relaxed; d=iol.unh.edu; s=unh-iol; t=1729564345; x=1730169145; darn=dpdk.org; h=cc:to:from:subject:message-id:date:from:to:cc:subject:date :message-id:reply-to; bh=JugRVM+jmBL1DoQdX7bdP5WDlG7uvoHKeW4OLXfElpw=; b=WOxann/IGeO/Z7PSmn1Aan5eHN117BIFdW//kyZNHhv4CtSHKlJd2xPjfON04QxerN QHRHpDwSXBQdQnZs1ALuVcis32/KhOVMHySsJ6GdD+uVeJrKtR+HZtHiYUQH6uNrN6rS bwdBFmifIeOACs9/QRX07uSp4ml8+hpopESWo= X-Google-DKIM-Signature: v=1; a=rsa-sha256; c=relaxed/relaxed; d=1e100.net; s=20230601; t=1729564345; x=1730169145; h=cc:to:from:subject:message-id:date:x-gm-message-state:from:to:cc :subject:date:message-id:reply-to; bh=JugRVM+jmBL1DoQdX7bdP5WDlG7uvoHKeW4OLXfElpw=; b=G2F/+IUtjYG3Rh/GhJrdWS1j/vGSpsUdXyA4LZgnEeaXH4X/We9VCpfnpwTLPzhFEt tIquCd5CLqxiIcv5yzMh5zYjNqxCg7lRCM1AEFWUwI3LTM/nRwkBcmeOnxcL3gMaf7au tXnj2KuMzeFEs8vd010RKIoaE0vCeWacTEjlFZMz9DcDw3E+uExPEKUa9iE0QtRyf7hY zMCj39Y+H2/ieEvm/BRU+RvWexgydYBikJTft9dfdMrv0Fx65KQcExzLf0szSC6DwQCe oQzri9xJJm3a4usCiJPY/6NdKZcby9V7q8yPnVYS85v5wbMgZQswpkiixdS+fT8ASkXD qZhw== X-Gm-Message-State: AOJu0YyEr9xNTcGZ31G9oQA9e4Z3KzQijeYfvjnKaGjF5At4CvrMkZha 6CmrupE3VYqkWHJEdxxK+0aZ0xIranJ25cL+JXgoLuH6jTeAuBFLtKysVLkZvMnZgUWAffi0jfg 8JbdwomLr/I5fq83DfFL2bx0pZjouQ3M7 X-Google-Smtp-Source: AGHT+IEj0dk6qqpLSkQoueaAFICU1M1vh9R4hivuROQB/8CHfvaKzGuasv9HFTPGWIy5OO/AJF1r1Rk2VD1h X-Received: by 2002:a17:902:f789:b0:20c:f6c5:7f76 with SMTP id d9443c01a7336-20e5a73413fmr197401415ad.6.1729564345606; Mon, 21 Oct 2024 19:32:25 -0700 (PDT) Received: from postal.iol.unh.edu (postal.iol.unh.edu. [132.177.123.84]) by smtp-relay.gmail.com with ESMTPS id d9443c01a7336-20e7f15a431sm1618135ad.81.2024.10.21.19.32.25 (version=TLS1_2 cipher=ECDHE-ECDSA-AES128-GCM-SHA256 bits=128/128); Mon, 21 Oct 2024 19:32:25 -0700 (PDT) X-Relaying-Domain: iol.unh.edu Date: Mon, 21 Oct 2024 19:32:25 -0700 (PDT) Message-ID: <67170eb9.170a0220.2e93c3.a2e4SMTPIN_ADDED_MISSING@mx.google.com> Received: from [172.17.0.2] (unknown [172.18.0.217]) by postal.iol.unh.edu (Postfix) with ESMTP id BE5076052471; Mon, 21 Oct 2024 22:32:24 -0400 (EDT) Subject: |SUCCESS| [GIT MASTER] ff4d4839f9c2a6d05dca0a25ed6b1549402e1682 From: dpdklab@iol.unh.edu To: Test Report Cc: dpdk-test-reports@iol.unh.edu, Xueming Li , Christian Ehrhardt , Kevin Traynor , Luca Boccassi Content-Type: text/plain X-BeenThere: test-report@dpdk.org X-Mailman-Version: 2.1.29 Precedence: list List-Id: automatic DPDK test reports List-Unsubscribe: , List-Archive: List-Post: List-Help: List-Subscribe: , Errors-To: test-report-bounces@dpdk.org _Testing PASS_ Branch: tags/v22.11 ff4d4839f9c2a6d05dca0a25ed6b1549402e1682 --> testing pass Upstream job id: Generic-DPDK-Compile-Meson#320598 Test environment and result as below: +------------------------------------+--------------------+ | Environment | dpdk_meson_compile | +====================================+====================+ | RHEL9 (ARM) | PASS | +------------------------------------+--------------------+ | Ubuntu 20.04 ARM GCC Cross Compile | PASS | +------------------------------------+--------------------+ | Ubuntu 20.04 ARM SVE | PASS | +------------------------------------+--------------------+ | Debian 12 with MUSDK | PASS | +------------------------------------+--------------------+ | Fedora 37 (ARM) | PASS | +------------------------------------+--------------------+ | Fedora 38 (ARM) | PASS | +------------------------------------+--------------------+ | Fedora 38 (ARM Clang) | PASS | +------------------------------------+--------------------+ | Fedora 39 (ARM) | PASS | +------------------------------------+--------------------+ | Fedora 39 (ARM Clang) | PASS | +------------------------------------+--------------------+ | Fedora 40 (ARM) | PASS | +------------------------------------+--------------------+ | Fedora 40 (ARM Clang) | PASS | +------------------------------------+--------------------+ | Ubuntu 20.04 (ARM) | PASS | +------------------------------------+--------------------+ | Ubuntu 22.04 (ARM) | PASS | +------------------------------------+--------------------+ | Ubuntu 24.04 (ARM) | PASS | +------------------------------------+--------------------+ | CentOS Stream 9 (ARM) | PASS | +------------------------------------+--------------------+ | Debian 12 (arm) | PASS | +------------------------------------+--------------------+ | Debian 11 (Buster) (ARM) | PASS | +------------------------------------+--------------------+ RHEL9 (ARM) Kernel: Depends on container host Compiler: gcc 11.4.1 20231218 (Red Hat 11.4.1-3) Ubuntu 20.04 ARM GCC Cross Compile Kernel: Depends on container host Compiler: aarch64-linux-gnu-gcc (Ubuntu 9.4.0-1ubuntu1~20.04.2) 9.4.0 Ubuntu 20.04 ARM SVE Kernel: Depends on container host Compiler: gcc (Ubuntu 10.5.0-1ubuntu1~20.04) 10.5.0 Debian 12 with MUSDK Kernel: Depends on container host Compiler: gcc (Debian 12.2.0-14) 12.2.0 Fedora 37 (ARM) Kernel: Depends on container host Compiler: gcc 12.3.1 20230508 (Red Hat 12.3.1-1) Fedora 38 (ARM) Kernel: Depends on container host Compiler: gcc 13.2.1 20240316 (Red Hat 13.2.1-7) Fedora 38 (ARM Clang) Kernel: Depends on container host Compiler: clang 16.0.6 (Fedora 16.0.6-4.fc38) Fedora 39 (ARM) Kernel: Depends on container host Compiler: gcc 13.3.1 20240522 (Red Hat 13.3.1-1) Fedora 39 (ARM Clang) Kernel: Depends on container host Compiler: clang 17.0.6 (Fedora 17.0.6-2.fc39) Fedora 40 (ARM) Kernel: Depends on container host Compiler: gcc 14.2.1 20240801 (Red Hat 14.2.1-1) Fedora 40 (ARM Clang) Kernel: Depends on container host Compiler: clang 18.1.6 (Fedora 18.1.6-3.fc40) Ubuntu 20.04 (ARM) Kernel: Depends on container host Compiler: gcc (Ubuntu 9.4.0-1ubuntu1~20.04.2) 9.4.0 Ubuntu 22.04 (ARM) Kernel: Depends on container host Compiler: gcc (Ubuntu 11.4.0-1ubuntu1~22.04) 11.4.0 Ubuntu 24.04 (ARM) Kernel: Depends on container host Compiler: gcc (Ubuntu 13.2.0-23ubuntu4) 13.2.0 CentOS Stream 9 (ARM) Kernel: Depends on container host Compiler: gcc 11.4.1 20231218 (Red Hat 11.4.1-3) Debian 12 (arm) Kernel: Depends on container host Compiler: gcc (Debian 12.2.0-14) 12.2.0 Debian 11 (Buster) (ARM) Kernel: Depends on container host Compiler: gcc (Debian 10.2.1-6) 10.2.1 20210110 To view detailed results, visit: https://lab.dpdk.org/results/dashboard/tarballs/31009/ UNH-IOL DPDK Community Lab To manage your email subscriptions, visit: https://lab.dpdk.org/results/dashboard/preferences/subscriptions/