From mboxrd@z Thu Jan  1 00:00:00 1970
Return-Path: <test-report-bounces@dpdk.org>
Received: from mails.dpdk.org (mails.dpdk.org [217.70.189.124])
	by inbox.dpdk.org (Postfix) with ESMTP id 2B0BC45B9A
	for <public@inbox.dpdk.org>; Tue, 22 Oct 2024 06:46:46 +0200 (CEST)
Received: from mails.dpdk.org (localhost [127.0.0.1])
	by mails.dpdk.org (Postfix) with ESMTP id 261F3402CA;
	Tue, 22 Oct 2024 06:46:46 +0200 (CEST)
Received: from mail-il1-f227.google.com (mail-il1-f227.google.com
 [209.85.166.227])
 by mails.dpdk.org (Postfix) with ESMTP id E0C92402CA
 for <test-report@dpdk.org>; Tue, 22 Oct 2024 06:46:44 +0200 (CEST)
Received: by mail-il1-f227.google.com with SMTP id
 e9e14a558f8ab-3a3b4663e40so20705335ab.2
 for <test-report@dpdk.org>; Mon, 21 Oct 2024 21:46:44 -0700 (PDT)
DKIM-Signature: v=1; a=rsa-sha256; c=relaxed/relaxed;
 d=iol.unh.edu; s=unh-iol; t=1729572404; x=1730177204; darn=dpdk.org;
 h=references:in-reply-to:cc:to:from:subject:message-id:date:from:to
 :cc:subject:date:message-id:reply-to;
 bh=f+J7xcCZCTzJGAW4RguyOIQeEHtKnyqxlIEA/cntq04=;
 b=PwoQm47y//FjlyRiQGIJSczA6RD5FMsjPpFaIfFmqKKjF3ObQVIV196JW0/CLQd8DY
 TFpLZ+Ex+qjVTf+LMZ/ihCTH5AEkG+dYjkxSSaGj6sOADXfAMTj0OPx0xc7c6em9Wp3S
 mZ4hnPeO4ML6ngct4X6sTHGHTTbMa6zRoENzw=
X-Google-DKIM-Signature: v=1; a=rsa-sha256; c=relaxed/relaxed;
 d=1e100.net; s=20230601; t=1729572404; x=1730177204;
 h=references:in-reply-to:cc:to:from:subject:message-id:date
 :x-gm-message-state:from:to:cc:subject:date:message-id:reply-to;
 bh=f+J7xcCZCTzJGAW4RguyOIQeEHtKnyqxlIEA/cntq04=;
 b=Vav6uU3b3weiWTJwlyAGg86bOvezDL8u2/cqyqpswT+s3JOnh7TdEB46OEN7Dec+Gm
 oAiPyKwbWxZq3gjPv7IcueXle99w0qwLT/gLoiIn3lrCDk770aVC5GIP3PaLTUT+52WY
 692UYgsEETA2DsxcX4x0A78vJEwZ3z2aB3/stWFz4mmgP/fsAgMRjTIBBN3GXLxW3Of/
 XkFU5GvtJDmB98jwo+Fa5G3cW5F8to102/HkwqXw6MC1yI4+MHSRfwV36BHsEizLYaEb
 m0pjo7x5G8faHBJ0teABH5fLxYGR71vS8fMld01OBMrbOJOuQE5LKLMI53ht9yBjmCf3
 IcJA==
X-Gm-Message-State: AOJu0YxhYfL/1lP9GNGyOUYjJWqrLwiP2tIm5ycXHUDMllZLeZ6M1/e6
 DdWrbQzzpu8jodYXXuDh/WhOVZOzvRck4Q4GTlVwxtIFk7dO9htAKKPJQyGtDc+REF/D7k7Eqji
 uJDq4iWLupqcSOJg6HlJcebOhscjG1jfPzJsH08Ux
X-Google-Smtp-Source: AGHT+IHb12hQ9ZhBUQFx7YDv+eoKfakYT0xTt5sEfBowQ2i5U2/kLlh7BhY2+0VfWo/y2P9VagdzESfhOdkW
X-Received: by 2002:a92:c565:0:b0:3a3:68bc:a16d with SMTP id
 e9e14a558f8ab-3a3f409f0bcmr123446415ab.18.1729572404098; 
 Mon, 21 Oct 2024 21:46:44 -0700 (PDT)
Received: from postal.iol.unh.edu (postal.iol.unh.edu. [132.177.123.84])
 by smtp-relay.gmail.com with ESMTPS id
 e9e14a558f8ab-3a400b63022sm2131885ab.55.2024.10.21.21.46.44
 (version=TLS1_2 cipher=ECDHE-ECDSA-AES128-GCM-SHA256 bits=128/128);
 Mon, 21 Oct 2024 21:46:44 -0700 (PDT)
X-Relaying-Domain: iol.unh.edu
Date: Mon, 21 Oct 2024 21:46:44 -0700 (PDT)
Message-ID: <67172e34.050a0220.172034.da17SMTPIN_ADDED_MISSING@mx.google.com>
Received: from [172.17.0.2] (unknown [172.18.0.217])
 by postal.iol.unh.edu (Postfix) with ESMTP id BBFF66052471;
 Tue, 22 Oct 2024 00:46:43 -0400 (EDT)
Subject: |SUCCESS| pw146359-146363 [PATCH] [v3,5/5] raw/gdtc: add support for
From: dpdklab@iol.unh.edu
To: Test Report <test-report@dpdk.org>
Cc: dpdk-test-reports@iol.unh.edu
In-Reply-To: <20241021074647.2064466-9-zhang.yong25@zte.com.cn>
References: <20241021074647.2064466-9-zhang.yong25@zte.com.cn>
Content-Type: text/plain
X-BeenThere: test-report@dpdk.org
X-Mailman-Version: 2.1.29
Precedence: list
List-Id: automatic DPDK test reports <test-report.dpdk.org>
List-Unsubscribe: <https://mails.dpdk.org/options/test-report>,
 <mailto:test-report-request@dpdk.org?subject=unsubscribe>
List-Archive: <http://mails.dpdk.org/archives/test-report/>
List-Post: <mailto:test-report@dpdk.org>
List-Help: <mailto:test-report-request@dpdk.org?subject=help>
List-Subscribe: <https://mails.dpdk.org/listinfo/test-report>,
 <mailto:test-report-request@dpdk.org?subject=subscribe>
Errors-To: test-report-bounces@dpdk.org

Test-Label: iol-compile-amd64-testing
Test-Status: SUCCESS
http://dpdk.org/patch/146363

_Testing PASS_

Submitter: Yong Zhang <zhang.yong25@zte.com.cn>
Date: Monday, October 21 2024 07:45:22 
DPDK git baseline: Repo:dpdk
  Branch: master
  CommitID:cff6dba7ff8521df410b40399fd8aca5b450a05b

146359-146363 --> testing pass

Upstream job id: Windows-Compile-DPDK-Native#23446

Test environment and result as below:

+---------------------+-----------------------+----------------------+--------------------+
|     Environment     | dpdk_win_llvm_compile | dpdk_mingw64_compile | dpdk_meson_compile |
+=====================+=======================+======================+====================+
| Windows Server 2022 | PASS                  | PASS                 | SKIPPED            |
+---------------------+-----------------------+----------------------+--------------------+
| FreeBSD 13.4        | SKIPPED               | SKIPPED              | PASS               |
+---------------------+-----------------------+----------------------+--------------------+
| FreeBSD 14.1        | SKIPPED               | SKIPPED              | PASS               |
+---------------------+-----------------------+----------------------+--------------------+


Windows Server 2022
	Kernel: 10.0.20348.2031
	Compiler: clang 15.0.7, gcc 14.1.0 (MinGW), and MSVC VS 19.39.33521

FreeBSD 13.4
	Kernel: 13.4-RELEASE-p1
	Compiler: clang 18.1.6

FreeBSD 14.1
	Kernel: 14.1-RELEASE-p3
	Compiler: clang 18.1.5

To view detailed results, visit:
https://lab.dpdk.org/results/dashboard/patchsets/31569/

UNH-IOL DPDK Community Lab

To manage your email subscriptions, visit: 
https://lab.dpdk.org/results/dashboard/preferences/subscriptions/