From mboxrd@z Thu Jan  1 00:00:00 1970
Return-Path: <test-report-bounces@dpdk.org>
Received: from mails.dpdk.org (mails.dpdk.org [217.70.189.124])
	by inbox.dpdk.org (Postfix) with ESMTP id 1FD3F45B9A
	for <public@inbox.dpdk.org>; Tue, 22 Oct 2024 07:20:22 +0200 (CEST)
Received: from mails.dpdk.org (localhost [127.0.0.1])
	by mails.dpdk.org (Postfix) with ESMTP id 16B6F402CA;
	Tue, 22 Oct 2024 07:20:22 +0200 (CEST)
Received: from mail-io1-f100.google.com (mail-io1-f100.google.com
 [209.85.166.100])
 by mails.dpdk.org (Postfix) with ESMTP id E6A41402A3
 for <test-report@dpdk.org>; Tue, 22 Oct 2024 07:20:20 +0200 (CEST)
Received: by mail-io1-f100.google.com with SMTP id
 ca18e2360f4ac-83aad4a05eeso208802039f.1
 for <test-report@dpdk.org>; Mon, 21 Oct 2024 22:20:20 -0700 (PDT)
DKIM-Signature: v=1; a=rsa-sha256; c=relaxed/relaxed;
 d=iol.unh.edu; s=unh-iol; t=1729574420; x=1730179220; darn=dpdk.org;
 h=references:in-reply-to:cc:to:from:subject:message-id:date:from:to
 :cc:subject:date:message-id:reply-to;
 bh=vRz0dS+DHNTakRk4qMAotx9HNl/tZ2rTHzJc6NKIy/A=;
 b=fhyURGy57tpZpZTjrpLIOm+qm1dl3VwwCn0qNmnMnzQCVNnboRUChjJAHC06Cl9xSf
 b66A4DHKr94rdWRHWDVW60NYxV8zTyV2oem+vgHllO1vlIcV+cnILtHk3otXc8CfqAUW
 aDVXWUaaE36nyzDjras7DXwJ4EEKBqmG0SQTQ=
X-Google-DKIM-Signature: v=1; a=rsa-sha256; c=relaxed/relaxed;
 d=1e100.net; s=20230601; t=1729574420; x=1730179220;
 h=references:in-reply-to:cc:to:from:subject:message-id:date
 :x-gm-message-state:from:to:cc:subject:date:message-id:reply-to;
 bh=vRz0dS+DHNTakRk4qMAotx9HNl/tZ2rTHzJc6NKIy/A=;
 b=pZuImjnyzxBcX9+Uw7yXq3ODrHyyDnRxV0Se6Iy5r1LzBy4Eqp/+OwfqtqlbFj9wjV
 rRxURHP9Ya9Os77mPRYK1tds4qqx76gSJgfbjSwbjsE/4rfr77hqtEauzQSY0oCmTt/x
 0NOwm5KKLhJt0l4uiVy70pCB2ggES7sLtl2MJKt/dos1tbBkdkxhWXIjpzlr5atjB43d
 KDbJfkpNCXLkKBsExCut4M3Qhuu1o5rz5A3CsdXD1R5Tj7sz7iekMBnZU/HTMJlQ1cPk
 Y8ZnQi9ucMqLaqFzYmoeXOi65Mc+LuZa24aB6G5yDqCKDsJeZTQUjlcwEHhDJKcrFpg7
 9g2Q==
X-Gm-Message-State: AOJu0YwYTFaj8batFMI34j+BGDEitxoTKrSsSJ3AaH96SeF93d4zzvcs
 r46Qpv3iaF4VrGjKVStIb5GsjjL0zQ3WUOsaopVjJjUnf5fQh9YAj5vFR0kwED4omyi6S/V4NnC
 uGBCFNgmyvQMfNUrfpvGOSFBhZ6K/HLLaYnM0kZC7
X-Google-Smtp-Source: AGHT+IHhyiJiIvLcznyJ6ssHWApENhBWfYupE8IWv392FfO5RVmF3m6PYUNtUppa3R3CJfGC3Yb9b/VaNpsb
X-Received: by 2002:a05:6602:6b0f:b0:83a:a25a:cfaf with SMTP id
 ca18e2360f4ac-83ae8a7c5a2mr275470339f.3.1729574420153; 
 Mon, 21 Oct 2024 22:20:20 -0700 (PDT)
Received: from postal.iol.unh.edu (postal.iol.unh.edu. [132.177.123.84])
 by smtp-relay.gmail.com with ESMTPS id
 ca18e2360f4ac-83ad1dc432bsm17828339f.27.2024.10.21.22.20.20
 (version=TLS1_2 cipher=ECDHE-ECDSA-AES128-GCM-SHA256 bits=128/128);
 Mon, 21 Oct 2024 22:20:20 -0700 (PDT)
X-Relaying-Domain: iol.unh.edu
Date: Mon, 21 Oct 2024 22:20:20 -0700 (PDT)
Message-ID: <67173614.050a0220.224c84.b254SMTPIN_ADDED_MISSING@mx.google.com>
Received: from [172.21.0.2] (unknown [172.18.0.240])
 by postal.iol.unh.edu (Postfix) with ESMTP id AB7116052471;
 Tue, 22 Oct 2024 01:20:19 -0400 (EDT)
Subject: |SUCCESS| pw146433-146434 [PATCH] [v11,2/2] examples/l3fwd-power: ad
From: dpdklab@iol.unh.edu
To: Test Report <test-report@dpdk.org>
Cc: dpdk-test-reports@iol.unh.edu
In-Reply-To: <20241021114253.31216-3-lihuisong@huawei.com>
References: <20241021114253.31216-3-lihuisong@huawei.com>
Content-Type: text/plain
X-BeenThere: test-report@dpdk.org
X-Mailman-Version: 2.1.29
Precedence: list
List-Id: automatic DPDK test reports <test-report.dpdk.org>
List-Unsubscribe: <https://mails.dpdk.org/options/test-report>,
 <mailto:test-report-request@dpdk.org?subject=unsubscribe>
List-Archive: <http://mails.dpdk.org/archives/test-report/>
List-Post: <mailto:test-report@dpdk.org>
List-Help: <mailto:test-report-request@dpdk.org?subject=help>
List-Subscribe: <https://mails.dpdk.org/listinfo/test-report>,
 <mailto:test-report-request@dpdk.org?subject=subscribe>
Errors-To: test-report-bounces@dpdk.org

Test-Label: iol-compile-amd64-testing
Test-Status: SUCCESS
http://dpdk.org/patch/146434

_Testing PASS_

Submitter: lihuisong (C) <lihuisong@huawei.com>
Date: Monday, October 21 2024 11:42:53 
DPDK git baseline: Repo:dpdk
  Branch: master
  CommitID:cff6dba7ff8521df410b40399fd8aca5b450a05b

146433-146434 --> testing pass

Upstream job id: Windows-Compile-DPDK-Native#23450

Test environment and result as below:

+---------------------+-----------------------+----------------------+--------------------+
|     Environment     | dpdk_win_llvm_compile | dpdk_mingw64_compile | dpdk_meson_compile |
+=====================+=======================+======================+====================+
| Windows Server 2022 | PASS                  | PASS                 | SKIPPED            |
+---------------------+-----------------------+----------------------+--------------------+
| FreeBSD 13.4        | SKIPPED               | SKIPPED              | PASS               |
+---------------------+-----------------------+----------------------+--------------------+


Windows Server 2022
	Kernel: 10.0.20348.2031
	Compiler: clang 15.0.7, gcc 14.1.0 (MinGW), and MSVC VS 19.39.33521

FreeBSD 13.4
	Kernel: 13.4-RELEASE-p1
	Compiler: clang 18.1.6

To view detailed results, visit:
https://lab.dpdk.org/results/dashboard/patchsets/31575/

UNH-IOL DPDK Community Lab

To manage your email subscriptions, visit: 
https://lab.dpdk.org/results/dashboard/preferences/subscriptions/