From mboxrd@z Thu Jan  1 00:00:00 1970
Return-Path: <test-report-bounces@dpdk.org>
Received: from mails.dpdk.org (mails.dpdk.org [217.70.189.124])
	by inbox.dpdk.org (Postfix) with ESMTP id EBD8445B9E
	for <public@inbox.dpdk.org>; Tue, 22 Oct 2024 10:50:14 +0200 (CEST)
Received: from mails.dpdk.org (localhost [127.0.0.1])
	by mails.dpdk.org (Postfix) with ESMTP id C5E004029A;
	Tue, 22 Oct 2024 10:50:14 +0200 (CEST)
Received: from mail-ot1-f98.google.com (mail-ot1-f98.google.com
 [209.85.210.98]) by mails.dpdk.org (Postfix) with ESMTP id 1A4D040285
 for <test-report@dpdk.org>; Tue, 22 Oct 2024 10:50:13 +0200 (CEST)
Received: by mail-ot1-f98.google.com with SMTP id
 46e09a7af769-7093997dffdso1629298a34.2
 for <test-report@dpdk.org>; Tue, 22 Oct 2024 01:50:12 -0700 (PDT)
DKIM-Signature: v=1; a=rsa-sha256; c=relaxed/relaxed;
 d=iol.unh.edu; s=unh-iol; t=1729587012; x=1730191812; darn=dpdk.org;
 h=references:in-reply-to:cc:to:from:subject:message-id:date:from:to
 :cc:subject:date:message-id:reply-to;
 bh=Uue2JmedaToQa3kg4x6ZOIODpCj0vVodlKw+B3VFJqY=;
 b=Ky9BLpJUL6Cxpu6CBSlpAFOOWPtaXQEcWzRXzhOIz/4BkKZB73MZHHwQr3dykCySft
 nJsyiMwYYgkv4D2WH6T7TZggbdb4cEO4wTcyPmLjbEevlhNmhum6kvv58oJmHpvPInSq
 wUcM4aOH6UfGMjp8b/BhnvfjWbcVUfo/jbJ7E=
X-Google-DKIM-Signature: v=1; a=rsa-sha256; c=relaxed/relaxed;
 d=1e100.net; s=20230601; t=1729587012; x=1730191812;
 h=references:in-reply-to:cc:to:from:subject:message-id:date
 :x-gm-message-state:from:to:cc:subject:date:message-id:reply-to;
 bh=Uue2JmedaToQa3kg4x6ZOIODpCj0vVodlKw+B3VFJqY=;
 b=WV9/qx5VbudhhnmltzLmoHMlByvnCvjZ2VWu5UfdSX/EiZomOt2RJx6AfPLPV+bHcW
 lYO3cxusrWRjVZ1YcgpeaUVfb20ndjBZz3WGar2i5/PGQB9cAaUtnq+W7+OJS3sFHIv3
 KDROVGKfsLlK6lKLQqaCou2hUZaPGIDkcf+wFnWXeOdSc4NUogrCH9RPMyDHcGxlsP5/
 9Box4ngzrv8y6UsPHOnnX6GcyTe24fjjSTaVqIgLAgxeNWLvZWLRWuNYfT20URO5bo2S
 laeqjgsCp3kMwO7K2HnEWIYQblz6ZE0fkdoi6CsG/g94eCoc/ftvsaxO9aGP790Ktcfh
 n08Q==
X-Gm-Message-State: AOJu0Yz+lqcuRVANg+bIS6vL3ZIpVZMfpv6uQUFjwu8/Re6LrrZPgCmD
 BmBMIRuEoZL25VRz/Nc/VP35V9aZRacZ0uLmYt5xwejD8ErTI7AzxJiyWrYovjqHnxtcDzncjKM
 Max1ft3ZKONZILf+rBRewBNJPQ90sr/sV+Fyd56MV
X-Google-Smtp-Source: AGHT+IGeRJbrlu4ku4/q20dDGWzBpJBAhwQUnwczCuyI0ZyW6suhYGvEzG6ze10lNHNbQRrpyeQ7IKfo4cj7
X-Received: by 2002:a05:6870:f151:b0:287:f1d3:67e5 with SMTP id
 586e51a60fabf-28cb018b8f4mr1891073fac.43.1729587012126; 
 Tue, 22 Oct 2024 01:50:12 -0700 (PDT)
Received: from postal.iol.unh.edu (postal.iol.unh.edu. [132.177.123.84])
 by smtp-relay.gmail.com with ESMTPS id
 586e51a60fabf-28c7929c0e6sm213202fac.19.2024.10.22.01.50.12
 (version=TLS1_2 cipher=ECDHE-ECDSA-AES128-GCM-SHA256 bits=128/128);
 Tue, 22 Oct 2024 01:50:12 -0700 (PDT)
X-Relaying-Domain: iol.unh.edu
Date: Tue, 22 Oct 2024 01:50:12 -0700 (PDT)
Message-ID: <67176744.050a0220.163b23.dd6aSMTPIN_ADDED_MISSING@mx.google.com>
Received: from [172.17.0.3] (unknown [172.18.0.217])
 by postal.iol.unh.edu (Postfix) with ESMTP id 97FDF6052471;
 Tue, 22 Oct 2024 04:50:11 -0400 (EDT)
Subject: |SUCCESS| pw145727-145729 [PATCH] [v2,7/7] maintainers: update for k
From: dpdklab@iol.unh.edu
To: Test Report <test-report@dpdk.org>
Cc: dpdk-test-reports@iol.unh.edu
In-Reply-To: <20241011033416.10593-8-fengchengwen@huawei.com>
References: <20241011033416.10593-8-fengchengwen@huawei.com>
Content-Type: text/plain
X-BeenThere: test-report@dpdk.org
X-Mailman-Version: 2.1.29
Precedence: list
List-Id: automatic DPDK test reports <test-report.dpdk.org>
List-Unsubscribe: <https://mails.dpdk.org/options/test-report>,
 <mailto:test-report-request@dpdk.org?subject=unsubscribe>
List-Archive: <http://mails.dpdk.org/archives/test-report/>
List-Post: <mailto:test-report@dpdk.org>
List-Help: <mailto:test-report-request@dpdk.org?subject=help>
List-Subscribe: <https://mails.dpdk.org/listinfo/test-report>,
 <mailto:test-report-request@dpdk.org?subject=subscribe>
Errors-To: test-report-bounces@dpdk.org

Test-Label: iol-unit-arm64-testing
Test-Status: SUCCESS
http://dpdk.org/patch/145729

_Testing PASS_

Submitter: fengchengwen <fengchengwen@huawei.com>
Date: Friday, October 11 2024 03:34:16 
DPDK git baseline: Repo:dpdk
  Branch: master
  CommitID:98613d32e3dac58d685f4f236cf8cc9733abaaf3

145727-145729 --> testing pass

Upstream job id: Generic-Unit-Test-DPDK#279361

Test environment and result as below:

+-----------------------------+--------------+---------------------------+------------------------------+----------------+
|         Environment         | lpm_autotest | cryptodev_sw_zuc_autotest | cryptodev_sw_snow3g_autotest | dpdk_unit_test |
+=============================+==============+===========================+==============================+================+
| Ubuntu 20.04 ARM SVE        | PASS         | SKIPPED                   | SKIPPED                      | SKIPPED        |
+-----------------------------+--------------+---------------------------+------------------------------+----------------+
| Debian 12 (arm)             | SKIPPED      | PASS                      | PASS                         | PASS           |
+-----------------------------+--------------+---------------------------+------------------------------+----------------+
| Fedora 39 (ARM Clang)       | SKIPPED      | SKIPPED                   | SKIPPED                      | PASS           |
+-----------------------------+--------------+---------------------------+------------------------------+----------------+
| 32-bit Ubuntu 20.04.4 (ARM) | SKIPPED      | SKIPPED                   | SKIPPED                      | PASS           |
+-----------------------------+--------------+---------------------------+------------------------------+----------------+
| Fedora 39 (ARM)             | SKIPPED      | SKIPPED                   | SKIPPED                      | PASS           |
+-----------------------------+--------------+---------------------------+------------------------------+----------------+
| Fedora 40 (ARM)             | SKIPPED      | SKIPPED                   | SKIPPED                      | PASS           |
+-----------------------------+--------------+---------------------------+------------------------------+----------------+
| Ubuntu 22.04 (ARM)          | SKIPPED      | SKIPPED                   | SKIPPED                      | PASS           |
+-----------------------------+--------------+---------------------------+------------------------------+----------------+
| Fedora 38 (ARM Clang)       | SKIPPED      | SKIPPED                   | SKIPPED                      | PASS           |
+-----------------------------+--------------+---------------------------+------------------------------+----------------+
| RHEL9 (ARM)                 | SKIPPED      | SKIPPED                   | SKIPPED                      | PASS           |
+-----------------------------+--------------+---------------------------+------------------------------+----------------+
| Ubuntu 20.04 (ARM)          | SKIPPED      | SKIPPED                   | SKIPPED                      | PASS           |
+-----------------------------+--------------+---------------------------+------------------------------+----------------+
| CentOS Stream 9 (ARM)       | SKIPPED      | SKIPPED                   | SKIPPED                      | PASS           |
+-----------------------------+--------------+---------------------------+------------------------------+----------------+
| Fedora 40 (ARM Clang)       | SKIPPED      | SKIPPED                   | SKIPPED                      | PASS           |
+-----------------------------+--------------+---------------------------+------------------------------+----------------+
| Ubuntu 24.04 (ARM)          | SKIPPED      | SKIPPED                   | SKIPPED                      | PASS           |
+-----------------------------+--------------+---------------------------+------------------------------+----------------+
| Fedora 38 (ARM)             | SKIPPED      | SKIPPED                   | SKIPPED                      | PASS           |
+-----------------------------+--------------+---------------------------+------------------------------+----------------+
| Fedora 37 (ARM)             | SKIPPED      | SKIPPED                   | SKIPPED                      | PASS           |
+-----------------------------+--------------+---------------------------+------------------------------+----------------+
| Debian 11 (Buster) (ARM)    | SKIPPED      | SKIPPED                   | SKIPPED                      | PASS           |
+-----------------------------+--------------+---------------------------+------------------------------+----------------+


Ubuntu 20.04 ARM SVE
	Kernel: Depends on container host
	Compiler: gcc (Ubuntu 10.5.0-1ubuntu1~20.04) 10.5.0

Debian 12 (arm)
	Kernel: Depends on container host
	Compiler: gcc (Debian 12.2.0-14) 12.2.0

Fedora 39 (ARM Clang)
	Kernel: Depends on container host
	Compiler: clang 17.0.6 (Fedora 17.0.6-2.fc39)

32-bit Ubuntu 20.04.4 (ARM)
	Kernel: 5.4.0-155-generic aarch64
	Compiler: gcc 9.4

Fedora 39 (ARM)
	Kernel: Depends on container host
	Compiler: gcc 13.3.1 20240522 (Red Hat 13.3.1-1)

Fedora 40 (ARM)
	Kernel: Depends on container host
	Compiler: gcc 14.2.1 20240801 (Red Hat 14.2.1-1)

Ubuntu 22.04 (ARM)
	Kernel: Depends on container host
	Compiler: gcc (Ubuntu 11.4.0-1ubuntu1~22.04) 11.4.0

Fedora 38 (ARM Clang)
	Kernel: Depends on container host
	Compiler: clang 16.0.6 (Fedora 16.0.6-4.fc38)

RHEL9 (ARM)
	Kernel: Depends on container host
	Compiler: gcc 11.4.1 20231218 (Red Hat 11.4.1-3)

Ubuntu 20.04 (ARM)
	Kernel: Depends on container host
	Compiler: gcc (Ubuntu 9.4.0-1ubuntu1~20.04.2) 9.4.0

CentOS Stream 9 (ARM)
	Kernel: Depends on container host
	Compiler: gcc 11.4.1 20231218 (Red Hat 11.4.1-3)

Fedora 40 (ARM Clang)
	Kernel: Depends on container host
	Compiler: clang 18.1.6 (Fedora 18.1.6-3.fc40)

Ubuntu 24.04 (ARM)
	Kernel: Depends on container host
	Compiler: gcc (Ubuntu 13.2.0-23ubuntu4) 13.2.0

Fedora 38 (ARM)
	Kernel: Depends on container host
	Compiler: gcc 13.2.1 20240316 (Red Hat 13.2.1-7)

Fedora 37 (ARM)
	Kernel: Depends on container host
	Compiler: gcc 12.3.1 20230508 (Red Hat 12.3.1-1)

Debian 11 (Buster) (ARM)
	Kernel: Depends on container host
	Compiler: gcc (Debian 10.2.1-6) 10.2.1 20210110

To view detailed results, visit:
https://lab.dpdk.org/results/dashboard/patchsets/31423/

UNH-IOL DPDK Community Lab

To manage your email subscriptions, visit: 
https://lab.dpdk.org/results/dashboard/preferences/subscriptions/