From mboxrd@z Thu Jan  1 00:00:00 1970
Return-Path: <test-report-bounces@dpdk.org>
Received: from mails.dpdk.org (mails.dpdk.org [217.70.189.124])
	by inbox.dpdk.org (Postfix) with ESMTP id 24A7045B9E
	for <public@inbox.dpdk.org>; Tue, 22 Oct 2024 10:52:45 +0200 (CEST)
Received: from mails.dpdk.org (localhost [127.0.0.1])
	by mails.dpdk.org (Postfix) with ESMTP id 20E534029A;
	Tue, 22 Oct 2024 10:52:45 +0200 (CEST)
Received: from mail-yw1-f227.google.com (mail-yw1-f227.google.com
 [209.85.128.227])
 by mails.dpdk.org (Postfix) with ESMTP id DE80840285
 for <test-report@dpdk.org>; Tue, 22 Oct 2024 10:52:43 +0200 (CEST)
Received: by mail-yw1-f227.google.com with SMTP id
 00721157ae682-6e38fa1f82fso50512857b3.1
 for <test-report@dpdk.org>; Tue, 22 Oct 2024 01:52:43 -0700 (PDT)
DKIM-Signature: v=1; a=rsa-sha256; c=relaxed/relaxed;
 d=iol.unh.edu; s=unh-iol; t=1729587163; x=1730191963; darn=dpdk.org;
 h=references:in-reply-to:cc:to:from:subject:message-id:date:from:to
 :cc:subject:date:message-id:reply-to;
 bh=3den2a0IiQ22LJCfRcN61A/mlI7dM8N2S6F1O/95xMg=;
 b=fMmdPrcSHFbsWJQaMKfYdp5iYf+kxWsTPMKQ9oH112qMEadhHXJelyNmLM4yv/Oug2
 ymH9xD2VTGUFUHSG3JNyz5WOSkGt8iO3wZl7V72aoquqr33Oh7C4Ysbq26+fSDAxoyXq
 976JlmYqWT+g3TnskQQm0aX5/aR+CmwQVHkL0=
X-Google-DKIM-Signature: v=1; a=rsa-sha256; c=relaxed/relaxed;
 d=1e100.net; s=20230601; t=1729587163; x=1730191963;
 h=references:in-reply-to:cc:to:from:subject:message-id:date
 :x-gm-message-state:from:to:cc:subject:date:message-id:reply-to;
 bh=3den2a0IiQ22LJCfRcN61A/mlI7dM8N2S6F1O/95xMg=;
 b=mOsWO2VzxD08vu6uja5wYL8BumKbuQ29lb5yjO/d4TxEuQ61lEJd1Bhoa7xBkLkGeJ
 WQqsuR6Rh8XIvpoj4sv2JurJNuwGpLlJG2KJTDltUxPiCJ97KKGyhrvwgDOjFQ3vIdig
 tLMYBh3yGu7MymfWGVzNGzJZ1pk6EZBgDxxYSXzWjXLBoG4lihUypsrb+atxSPqdhF6L
 G5j1llaU9iSCtLlyi6mgn2n1diHX5xJGXAWhyJd3BV9dRa4/juH1QivzUBCMfuSODJqS
 pcb3Jx+3DSKE9394fd4la01dEaPl2mPuoblGnw1X2uJ6KZ+Ay1xSjaQVgThjOvTH2VJM
 1Z9g==
X-Gm-Message-State: AOJu0YyvbtrSaRCbQUPZpPbFIkbPk4o+sGfGwbJUMgceE0r9fd8692gr
 IB32h8zn/2k1WYhDc14I2NtIM1rK2ExeIWpuhouLfiGrHtP0ib1ZLfyqgzUbtEwY9ZJLQ5U5aV6
 3iBhvUbipFRNml+Lui8JAz10dqtGY22CnCKFk/MqGZEjksqB2acwZ8cR7
X-Google-Smtp-Source: AGHT+IHreqlt91OLXdJfT6ikWsZpuOGFKFa2jgkYx4UR4nP/re2XmNgSbnTHAf4PwYCBpF1kOpzVDI/oVLKB
X-Received: by 2002:a05:690c:4907:b0:6e5:de2d:39e0 with SMTP id
 00721157ae682-6e5de2d5659mr109062437b3.42.1729587163238; 
 Tue, 22 Oct 2024 01:52:43 -0700 (PDT)
Received: from postal.iol.unh.edu (postal.iol.unh.edu.
 [2606:4100:3880:1234::84]) by smtp-relay.gmail.com with ESMTPS id
 00721157ae682-6e5f5a093a2sm2207167b3.22.2024.10.22.01.52.43
 (version=TLS1_2 cipher=ECDHE-ECDSA-AES128-GCM-SHA256 bits=128/128);
 Tue, 22 Oct 2024 01:52:43 -0700 (PDT)
X-Relaying-Domain: iol.unh.edu
Date: Tue, 22 Oct 2024 01:52:43 -0700 (PDT)
Message-ID: <671767db.050a0220.3861d5.e604SMTPIN_ADDED_MISSING@mx.google.com>
Received: from [172.17.0.3] (unknown [172.18.0.217])
 by postal.iol.unh.edu (Postfix) with ESMTP id D802B6052471;
 Tue, 22 Oct 2024 04:52:42 -0400 (EDT)
Subject: |WARNING| pw145733-145734 [PATCH] [v6,3/3] examples/ptpclient: add f
From: dpdklab@iol.unh.edu
To: Test Report <test-report@dpdk.org>
Cc: dpdk-test-reports@iol.unh.edu
In-Reply-To: <20241011063407.1427421-4-mingjinx.ye@intel.com>
References: <20241011063407.1427421-4-mingjinx.ye@intel.com>
Content-Type: text/plain
X-BeenThere: test-report@dpdk.org
X-Mailman-Version: 2.1.29
Precedence: list
List-Id: automatic DPDK test reports <test-report.dpdk.org>
List-Unsubscribe: <https://mails.dpdk.org/options/test-report>,
 <mailto:test-report-request@dpdk.org?subject=unsubscribe>
List-Archive: <http://mails.dpdk.org/archives/test-report/>
List-Post: <mailto:test-report@dpdk.org>
List-Help: <mailto:test-report-request@dpdk.org?subject=help>
List-Subscribe: <https://mails.dpdk.org/listinfo/test-report>,
 <mailto:test-report-request@dpdk.org?subject=subscribe>
Errors-To: test-report-bounces@dpdk.org

Test-Label: iol-unit-arm64-testing
Test-Status: WARNING
http://dpdk.org/patch/145734

_Testing issues_

Submitter: Mingjin Ye <mingjinx.ye@intel.com>
Date: Friday, October 11 2024 06:34:07 
DPDK git baseline: Repo:dpdk
  Branch: master
  CommitID:98613d32e3dac58d685f4f236cf8cc9733abaaf3

145733-145734 --> testing issues

Upstream job id: Generic-Unit-Test-DPDK#279392

Test environment and result as below:

+-----------------------------+------------------------------+----------------+--------------+---------------------------+
|         Environment         | cryptodev_sw_snow3g_autotest | dpdk_unit_test | lpm_autotest | cryptodev_sw_zuc_autotest |
+=============================+==============================+================+==============+===========================+
| Debian 12 (arm)             | PASS                         | PASS           | SKIPPED      | WARN                      |
+-----------------------------+------------------------------+----------------+--------------+---------------------------+
| Fedora 37 (ARM)             | SKIPPED                      | PASS           | SKIPPED      | SKIPPED                   |
+-----------------------------+------------------------------+----------------+--------------+---------------------------+
| RHEL9 (ARM)                 | SKIPPED                      | PASS           | SKIPPED      | SKIPPED                   |
+-----------------------------+------------------------------+----------------+--------------+---------------------------+
| Ubuntu 20.04 (ARM)          | SKIPPED                      | PASS           | SKIPPED      | SKIPPED                   |
+-----------------------------+------------------------------+----------------+--------------+---------------------------+
| Ubuntu 22.04 (ARM)          | SKIPPED                      | PASS           | SKIPPED      | SKIPPED                   |
+-----------------------------+------------------------------+----------------+--------------+---------------------------+
| 32-bit Ubuntu 20.04.4 (ARM) | SKIPPED                      | PASS           | SKIPPED      | SKIPPED                   |
+-----------------------------+------------------------------+----------------+--------------+---------------------------+
| Fedora 38 (ARM Clang)       | SKIPPED                      | PASS           | SKIPPED      | SKIPPED                   |
+-----------------------------+------------------------------+----------------+--------------+---------------------------+
| Fedora 40 (ARM Clang)       | SKIPPED                      | PASS           | SKIPPED      | SKIPPED                   |
+-----------------------------+------------------------------+----------------+--------------+---------------------------+
| Ubuntu 24.04 (ARM)          | SKIPPED                      | PASS           | SKIPPED      | SKIPPED                   |
+-----------------------------+------------------------------+----------------+--------------+---------------------------+
| Fedora 40 (ARM)             | SKIPPED                      | PASS           | SKIPPED      | SKIPPED                   |
+-----------------------------+------------------------------+----------------+--------------+---------------------------+
| Fedora 39 (ARM Clang)       | SKIPPED                      | PASS           | SKIPPED      | SKIPPED                   |
+-----------------------------+------------------------------+----------------+--------------+---------------------------+
| Fedora 39 (ARM)             | SKIPPED                      | PASS           | SKIPPED      | SKIPPED                   |
+-----------------------------+------------------------------+----------------+--------------+---------------------------+
| Fedora 38 (ARM)             | SKIPPED                      | PASS           | SKIPPED      | SKIPPED                   |
+-----------------------------+------------------------------+----------------+--------------+---------------------------+
| Debian 11 (Buster) (ARM)    | SKIPPED                      | PASS           | SKIPPED      | SKIPPED                   |
+-----------------------------+------------------------------+----------------+--------------+---------------------------+
| CentOS Stream 9 (ARM)       | SKIPPED                      | PASS           | SKIPPED      | SKIPPED                   |
+-----------------------------+------------------------------+----------------+--------------+---------------------------+
| Ubuntu 20.04 ARM SVE        | SKIPPED                      | SKIPPED        | PASS         | SKIPPED                   |
+-----------------------------+------------------------------+----------------+--------------+---------------------------+

==== 20 line log output for Debian 12 (arm) (cryptodev_sw_zuc_autotest): ====
 --- Failed to get log output --- 
==== End log output ====

Debian 12 (arm)
	Kernel: Depends on container host
	Compiler: gcc (Debian 12.2.0-14) 12.2.0

Fedora 37 (ARM)
	Kernel: Depends on container host
	Compiler: gcc 12.3.1 20230508 (Red Hat 12.3.1-1)

RHEL9 (ARM)
	Kernel: Depends on container host
	Compiler: gcc 11.4.1 20231218 (Red Hat 11.4.1-3)

Ubuntu 20.04 (ARM)
	Kernel: Depends on container host
	Compiler: gcc (Ubuntu 9.4.0-1ubuntu1~20.04.2) 9.4.0

Ubuntu 22.04 (ARM)
	Kernel: Depends on container host
	Compiler: gcc (Ubuntu 11.4.0-1ubuntu1~22.04) 11.4.0

32-bit Ubuntu 20.04.4 (ARM)
	Kernel: 5.4.0-155-generic aarch64
	Compiler: gcc 9.4

Fedora 38 (ARM Clang)
	Kernel: Depends on container host
	Compiler: clang 16.0.6 (Fedora 16.0.6-4.fc38)

Fedora 40 (ARM Clang)
	Kernel: Depends on container host
	Compiler: clang 18.1.6 (Fedora 18.1.6-3.fc40)

Ubuntu 24.04 (ARM)
	Kernel: Depends on container host
	Compiler: gcc (Ubuntu 13.2.0-23ubuntu4) 13.2.0

Fedora 40 (ARM)
	Kernel: Depends on container host
	Compiler: gcc 14.2.1 20240801 (Red Hat 14.2.1-1)

Fedora 39 (ARM Clang)
	Kernel: Depends on container host
	Compiler: clang 17.0.6 (Fedora 17.0.6-2.fc39)

Fedora 39 (ARM)
	Kernel: Depends on container host
	Compiler: gcc 13.3.1 20240522 (Red Hat 13.3.1-1)

Fedora 38 (ARM)
	Kernel: Depends on container host
	Compiler: gcc 13.2.1 20240316 (Red Hat 13.2.1-7)

Debian 11 (Buster) (ARM)
	Kernel: Depends on container host
	Compiler: gcc (Debian 10.2.1-6) 10.2.1 20210110

CentOS Stream 9 (ARM)
	Kernel: Depends on container host
	Compiler: gcc 11.4.1 20231218 (Red Hat 11.4.1-3)

Ubuntu 20.04 ARM SVE
	Kernel: Depends on container host
	Compiler: gcc (Ubuntu 10.5.0-1ubuntu1~20.04) 10.5.0

To view detailed results, visit:
https://lab.dpdk.org/results/dashboard/patchsets/31424/

UNH-IOL DPDK Community Lab

To manage your email subscriptions, visit: 
https://lab.dpdk.org/results/dashboard/preferences/subscriptions/