From mboxrd@z Thu Jan  1 00:00:00 1970
Return-Path: <test-report-bounces@dpdk.org>
Received: from mails.dpdk.org (mails.dpdk.org [217.70.189.124])
	by inbox.dpdk.org (Postfix) with ESMTP id 3237345B9F
	for <public@inbox.dpdk.org>; Tue, 22 Oct 2024 12:43:45 +0200 (CEST)
Received: from mails.dpdk.org (localhost [127.0.0.1])
	by mails.dpdk.org (Postfix) with ESMTP id 2CB154029A;
	Tue, 22 Oct 2024 12:43:45 +0200 (CEST)
Received: from mail-qv1-f100.google.com (mail-qv1-f100.google.com
 [209.85.219.100])
 by mails.dpdk.org (Postfix) with ESMTP id 7375740273
 for <test-report@dpdk.org>; Tue, 22 Oct 2024 12:43:43 +0200 (CEST)
Received: by mail-qv1-f100.google.com with SMTP id
 6a1803df08f44-6cbc28f8e1bso40479096d6.0
 for <test-report@dpdk.org>; Tue, 22 Oct 2024 03:43:43 -0700 (PDT)
DKIM-Signature: v=1; a=rsa-sha256; c=relaxed/relaxed;
 d=iol.unh.edu; s=unh-iol; t=1729593823; x=1730198623; darn=dpdk.org;
 h=references:in-reply-to:cc:to:from:subject:message-id:date:from:to
 :cc:subject:date:message-id:reply-to;
 bh=NMWwgtve9+V7hgRuvC9hFL0VKC2FXUXlFuOVHl85C60=;
 b=UM5anMQrQVMQzrLBA34/YD6e2AHVN00HYvrqOzcPlnKFGBLC+zKmnZPSGO13yTrbXK
 t5+ONOiwjAuCmbXzEUOivA6STX4e6YiV2gPISaIQ+/zbOYP/m9XDseaa/l+5PYGv36Qn
 Idznl/Q9GlzPcmF0c8gfQY87RHOI6cB/ez7Ag=
X-Google-DKIM-Signature: v=1; a=rsa-sha256; c=relaxed/relaxed;
 d=1e100.net; s=20230601; t=1729593823; x=1730198623;
 h=references:in-reply-to:cc:to:from:subject:message-id:date
 :x-gm-message-state:from:to:cc:subject:date:message-id:reply-to;
 bh=NMWwgtve9+V7hgRuvC9hFL0VKC2FXUXlFuOVHl85C60=;
 b=efHjyS/JkXZWF2UYs8Z26MlpJS8LFMcaKTPbVmAKVngA2gUHDCCO0TLKhk+6/tvpxG
 MOmcGVrc68CKt9EPgHnuaEpRCZk85WHBchBohS1TSWq8GLV99hbDdNflEhTmtBn8+ld9
 zo0zMZXGR+sU0imXpsZlxk8Vv6Ob6ctVvbjwi9Z3BFxeoegpcHzppTyRtbDnDQHFUkkY
 yrQmfmPbTVHwShulQkpgc5fYe6boGtmdorKoMFnoo96BIIBSQslWKMMxahNSp7zF/hm3
 ZzbICsFrjmbEbSNW2hitcUPmtSNvjS4YAAja7R7yy3WEssuzT2nVausujiSoueUq0laP
 kLdQ==
X-Gm-Message-State: AOJu0YzLSpdSwlQ+DOpHbydK2mwZNGTpsEGJy8tLMn4UWE3JoKctdJhv
 AgAeziXncCr1oBj+/Uxyj84OJBfJZAtgJVClCpeCp523fItMoYxRYHta5aWTMi3hM2seuQ+CTvQ
 FgAesytGCpo4s6qrXotnkICcJLZ3RTrBCiHSMzRygRyEome3tL6gX4PWT
X-Google-Smtp-Source: AGHT+IH09UoP9pdPoJie/Ghcq3iuiTlruFBrtrk16ba/UCkTgEyiwNzVLA1IXYjWBg1hf0qP8AJn9B+m+xo/
X-Received: by 2002:a05:6214:4343:b0:6cc:255:2037 with SMTP id
 6a1803df08f44-6cde15318f8mr145818906d6.24.1729593822722; 
 Tue, 22 Oct 2024 03:43:42 -0700 (PDT)
Received: from postal.iol.unh.edu (postal.iol.unh.edu.
 [2606:4100:3880:1234::84]) by smtp-relay.gmail.com with ESMTPS id
 6a1803df08f44-6ce008fe331sm883946d6.28.2024.10.22.03.43.42
 (version=TLS1_2 cipher=ECDHE-ECDSA-AES128-GCM-SHA256 bits=128/128);
 Tue, 22 Oct 2024 03:43:42 -0700 (PDT)
X-Relaying-Domain: iol.unh.edu
Date: Tue, 22 Oct 2024 03:43:42 -0700 (PDT)
Message-ID: <671781de.0c0a0220.3cb05d.5c75SMTPIN_ADDED_MISSING@mx.google.com>
Received: from [172.17.0.3] (unknown [172.18.0.217])
 by postal.iol.unh.edu (Postfix) with ESMTP id 6D5666052472;
 Tue, 22 Oct 2024 06:43:42 -0400 (EDT)
Subject: |SUCCESS| pw146443-146446 [PATCH] [v3,4/4] buildtools/chkincs: check
From: dpdklab@iol.unh.edu
To: Test Report <test-report@dpdk.org>
Cc: dpdk-test-reports@iol.unh.edu
In-Reply-To: <20241021160447.3538245-5-david.marchand@redhat.com>
References: <20241021160447.3538245-5-david.marchand@redhat.com>
Content-Type: text/plain
X-BeenThere: test-report@dpdk.org
X-Mailman-Version: 2.1.29
Precedence: list
List-Id: automatic DPDK test reports <test-report.dpdk.org>
List-Unsubscribe: <https://mails.dpdk.org/options/test-report>,
 <mailto:test-report-request@dpdk.org?subject=unsubscribe>
List-Archive: <http://mails.dpdk.org/archives/test-report/>
List-Post: <mailto:test-report@dpdk.org>
List-Help: <mailto:test-report-request@dpdk.org?subject=help>
List-Subscribe: <https://mails.dpdk.org/listinfo/test-report>,
 <mailto:test-report-request@dpdk.org?subject=subscribe>
Errors-To: test-report-bounces@dpdk.org

Test-Label: iol-unit-amd64-testing
Test-Status: SUCCESS
http://dpdk.org/patch/146446

_Testing PASS_

Submitter: David Marchand <david.marchand@redhat.com>
Date: Monday, October 21 2024 16:04:47 
DPDK git baseline: Repo:dpdk
  Branch: master
  CommitID:cff6dba7ff8521df410b40399fd8aca5b450a05b

146443-146446 --> testing pass

Upstream job id: Generic-Unit-Test-DPDK#279992

Test environment and result as below:

+---------------------+----------------+
|     Environment     | dpdk_unit_test |
+=====================+================+
| Windows Server 2022 | PASS           |
+---------------------+----------------+
| CentOS Stream 9     | PASS           |
+---------------------+----------------+
| Debian Bullseye     | PASS           |
+---------------------+----------------+
| Debian 12           | PASS           |
+---------------------+----------------+
| Fedora 37           | PASS           |
+---------------------+----------------+
| Fedora 38           | PASS           |
+---------------------+----------------+
| Fedora 38 (Clang)   | PASS           |
+---------------------+----------------+
| Fedora 39           | PASS           |
+---------------------+----------------+
| Fedora 39 (Clang)   | PASS           |
+---------------------+----------------+
| Fedora 40           | PASS           |
+---------------------+----------------+
| Fedora 40 (Clang)   | PASS           |
+---------------------+----------------+
| RHEL8               | PASS           |
+---------------------+----------------+
| RHEL9               | PASS           |
+---------------------+----------------+
| Ubuntu 20.04        | PASS           |
+---------------------+----------------+
| Ubuntu 22.04        | PASS           |
+---------------------+----------------+
| Ubuntu 24.04        | PASS           |
+---------------------+----------------+


Windows Server 2022
	Kernel: 10.0.20348.2031
	Compiler: clang 15.0.7, gcc 14.1.0 (MinGW), and MSVC VS 19.39.33521

CentOS Stream 9
	Kernel: Depends on container host
	Compiler: gcc 11.4.1 20231218 (Red Hat 11.4.1-3)

Debian Bullseye
	Kernel: Depends on container host
	Compiler: gcc (Debian 10.2.1-6) 10.2.1 20210110

Debian 12
	Kernel: Depends on container host
	Compiler: gcc (Debian 12.2.0-14) 12.2.0

Fedora 37
	Kernel: Depends on container host system
	Compiler: gcc 12.3.1 20230508 (Red Hat 12.3.1-1)

Fedora 38
	Kernel: Depends on container host
	Compiler: gcc 13.2.1 20240316 (Red Hat 13.2.1-7)

Fedora 38 (Clang)
	Kernel: Depends on container host
	Compiler: clang 16.0.6 (Fedora 16.0.6-4.fc38)

Fedora 39
	Kernel: Depends on container host
	Compiler: gcc 13.3.1 20240522 (Red Hat 13.3.1-1)

Fedora 39 (Clang)
	Kernel: Depends on container host
	Compiler: clang 17.0.6 (Fedora 17.0.6-2.fc39)

Fedora 40
	Kernel: Depends on container host
	Compiler: gcc 14.2.1 20240801 (Red Hat 14.2.1-1)

Fedora 40 (Clang)
	Kernel: Depends on container host
	Compiler: clang 18.1.6 (Fedora 18.1.6-3.fc40)

RHEL8
	Kernel: Depends on container host
	Compiler: gcc 8.5.0 20210514 (Red Hat 8.5.0-22)

RHEL9
	Kernel: Depends on container host
	Compiler: gcc 11.4.1 20231218 (Red Hat 11.4.1-3)

Ubuntu 20.04
	Kernel: Depends on container host
	Compiler: gcc (Ubuntu 9.4.0-1ubuntu1~20.04.2) 9.4.0

Ubuntu 22.04
	Kernel: Depends on container host
	Compiler: gcc (Ubuntu 11.4.0-1ubuntu1~22.04) 11.4.0

Ubuntu 24.04
	Kernel: Depends on container host
	Compiler: gcc (Ubuntu 13.2.0-23ubuntu4) 13.2.0

To view detailed results, visit:
https://lab.dpdk.org/results/dashboard/patchsets/31578/

UNH-IOL DPDK Community Lab

To manage your email subscriptions, visit: 
https://lab.dpdk.org/results/dashboard/preferences/subscriptions/