From mboxrd@z Thu Jan  1 00:00:00 1970
Return-Path: <test-report-bounces@dpdk.org>
Received: from mails.dpdk.org (mails.dpdk.org [217.70.189.124])
	by inbox.dpdk.org (Postfix) with ESMTP id 7604245B9F
	for <public@inbox.dpdk.org>; Tue, 22 Oct 2024 13:04:11 +0200 (CEST)
Received: from mails.dpdk.org (localhost [127.0.0.1])
	by mails.dpdk.org (Postfix) with ESMTP id 707274029A;
	Tue, 22 Oct 2024 13:04:11 +0200 (CEST)
Received: from mail-pj1-f98.google.com (mail-pj1-f98.google.com
 [209.85.216.98]) by mails.dpdk.org (Postfix) with ESMTP id 51D9740273
 for <test-report@dpdk.org>; Tue, 22 Oct 2024 13:04:10 +0200 (CEST)
Received: by mail-pj1-f98.google.com with SMTP id
 98e67ed59e1d1-2e2bd347124so4015296a91.1
 for <test-report@dpdk.org>; Tue, 22 Oct 2024 04:04:10 -0700 (PDT)
DKIM-Signature: v=1; a=rsa-sha256; c=relaxed/relaxed;
 d=iol.unh.edu; s=unh-iol; t=1729595049; x=1730199849; darn=dpdk.org;
 h=references:in-reply-to:cc:to:from:subject:message-id:date:from:to
 :cc:subject:date:message-id:reply-to;
 bh=BGLhBaq1uQfjz9SXjFgmIsaWK4j7nlFfO3gXS+VYJP0=;
 b=UY9u0DMilIRmom9gacXs+illutGQdR5j6iFI4JMbnqNBC2UDwnnesBT7LzIYjvWe2P
 DSOftUm4CiNl/Srsl7WhnEA+ODRiqTQKuyw9utIeNJGact01s3IINk7+3pSblrvzDZI1
 OtRTeUXig2N+qT1tLBybZvnJ7d1yC5QKmlyFo=
X-Google-DKIM-Signature: v=1; a=rsa-sha256; c=relaxed/relaxed;
 d=1e100.net; s=20230601; t=1729595049; x=1730199849;
 h=references:in-reply-to:cc:to:from:subject:message-id:date
 :x-gm-message-state:from:to:cc:subject:date:message-id:reply-to;
 bh=BGLhBaq1uQfjz9SXjFgmIsaWK4j7nlFfO3gXS+VYJP0=;
 b=j0W0q4lxzom6zU1N2pbgifTOZ9O0d7n5P/WM3hEA4XznSOrDgoXCSBSvucO3Wdw/yE
 hHBng9bLc1iCSDCSgTi25MdzjRSncseWY5t99B03cT2hhITZ2IZCSGVHhh46tDAXRlos
 JBUkedEGtG8GbpLunVejkHdrXI/pK/bsYwzZQyjNm5eqQBnxDP6X7dnMuFCnDiNEnEip
 6OJttWNJA5ghYboSKv9LMFMMDsLjdIXC6LpdanBvOtP2H4FjjYjdwvaH840zeWtgJxCd
 yUNscoL39Fi/8o38JAFpEo9WYvqIcwYx9oBr2G3ckZViNxRH8V9WXH/rCnegPmzvxAiE
 tTUg==
X-Gm-Message-State: AOJu0Yx5/ogDjNfeolTeppNo3pD7yXBvrsiJfr9PuEdMrYwGoez6IAVi
 SA2N+A2QQ9HdrmKrEzkfuztkUQfvQeQAbHLnyFsTKPoHKKsmYpFoDCN8+lPrcpat/Msa8Yi3Oq0
 wQfF2vUqEf6gL2TPcoDt3phF5SY2gqNnbONilRmi56m5oMKGihsy7mYu2
X-Google-Smtp-Source: AGHT+IEIRv20DpUNxkVy1+wlAUf2Zk9c9z4Y/ALVnN5PGIdwQYHlmrw+MkQPgK/fJmD6DGQoZCdGqk5ZD9yc
X-Received: by 2002:a17:90a:4b48:b0:2e1:682b:361a with SMTP id
 98e67ed59e1d1-2e5616e6850mr17474351a91.28.1729595049416; 
 Tue, 22 Oct 2024 04:04:09 -0700 (PDT)
Received: from postal.iol.unh.edu (postal.iol.unh.edu.
 [2606:4100:3880:1234::84]) by smtp-relay.gmail.com with ESMTPS id
 d9443c01a7336-20e7f0b6030sm1682285ad.13.2024.10.22.04.04.09
 (version=TLS1_2 cipher=ECDHE-ECDSA-AES128-GCM-SHA256 bits=128/128);
 Tue, 22 Oct 2024 04:04:09 -0700 (PDT)
X-Relaying-Domain: iol.unh.edu
Date: Tue, 22 Oct 2024 04:04:09 -0700 (PDT)
Message-ID: <671786a9.170a0220.32ffff.ad46SMTPIN_ADDED_MISSING@mx.google.com>
Received: from [172.21.0.3] (unknown [172.18.0.240])
 by postal.iol.unh.edu (Postfix) with ESMTP id 947D86052471;
 Tue, 22 Oct 2024 07:04:08 -0400 (EDT)
Subject: |SUCCESS| pw145844 [PATCH] [v3] hash: separate param checks in hash 
From: dpdklab@iol.unh.edu
To: Test Report <test-report@dpdk.org>
Cc: dpdk-test-reports@iol.unh.edu
In-Reply-To: <20241014101916.2043948-1-niall.meade@intel.com>
References: <20241014101916.2043948-1-niall.meade@intel.com>
Content-Type: text/plain
X-BeenThere: test-report@dpdk.org
X-Mailman-Version: 2.1.29
Precedence: list
List-Id: automatic DPDK test reports <test-report.dpdk.org>
List-Unsubscribe: <https://mails.dpdk.org/options/test-report>,
 <mailto:test-report-request@dpdk.org?subject=unsubscribe>
List-Archive: <http://mails.dpdk.org/archives/test-report/>
List-Post: <mailto:test-report@dpdk.org>
List-Help: <mailto:test-report-request@dpdk.org?subject=help>
List-Subscribe: <https://mails.dpdk.org/listinfo/test-report>,
 <mailto:test-report-request@dpdk.org?subject=subscribe>
Errors-To: test-report-bounces@dpdk.org

Test-Label: iol-compile-arm64-testing
Test-Status: SUCCESS
http://dpdk.org/patch/145844

_Testing PASS RETEST #1_

Submitter: Meade, Niall <niall.meade@intel.com>
Date: Monday, October 14 2024 10:19:16 
DPDK git baseline: Repo:dpdk
  Branch: master
  CommitID:5f7b98189de733080656989d63b0e7ffd249830a

145844 --> testing pass

Upstream job id: Generic-DPDK-Compile-Meson#320407

Test environment and result as below:

+----------------------------------------+--------------------+
|              Environment               | dpdk_meson_compile |
+========================================+====================+
| RHEL9 (ARM)                            | PASS               |
+----------------------------------------+--------------------+
| Ubuntu 20.04 ARM SVE                   | PASS               |
+----------------------------------------+--------------------+
| Debian 12 with MUSDK                   | PASS               |
+----------------------------------------+--------------------+
| Fedora 37 (ARM)                        | PASS               |
+----------------------------------------+--------------------+
| Fedora 38 (ARM)                        | PASS               |
+----------------------------------------+--------------------+
| Fedora 38 (ARM Clang)                  | PASS               |
+----------------------------------------+--------------------+
| Fedora 39 (ARM)                        | PASS               |
+----------------------------------------+--------------------+
| Fedora 39 (ARM Clang)                  | PASS               |
+----------------------------------------+--------------------+
| Fedora 40 (ARM)                        | PASS               |
+----------------------------------------+--------------------+
| Fedora 40 (ARM Clang)                  | PASS               |
+----------------------------------------+--------------------+
| Ubuntu 20.04 (ARM)                     | PASS               |
+----------------------------------------+--------------------+
| Ubuntu 22.04 (ARM)                     | PASS               |
+----------------------------------------+--------------------+
| Ubuntu 24.04 (ARM)                     | PASS               |
+----------------------------------------+--------------------+
| CentOS Stream 9 (ARM)                  | PASS               |
+----------------------------------------+--------------------+
| Debian 11 (Buster) (ARM)               | PASS               |
+----------------------------------------+--------------------+
| Debian 12 (arm)                        | PASS               |
+----------------------------------------+--------------------+
| Ubuntu 20.04 ARM Clang Cross Compile   | PASS               |
+----------------------------------------+--------------------+
| Ubuntu 20.04 aarch32 GCC Cross Compile | PASS               |
+----------------------------------------+--------------------+
| Ubuntu 20.04 ARM GCC Cross Compile     | PASS               |
+----------------------------------------+--------------------+


RHEL9 (ARM)
	Kernel: Depends on container host
	Compiler: gcc 11.4.1 20231218 (Red Hat 11.4.1-3)

Ubuntu 20.04 ARM SVE
	Kernel: Depends on container host
	Compiler: gcc (Ubuntu 10.5.0-1ubuntu1~20.04) 10.5.0

Debian 12 with MUSDK
	Kernel: Depends on container host
	Compiler: gcc (Debian 12.2.0-14) 12.2.0

Fedora 37 (ARM)
	Kernel: Depends on container host
	Compiler: gcc 12.3.1 20230508 (Red Hat 12.3.1-1)

Fedora 38 (ARM)
	Kernel: Depends on container host
	Compiler: gcc 13.2.1 20240316 (Red Hat 13.2.1-7)

Fedora 38 (ARM Clang)
	Kernel: Depends on container host
	Compiler: clang 16.0.6 (Fedora 16.0.6-4.fc38)

Fedora 39 (ARM)
	Kernel: Depends on container host
	Compiler: gcc 13.3.1 20240522 (Red Hat 13.3.1-1)

Fedora 39 (ARM Clang)
	Kernel: Depends on container host
	Compiler: clang 17.0.6 (Fedora 17.0.6-2.fc39)

Fedora 40 (ARM)
	Kernel: Depends on container host
	Compiler: gcc 14.2.1 20240801 (Red Hat 14.2.1-1)

Fedora 40 (ARM Clang)
	Kernel: Depends on container host
	Compiler: clang 18.1.6 (Fedora 18.1.6-3.fc40)

Ubuntu 20.04 (ARM)
	Kernel: Depends on container host
	Compiler: gcc (Ubuntu 9.4.0-1ubuntu1~20.04.2) 9.4.0

Ubuntu 22.04 (ARM)
	Kernel: Depends on container host
	Compiler: gcc (Ubuntu 11.4.0-1ubuntu1~22.04) 11.4.0

Ubuntu 24.04 (ARM)
	Kernel: Depends on container host
	Compiler: gcc (Ubuntu 13.2.0-23ubuntu4) 13.2.0

CentOS Stream 9 (ARM)
	Kernel: Depends on container host
	Compiler: gcc 11.4.1 20231218 (Red Hat 11.4.1-3)

Debian 11 (Buster) (ARM)
	Kernel: Depends on container host
	Compiler: gcc (Debian 10.2.1-6) 10.2.1 20210110

Debian 12 (arm)
	Kernel: Depends on container host
	Compiler: gcc (Debian 12.2.0-14) 12.2.0

Ubuntu 20.04 ARM Clang Cross Compile
	Kernel: Depends on container host
	Compiler: clang 10.0.0-4ubuntu1

Ubuntu 20.04 aarch32 GCC Cross Compile
	Kernel: Depends on container host
	Compiler: gcc 9.4.0

Ubuntu 20.04 ARM GCC Cross Compile
	Kernel: Depends on container host
	Compiler: aarch64-linux-gnu-gcc (Ubuntu 9.4.0-1ubuntu1~20.04.2) 9.4.0

To view detailed results, visit:
https://lab.dpdk.org/results/dashboard/patchsets/31464/

UNH-IOL DPDK Community Lab

To manage your email subscriptions, visit: 
https://lab.dpdk.org/results/dashboard/preferences/subscriptions/