From mboxrd@z Thu Jan 1 00:00:00 1970 Return-Path: Received: from mails.dpdk.org (mails.dpdk.org [217.70.189.124]) by inbox.dpdk.org (Postfix) with ESMTP id 5F7EC45B9F for ; Tue, 22 Oct 2024 13:34:50 +0200 (CEST) Received: from mails.dpdk.org (localhost [127.0.0.1]) by mails.dpdk.org (Postfix) with ESMTP id 3A2B44029A; Tue, 22 Oct 2024 13:34:50 +0200 (CEST) Received: from mail-il1-f228.google.com (mail-il1-f228.google.com [209.85.166.228]) by mails.dpdk.org (Postfix) with ESMTP id 24D6240273 for ; Tue, 22 Oct 2024 13:34:49 +0200 (CEST) Received: by mail-il1-f228.google.com with SMTP id e9e14a558f8ab-3a3b4663e40so21724235ab.2 for ; Tue, 22 Oct 2024 04:34:49 -0700 (PDT) DKIM-Signature: v=1; a=rsa-sha256; c=relaxed/relaxed; d=iol.unh.edu; s=unh-iol; t=1729596888; x=1730201688; darn=dpdk.org; h=references:in-reply-to:cc:to:from:subject:message-id:date:from:to :cc:subject:date:message-id:reply-to; bh=3ZFb9xQadXNxzPrLR24jdHVTBGyQEuAQC0jkHq6rvkY=; b=C82dlpYcsK7PgyBIYhxJR2gr5yVrKKIwVcNDzzcOCmNiDvch7M9Y/5hoeBDyAqX1v9 DH6iaKy+DsWyncemLuOCyn40XSSiow/ySjQq/Sz9g7xITW5DqSpG1/FaAXR+Q4olDOho HC+qJDw1Nj3Hv3Z6wibYT2cy2KJJP/P6l4b/Q= X-Google-DKIM-Signature: v=1; a=rsa-sha256; c=relaxed/relaxed; d=1e100.net; s=20230601; t=1729596888; x=1730201688; h=references:in-reply-to:cc:to:from:subject:message-id:date :x-gm-message-state:from:to:cc:subject:date:message-id:reply-to; bh=3ZFb9xQadXNxzPrLR24jdHVTBGyQEuAQC0jkHq6rvkY=; b=n/Y6KOsn97zURcgiAgwqmKKdIJEjpRH/DIu3aqeNWwlqKNi97zMTldEa6WJ36Nw/Zk l8gql0TDlOYRA0LeQs9joXeFmhRqYrBOfYaRXDO0ZxRYWSIkoCBiI1vtLIorWfE+tDai MYWqddBi4Sx1a//iL9wXmLxQwo/VaXNC2Xsgyi7lDtWnsUes47eI+RiiPEoVIF1nokfL c1tZe7+mOuenGBKDcbNlNqLnS9ht8mWPVM38rYh4feX7yoI98CGdBxFkGO1w74Ta4HXL htf+bdvKRwGvAJUZwgs0Jr8TNIzA8iy4Zs+KmumWc2rMt8IoaIeqTYo4FP0DhGfJ7D/b Eo5A== X-Gm-Message-State: AOJu0YxdXgaBAdkxSpvc6e6x1wKdVZckU/TeQ5oihBwYspOncbpfpNV1 l3adjrfyEl5aq94cfUM2qtNTw5uobh6qIaiWdrATLe9hQlBqeiV+knr9+Og32BVDGGT366Sq+m+ UCPF6AkGrf2he6wCTWzb0vHI5X9z3VA+V5G1H/PAO X-Google-Smtp-Source: AGHT+IGSqnGt4Y4GGvzv06TYT6AtL4uk9t8A3+DCh+V5PMIsbf9j2a4G+vW0u2NIugwyJNAamq0DN7loe2aQ X-Received: by 2002:a05:6e02:2167:b0:3a3:4164:eec9 with SMTP id e9e14a558f8ab-3a3f406362cmr133613465ab.14.1729596888261; Tue, 22 Oct 2024 04:34:48 -0700 (PDT) Received: from postal.iol.unh.edu (postal.iol.unh.edu. [132.177.123.84]) by smtp-relay.gmail.com with ESMTPS id e9e14a558f8ab-3a400b9934csm2473365ab.77.2024.10.22.04.34.48 (version=TLS1_2 cipher=ECDHE-ECDSA-AES128-GCM-SHA256 bits=128/128); Tue, 22 Oct 2024 04:34:48 -0700 (PDT) X-Relaying-Domain: iol.unh.edu Date: Tue, 22 Oct 2024 04:34:48 -0700 (PDT) Message-ID: <67178dd8.920a0220.1f46f3.ffcfSMTPIN_ADDED_MISSING@mx.google.com> Received: from [172.17.0.4] (unknown [172.18.0.217]) by postal.iol.unh.edu (Postfix) with ESMTP id B6EA46052471; Tue, 22 Oct 2024 07:34:47 -0400 (EDT) Subject: |SUCCESS| pw145708 [PATCH] doc: correct definition of Stats per queu From: dpdklab@iol.unh.edu To: Test Report Cc: dpdk-test-reports@iol.unh.edu In-Reply-To: <20241011013827.5945-1-stephen@networkplumber.org> References: <20241011013827.5945-1-stephen@networkplumber.org> Content-Type: text/plain X-BeenThere: test-report@dpdk.org X-Mailman-Version: 2.1.29 Precedence: list List-Id: automatic DPDK test reports List-Unsubscribe: , List-Archive: List-Post: List-Help: List-Subscribe: , Errors-To: test-report-bounces@dpdk.org Test-Label: iol-compile-arm64-testing Test-Status: SUCCESS http://dpdk.org/patch/145708 _Testing PASS_ Submitter: Stephen Hemminger Date: Friday, October 11 2024 01:38:27 DPDK git baseline: Repo:dpdk Branch: master CommitID:d8381a8f54cdc789c4260efefb5a17b9612f417e 145708 --> testing pass Upstream job id: Generic-DPDK-Compile-Meson#320906 Test environment and result as below: +----------------------------------------+--------------------+ | Environment | dpdk_meson_compile | +========================================+====================+ | RHEL9 (ARM) | PASS | +----------------------------------------+--------------------+ | Ubuntu 22.04 (ARM) | PASS | +----------------------------------------+--------------------+ | Ubuntu 24.04 (ARM) | PASS | +----------------------------------------+--------------------+ | CentOS Stream 9 (ARM) | PASS | +----------------------------------------+--------------------+ | Debian 11 (Buster) (ARM) | PASS | +----------------------------------------+--------------------+ | Debian 12 (arm) | PASS | +----------------------------------------+--------------------+ | Ubuntu 20.04 ARM Clang Cross Compile | PASS | +----------------------------------------+--------------------+ | Ubuntu 20.04 aarch32 GCC Cross Compile | PASS | +----------------------------------------+--------------------+ | Fedora 40 (ARM) | PASS | +----------------------------------------+--------------------+ RHEL9 (ARM) Kernel: Depends on container host Compiler: gcc 11.4.1 20231218 (Red Hat 11.4.1-3) Ubuntu 22.04 (ARM) Kernel: Depends on container host Compiler: gcc (Ubuntu 11.4.0-1ubuntu1~22.04) 11.4.0 Ubuntu 24.04 (ARM) Kernel: Depends on container host Compiler: gcc (Ubuntu 13.2.0-23ubuntu4) 13.2.0 CentOS Stream 9 (ARM) Kernel: Depends on container host Compiler: gcc 11.4.1 20231218 (Red Hat 11.4.1-3) Debian 11 (Buster) (ARM) Kernel: Depends on container host Compiler: gcc (Debian 10.2.1-6) 10.2.1 20210110 Debian 12 (arm) Kernel: Depends on container host Compiler: gcc (Debian 12.2.0-14) 12.2.0 Ubuntu 20.04 ARM Clang Cross Compile Kernel: Depends on container host Compiler: clang 10.0.0-4ubuntu1 Ubuntu 20.04 aarch32 GCC Cross Compile Kernel: Depends on container host Compiler: gcc 9.4.0 Fedora 40 (ARM) Kernel: Depends on container host Compiler: gcc 14.2.1 20240801 (Red Hat 14.2.1-1) To view detailed results, visit: https://lab.dpdk.org/results/dashboard/patchsets/31419/ UNH-IOL DPDK Community Lab To manage your email subscriptions, visit: https://lab.dpdk.org/results/dashboard/preferences/subscriptions/