From mboxrd@z Thu Jan  1 00:00:00 1970
Return-Path: <test-report-bounces@dpdk.org>
Received: from mails.dpdk.org (mails.dpdk.org [217.70.189.124])
	by inbox.dpdk.org (Postfix) with ESMTP id 4B8A645BA0
	for <public@inbox.dpdk.org>; Tue, 22 Oct 2024 14:27:31 +0200 (CEST)
Received: from mails.dpdk.org (localhost [127.0.0.1])
	by mails.dpdk.org (Postfix) with ESMTP id 4729540661;
	Tue, 22 Oct 2024 14:27:31 +0200 (CEST)
Received: from mail-ot1-f97.google.com (mail-ot1-f97.google.com
 [209.85.210.97]) by mails.dpdk.org (Postfix) with ESMTP id BB97F402E7
 for <test-report@dpdk.org>; Tue, 22 Oct 2024 14:27:30 +0200 (CEST)
Received: by mail-ot1-f97.google.com with SMTP id
 46e09a7af769-718066adb47so3115371a34.0
 for <test-report@dpdk.org>; Tue, 22 Oct 2024 05:27:30 -0700 (PDT)
DKIM-Signature: v=1; a=rsa-sha256; c=relaxed/relaxed;
 d=iol.unh.edu; s=unh-iol; t=1729600050; x=1730204850; darn=dpdk.org;
 h=references:in-reply-to:cc:to:from:subject:message-id:date:from:to
 :cc:subject:date:message-id:reply-to;
 bh=4/aI3I1B8Q6wtAsKWYVNRdESEcawYwjr+Mxe8Me1ILw=;
 b=ByCkOnwi9iply+x96s/717BwvvM2KwU3JaVWdlxC+4PbgXvg21JQKb96DkMUbY7RfT
 ymPdZJHjoCv8rcSe2DStxHmj8uNKkhi6RWR7MMWSEDLNIecGCr8TKKz/4S5PP+0Aj66b
 hlBYUgrquhRt4RE2P1SEQ8NWBC/Md/BGPqH94=
X-Google-DKIM-Signature: v=1; a=rsa-sha256; c=relaxed/relaxed;
 d=1e100.net; s=20230601; t=1729600050; x=1730204850;
 h=references:in-reply-to:cc:to:from:subject:message-id:date
 :x-gm-message-state:from:to:cc:subject:date:message-id:reply-to;
 bh=4/aI3I1B8Q6wtAsKWYVNRdESEcawYwjr+Mxe8Me1ILw=;
 b=NxYtGuBusQGrB2KiJuCoee7apjQpuNm6m+UGoBfyAwPmEQGG9sCfraMu9fZLZMKQ6o
 7bHhgqGs/i6EWjZXg/ZOXRkp2CCvjF4d8rMcxEi9wgD5TAoFgUigsbWtFzrDOSrOB1db
 58Z0Gw7YQ21fVOSpP63HFQs9w+wA2QjtlLKHI2VbH66LAlyXHICjJDg1NeF4JvYm6GXq
 17ngt8OxRUaZXJvYGub7oa3SndLTxT6VHrT7NrtVtjd+NK5OPwhUz4bFwSsp7HU4zgIu
 iRqULtLd8mI63/AO107KSeiAtE9svKpp8729YSwTC440gvMaqaNNIjoEHI5hDBUDWiHj
 CUDg==
X-Gm-Message-State: AOJu0YzNDOQ/nda54NxgK8V+JjkY+mkVHY4JEkq/nVHrhgV2MpX0v10l
 Qh2q7rd+2nxQGjJ5kyMPCoDdi5LUe3zUSBGBRyheyJLdPl3XO3sKAXQ4L7iHKtQIg3WSNIsqzVZ
 vKLKGo1ie3q9f679RyUFAcKS7Ii06skSjyNVdUikR6sLMJppMFyssDwze
X-Google-Smtp-Source: AGHT+IEDgFfgaTLVURxGdm+lqTesdkQaXtLN35Gn1ERgxASng0vi+DweZWogWTyDyh0duUPQA2EcLeo6E0Le
X-Received: by 2002:a05:6830:43a1:b0:718:14ca:2fdc with SMTP id
 46e09a7af769-7181a8a591dmr13422351a34.22.1729600050077; 
 Tue, 22 Oct 2024 05:27:30 -0700 (PDT)
Received: from postal.iol.unh.edu (postal.iol.unh.edu.
 [2606:4100:3880:1234::84]) by smtp-relay.gmail.com with ESMTPS id
 6a1803df08f44-6ce0099c1f7sm854576d6.54.2024.10.22.05.27.29
 (version=TLS1_2 cipher=ECDHE-ECDSA-AES128-GCM-SHA256 bits=128/128);
 Tue, 22 Oct 2024 05:27:30 -0700 (PDT)
X-Relaying-Domain: iol.unh.edu
Date: Tue, 22 Oct 2024 05:27:30 -0700 (PDT)
Message-ID: <67179a32.0c0a0220.9e1ab.586fSMTPIN_ADDED_MISSING@mx.google.com>
Received: from [172.21.0.3] (unknown [172.18.0.240])
 by postal.iol.unh.edu (Postfix) with ESMTP id C69396052471;
 Tue, 22 Oct 2024 08:27:29 -0400 (EDT)
Subject: |SUCCESS| pw145914 [PATCH] [v01] net/af_packet: support link status 
From: dpdklab@iol.unh.edu
To: Test Report <test-report@dpdk.org>
Cc: dpdk-test-reports@iol.unh.edu
In-Reply-To: <330d6b3cea8a28688e9b58ea4a02ca68ac3aab96.1728829107.git.gur.stavi@huawei.com>
References: <330d6b3cea8a28688e9b58ea4a02ca68ac3aab96.1728829107.git.gur.stavi@huawei.com>
Content-Type: text/plain
X-BeenThere: test-report@dpdk.org
X-Mailman-Version: 2.1.29
Precedence: list
List-Id: automatic DPDK test reports <test-report.dpdk.org>
List-Unsubscribe: <https://mails.dpdk.org/options/test-report>,
 <mailto:test-report-request@dpdk.org?subject=unsubscribe>
List-Archive: <http://mails.dpdk.org/archives/test-report/>
List-Post: <mailto:test-report@dpdk.org>
List-Help: <mailto:test-report-request@dpdk.org?subject=help>
List-Subscribe: <https://mails.dpdk.org/listinfo/test-report>,
 <mailto:test-report-request@dpdk.org?subject=subscribe>
Errors-To: test-report-bounces@dpdk.org

Test-Label: iol-compile-arm64-testing
Test-Status: SUCCESS
http://dpdk.org/patch/145914

_Testing PASS_

Submitter: Gur Stavi <gur.stavi@huawei.com>
Date: Sunday, October 13 2024 14:29:23 
DPDK git baseline: Repo:dpdk
  Branch: master
  CommitID:f2e424aeb6edf8c4990abf266aaa8814a8050616

145914 --> testing pass

Upstream job id: Generic-DPDK-Compile-Meson#320826

Test environment and result as below:

+----------------------------------------+--------------------+
|              Environment               | dpdk_meson_compile |
+========================================+====================+
| RHEL9 (ARM)                            | PASS               |
+----------------------------------------+--------------------+
| Ubuntu 20.04 ARM GCC Cross Compile     | PASS               |
+----------------------------------------+--------------------+
| Ubuntu 20.04 ARM SVE                   | PASS               |
+----------------------------------------+--------------------+
| Debian 12 with MUSDK                   | PASS               |
+----------------------------------------+--------------------+
| Fedora 37 (ARM)                        | PASS               |
+----------------------------------------+--------------------+
| Fedora 38 (ARM Clang)                  | PASS               |
+----------------------------------------+--------------------+
| Fedora 39 (ARM)                        | PASS               |
+----------------------------------------+--------------------+
| Fedora 39 (ARM Clang)                  | PASS               |
+----------------------------------------+--------------------+
| Fedora 40 (ARM)                        | PASS               |
+----------------------------------------+--------------------+
| Fedora 40 (ARM Clang)                  | PASS               |
+----------------------------------------+--------------------+
| Ubuntu 24.04 (ARM)                     | PASS               |
+----------------------------------------+--------------------+
| Debian 11 (Buster) (ARM)               | PASS               |
+----------------------------------------+--------------------+
| Debian 12 (arm)                        | PASS               |
+----------------------------------------+--------------------+
| Ubuntu 20.04 ARM Clang Cross Compile   | PASS               |
+----------------------------------------+--------------------+
| Ubuntu 20.04 aarch32 GCC Cross Compile | PASS               |
+----------------------------------------+--------------------+
| Fedora 38 (ARM)                        | PASS               |
+----------------------------------------+--------------------+
| Ubuntu 20.04 (ARM)                     | PASS               |
+----------------------------------------+--------------------+
| CentOS Stream 9 (ARM)                  | PASS               |
+----------------------------------------+--------------------+
| Ubuntu 22.04 (ARM)                     | PASS               |
+----------------------------------------+--------------------+


RHEL9 (ARM)
	Kernel: Depends on container host
	Compiler: gcc 11.4.1 20231218 (Red Hat 11.4.1-3)

Ubuntu 20.04 ARM GCC Cross Compile
	Kernel: Depends on container host
	Compiler: aarch64-linux-gnu-gcc (Ubuntu 9.4.0-1ubuntu1~20.04.2) 9.4.0

Ubuntu 20.04 ARM SVE
	Kernel: Depends on container host
	Compiler: gcc (Ubuntu 10.5.0-1ubuntu1~20.04) 10.5.0

Debian 12 with MUSDK
	Kernel: Depends on container host
	Compiler: gcc (Debian 12.2.0-14) 12.2.0

Fedora 37 (ARM)
	Kernel: Depends on container host
	Compiler: gcc 12.3.1 20230508 (Red Hat 12.3.1-1)

Fedora 38 (ARM Clang)
	Kernel: Depends on container host
	Compiler: clang 16.0.6 (Fedora 16.0.6-4.fc38)

Fedora 39 (ARM)
	Kernel: Depends on container host
	Compiler: gcc 13.3.1 20240522 (Red Hat 13.3.1-1)

Fedora 39 (ARM Clang)
	Kernel: Depends on container host
	Compiler: clang 17.0.6 (Fedora 17.0.6-2.fc39)

Fedora 40 (ARM)
	Kernel: Depends on container host
	Compiler: gcc 14.2.1 20240801 (Red Hat 14.2.1-1)

Fedora 40 (ARM Clang)
	Kernel: Depends on container host
	Compiler: clang 18.1.6 (Fedora 18.1.6-3.fc40)

Ubuntu 24.04 (ARM)
	Kernel: Depends on container host
	Compiler: gcc (Ubuntu 13.2.0-23ubuntu4) 13.2.0

Debian 11 (Buster) (ARM)
	Kernel: Depends on container host
	Compiler: gcc (Debian 10.2.1-6) 10.2.1 20210110

Debian 12 (arm)
	Kernel: Depends on container host
	Compiler: gcc (Debian 12.2.0-14) 12.2.0

Ubuntu 20.04 ARM Clang Cross Compile
	Kernel: Depends on container host
	Compiler: clang 10.0.0-4ubuntu1

Ubuntu 20.04 aarch32 GCC Cross Compile
	Kernel: Depends on container host
	Compiler: gcc 9.4.0

Fedora 38 (ARM)
	Kernel: Depends on container host
	Compiler: gcc 13.2.1 20240316 (Red Hat 13.2.1-7)

Ubuntu 20.04 (ARM)
	Kernel: Depends on container host
	Compiler: gcc (Ubuntu 9.4.0-1ubuntu1~20.04.2) 9.4.0

CentOS Stream 9 (ARM)
	Kernel: Depends on container host
	Compiler: gcc 11.4.1 20231218 (Red Hat 11.4.1-3)

Ubuntu 22.04 (ARM)
	Kernel: Depends on container host
	Compiler: gcc (Ubuntu 11.4.0-1ubuntu1~22.04) 11.4.0

To view detailed results, visit:
https://lab.dpdk.org/results/dashboard/patchsets/31475/

UNH-IOL DPDK Community Lab

To manage your email subscriptions, visit: 
https://lab.dpdk.org/results/dashboard/preferences/subscriptions/