From mboxrd@z Thu Jan  1 00:00:00 1970
Return-Path: <test-report-bounces@dpdk.org>
Received: from mails.dpdk.org (mails.dpdk.org [217.70.189.124])
	by inbox.dpdk.org (Postfix) with ESMTP id 06D5445A68
	for <public@inbox.dpdk.org>; Tue, 22 Oct 2024 20:19:15 +0200 (CEST)
Received: from mails.dpdk.org (localhost [127.0.0.1])
	by mails.dpdk.org (Postfix) with ESMTP id D1D504029B;
	Tue, 22 Oct 2024 20:19:14 +0200 (CEST)
Received: from mail-pl1-f228.google.com (mail-pl1-f228.google.com
 [209.85.214.228])
 by mails.dpdk.org (Postfix) with ESMTP id 5F14240272
 for <test-report@dpdk.org>; Tue, 22 Oct 2024 20:19:13 +0200 (CEST)
Received: by mail-pl1-f228.google.com with SMTP id
 d9443c01a7336-20cdda5cfb6so61660695ad.3
 for <test-report@dpdk.org>; Tue, 22 Oct 2024 11:19:13 -0700 (PDT)
DKIM-Signature: v=1; a=rsa-sha256; c=relaxed/relaxed;
 d=iol.unh.edu; s=unh-iol; t=1729621152; x=1730225952; darn=dpdk.org;
 h=references:in-reply-to:cc:to:from:subject:message-id:date:from:to
 :cc:subject:date:message-id:reply-to;
 bh=j9Rm8MnZf7gMxTtHD7XrLDWFGsRjfmDI6/jHJxrTEjo=;
 b=XyGj0Uvz3w348rWtHS3UIfA0rxbiriqJnVcxglW/onuZiB9fBhEvZ8g/okvpeBgZjj
 qfskEHLooZzao+CEngCUOE+d0/jbdhyplW60xOdAD/YjBhOC6q4kn14o5dRs6ITp5Jbd
 VLyZAvnEFpcAuxVauMUeR09bV5Tp4wCHX+aQg=
X-Google-DKIM-Signature: v=1; a=rsa-sha256; c=relaxed/relaxed;
 d=1e100.net; s=20230601; t=1729621152; x=1730225952;
 h=references:in-reply-to:cc:to:from:subject:message-id:date
 :x-gm-message-state:from:to:cc:subject:date:message-id:reply-to;
 bh=j9Rm8MnZf7gMxTtHD7XrLDWFGsRjfmDI6/jHJxrTEjo=;
 b=M0rofoQSCo4eWmGC5VXbJDNjB46wmrXn7fvnHXH+waN0Q+8oAS0jmEUSIEbUt7VtA9
 QWMGm5dl8FWWQPrl/Y0dZqEwNsewMLlQqCN/5ZBlXPUMu0AMxkafyTS1umkH4aUupKK4
 zWcIySYAgs9gOzFDBzHLTDp8PgiHsjj0x9ZtfjqDHCVQqjhLd8v/5oCEDAULUhk204l0
 809rYvlKvYTXkMGgUuZef7m/kqyFpAIDWL+xHzR/JuoOZO5hODbPWnnZEN/wevQWYl12
 dWsaWCqp52cWFbsCY4zak8P0QoVudXNU/luvr277sBtOKY4iMqgrMMHLykX064LS+P6b
 P/1w==
X-Gm-Message-State: AOJu0YwhaMO9n7UkhpEKbLkW0x6SkBYHGr3EjV5keRdGT64aWBQif0c4
 lG80wXmdRyGYOzAOtLmhDy1ldsbXIJwW6vWjAFhrLHkjo32IhwVloG0+r8YS2gt5N+8w1OPpe0o
 4g9GvrunKRb5G5e0yuQxStBO+MNcDlGgxs5hZ78kB
X-Google-Smtp-Source: AGHT+IGqB/H7N/S2LJEtfemQGpK6FBkzDf6DHO9TC7Xmk6Mo7woCkQwOotn/cYoE8nGlNI0pHfgTvaYzQJ48
X-Received: by 2002:a17:902:cec2:b0:20c:7ee8:fc3c with SMTP id
 d9443c01a7336-20fa9e4ad82mr489085ad.22.1729621152124; 
 Tue, 22 Oct 2024 11:19:12 -0700 (PDT)
Received: from postal.iol.unh.edu (postal.iol.unh.edu. [132.177.123.84])
 by smtp-relay.gmail.com with ESMTPS id
 d9443c01a7336-20e7f0ce08asm1867715ad.44.2024.10.22.11.19.12
 (version=TLS1_2 cipher=ECDHE-ECDSA-AES128-GCM-SHA256 bits=128/128);
 Tue, 22 Oct 2024 11:19:12 -0700 (PDT)
X-Relaying-Domain: iol.unh.edu
Date: Tue, 22 Oct 2024 11:19:12 -0700 (PDT)
Message-ID: <6717eca0.170a0220.3ac99c.bd48SMTPIN_ADDED_MISSING@mx.google.com>
Received: from [172.21.0.3] (unknown [172.18.0.240])
 by postal.iol.unh.edu (Postfix) with ESMTP id 919646052471;
 Tue, 22 Oct 2024 14:19:11 -0400 (EDT)
Subject: |SUCCESS| pw146339-146340 [PATCH] [RFC,v3,2/2] ethdev: introduce the
From: dpdklab@iol.unh.edu
To: Test Report <test-report@dpdk.org>
Cc: dpdk-test-reports@iol.unh.edu
In-Reply-To: <20241021015246.304431-3-wathsala.vithanage@arm.com>
References: <20241021015246.304431-3-wathsala.vithanage@arm.com>
Content-Type: text/plain
X-BeenThere: test-report@dpdk.org
X-Mailman-Version: 2.1.29
Precedence: list
List-Id: automatic DPDK test reports <test-report.dpdk.org>
List-Unsubscribe: <https://mails.dpdk.org/options/test-report>,
 <mailto:test-report-request@dpdk.org?subject=unsubscribe>
List-Archive: <http://mails.dpdk.org/archives/test-report/>
List-Post: <mailto:test-report@dpdk.org>
List-Help: <mailto:test-report-request@dpdk.org?subject=help>
List-Subscribe: <https://mails.dpdk.org/listinfo/test-report>,
 <mailto:test-report-request@dpdk.org?subject=subscribe>
Errors-To: test-report-bounces@dpdk.org

Test-Label: iol-compile-arm64-testing
Test-Status: SUCCESS
http://dpdk.org/patch/146340

_Testing PASS_

Submitter: Wathsala Wathawana Vithanage <wathsala.vithanage@arm.com>
Date: Monday, October 21 2024 01:52:46 
DPDK git baseline: Repo:dpdk
  Branch: master
  CommitID:5bb17458f32befba8a2cccd9553ea65cd8b99581

146339-146340 --> testing pass

Upstream job id: Generic-DPDK-Compile-Meson#320990

Test environment and result as below:

+----------------------------------------+--------------------+
|              Environment               | dpdk_meson_compile |
+========================================+====================+
| RHEL9 (ARM)                            | PASS               |
+----------------------------------------+--------------------+
| Ubuntu 20.04 ARM GCC Cross Compile     | PASS               |
+----------------------------------------+--------------------+
| Ubuntu 20.04 ARM SVE                   | PASS               |
+----------------------------------------+--------------------+
| Debian 12 with MUSDK                   | PASS               |
+----------------------------------------+--------------------+
| Fedora 37 (ARM)                        | PASS               |
+----------------------------------------+--------------------+
| Fedora 38 (ARM)                        | PASS               |
+----------------------------------------+--------------------+
| Fedora 38 (ARM Clang)                  | PASS               |
+----------------------------------------+--------------------+
| Fedora 39 (ARM)                        | PASS               |
+----------------------------------------+--------------------+
| Fedora 39 (ARM Clang)                  | PASS               |
+----------------------------------------+--------------------+
| Fedora 40 (ARM)                        | PASS               |
+----------------------------------------+--------------------+
| Fedora 40 (ARM Clang)                  | PASS               |
+----------------------------------------+--------------------+
| Ubuntu 20.04 (ARM)                     | PASS               |
+----------------------------------------+--------------------+
| Ubuntu 22.04 (ARM)                     | PASS               |
+----------------------------------------+--------------------+
| Ubuntu 24.04 (ARM)                     | PASS               |
+----------------------------------------+--------------------+
| CentOS Stream 9 (ARM)                  | PASS               |
+----------------------------------------+--------------------+
| Debian 11 (Buster) (ARM)               | PASS               |
+----------------------------------------+--------------------+
| Debian 12 (arm)                        | PASS               |
+----------------------------------------+--------------------+
| Ubuntu 20.04 ARM Clang Cross Compile   | PASS               |
+----------------------------------------+--------------------+
| Ubuntu 20.04 aarch32 GCC Cross Compile | PASS               |
+----------------------------------------+--------------------+


RHEL9 (ARM)
	Kernel: Depends on container host
	Compiler: gcc 11.4.1 20231218 (Red Hat 11.4.1-3)

Ubuntu 20.04 ARM GCC Cross Compile
	Kernel: Depends on container host
	Compiler: aarch64-linux-gnu-gcc (Ubuntu 9.4.0-1ubuntu1~20.04.2) 9.4.0

Ubuntu 20.04 ARM SVE
	Kernel: Depends on container host
	Compiler: gcc (Ubuntu 10.5.0-1ubuntu1~20.04) 10.5.0

Debian 12 with MUSDK
	Kernel: Depends on container host
	Compiler: gcc (Debian 12.2.0-14) 12.2.0

Fedora 37 (ARM)
	Kernel: Depends on container host
	Compiler: gcc 12.3.1 20230508 (Red Hat 12.3.1-1)

Fedora 38 (ARM)
	Kernel: Depends on container host
	Compiler: gcc 13.2.1 20240316 (Red Hat 13.2.1-7)

Fedora 38 (ARM Clang)
	Kernel: Depends on container host
	Compiler: clang 16.0.6 (Fedora 16.0.6-4.fc38)

Fedora 39 (ARM)
	Kernel: Depends on container host
	Compiler: gcc 13.3.1 20240522 (Red Hat 13.3.1-1)

Fedora 39 (ARM Clang)
	Kernel: Depends on container host
	Compiler: clang 17.0.6 (Fedora 17.0.6-2.fc39)

Fedora 40 (ARM)
	Kernel: Depends on container host
	Compiler: gcc 14.2.1 20240801 (Red Hat 14.2.1-1)

Fedora 40 (ARM Clang)
	Kernel: Depends on container host
	Compiler: clang 18.1.6 (Fedora 18.1.6-3.fc40)

Ubuntu 20.04 (ARM)
	Kernel: Depends on container host
	Compiler: gcc (Ubuntu 9.4.0-1ubuntu1~20.04.2) 9.4.0

Ubuntu 22.04 (ARM)
	Kernel: Depends on container host
	Compiler: gcc (Ubuntu 11.4.0-1ubuntu1~22.04) 11.4.0

Ubuntu 24.04 (ARM)
	Kernel: Depends on container host
	Compiler: gcc (Ubuntu 13.2.0-23ubuntu4) 13.2.0

CentOS Stream 9 (ARM)
	Kernel: Depends on container host
	Compiler: gcc 11.4.1 20231218 (Red Hat 11.4.1-3)

Debian 11 (Buster) (ARM)
	Kernel: Depends on container host
	Compiler: gcc (Debian 10.2.1-6) 10.2.1 20210110

Debian 12 (arm)
	Kernel: Depends on container host
	Compiler: gcc (Debian 12.2.0-14) 12.2.0

Ubuntu 20.04 ARM Clang Cross Compile
	Kernel: Depends on container host
	Compiler: clang 10.0.0-4ubuntu1

Ubuntu 20.04 aarch32 GCC Cross Compile
	Kernel: Depends on container host
	Compiler: gcc 9.4.0

To view detailed results, visit:
https://lab.dpdk.org/results/dashboard/patchsets/31563/

UNH-IOL DPDK Community Lab

To manage your email subscriptions, visit: 
https://lab.dpdk.org/results/dashboard/preferences/subscriptions/