From mboxrd@z Thu Jan  1 00:00:00 1970
Return-Path: <test-report-bounces@dpdk.org>
Received: from mails.dpdk.org (mails.dpdk.org [217.70.189.124])
	by inbox.dpdk.org (Postfix) with ESMTP id 05ECD45BAA
	for <public@inbox.dpdk.org>; Wed, 23 Oct 2024 06:59:07 +0200 (CEST)
Received: from mails.dpdk.org (localhost [127.0.0.1])
	by mails.dpdk.org (Postfix) with ESMTP id DB7F5402E1;
	Wed, 23 Oct 2024 06:59:06 +0200 (CEST)
Received: from mail-qv1-f99.google.com (mail-qv1-f99.google.com
 [209.85.219.99]) by mails.dpdk.org (Postfix) with ESMTP id 470914026C
 for <test-report@dpdk.org>; Wed, 23 Oct 2024 06:59:05 +0200 (CEST)
Received: by mail-qv1-f99.google.com with SMTP id
 6a1803df08f44-6cbcd49b833so37858386d6.3
 for <test-report@dpdk.org>; Tue, 22 Oct 2024 21:59:05 -0700 (PDT)
DKIM-Signature: v=1; a=rsa-sha256; c=relaxed/relaxed;
 d=iol.unh.edu; s=unh-iol; t=1729659544; x=1730264344; darn=dpdk.org;
 h=references:in-reply-to:cc:to:from:subject:message-id:date:from:to
 :cc:subject:date:message-id:reply-to;
 bh=GZIhdiLADyUQIIf6eyYespHUdRvIIBxaAAcKgCgkSZo=;
 b=PMtnROvaE7pEBMnwSognh2fzncE/Qg9rYvDDbNSzqLZhJIpM1A8YZxEE5cSy6OFzKA
 urVkluLGuCUj2PSeSv9HnC5F+iKLtLoe8d9g9/GdSCeaBJpM9os77Ern+hchcfe+75Aq
 fLx2astCBt6HBLP8/9Mvqw0eHd5bRVgh0SNiQ=
X-Google-DKIM-Signature: v=1; a=rsa-sha256; c=relaxed/relaxed;
 d=1e100.net; s=20230601; t=1729659544; x=1730264344;
 h=references:in-reply-to:cc:to:from:subject:message-id:date
 :x-gm-message-state:from:to:cc:subject:date:message-id:reply-to;
 bh=GZIhdiLADyUQIIf6eyYespHUdRvIIBxaAAcKgCgkSZo=;
 b=b4Uf486bosBdog/YRkpl+osc33NG8RXTCTl1va9vjB+4OOtrV0T5448GOmHrZJJML5
 gGGPWxzTP2sI4Ub3LYkHJIFRBs6qQ0Rb110ObzhFD4QuD6qjGgFIueTg0a1xDml6Xi8/
 yG3zRDZhLqfoatvCvFKUJ7zaDQPZ+fUQsOEhT5b2Ha/Hx+jPPaDv/tWQ4PICVFcMFVrf
 7Jvtu3oqY8P9PfmnDCY+el2sCY0zfyeT8BPywuA4K6rtnbZNXH9VrfOI2DfeObwjJ7sz
 Q6zRHrV9ROlq3G7jw52pgS67teXwtIBU4JfQrzZVtaFnWzCN6Z8plj6ljkBvJU+R/8TI
 cTZg==
X-Gm-Message-State: AOJu0Yy5V7H0P8jllQ1yzAYdpdKQmTy6cwKVmLDBEaYg9jUOHLIrV5rG
 Zl5+uie4bDQz5YQAXec5gas9TI5ZVJc0T590J9yEol8U/+bGhuKfcQB0d04TzzqD0jQw74CqopO
 2pjvc/3clRaxn5QpAWMqrDDQsOFzDUOaVBU9e2muZ
X-Google-Smtp-Source: AGHT+IFAAITguNgkav/BQZAgVAurFMBGRDvfZydmHIjTIV5tcK0Kicq/9CJl0mBR9dJdpp1CyHAcxPQSFspb
X-Received: by 2002:a05:6214:4804:b0:6cb:ec6a:7d52 with SMTP id
 6a1803df08f44-6ce34268e31mr26371676d6.31.1729659544569; 
 Tue, 22 Oct 2024 21:59:04 -0700 (PDT)
Received: from postal.iol.unh.edu (postal.iol.unh.edu. [132.177.123.84])
 by smtp-relay.gmail.com with ESMTPS id
 6a1803df08f44-6ce008b251bsm1452076d6.8.2024.10.22.21.59.04
 (version=TLS1_2 cipher=ECDHE-ECDSA-AES128-GCM-SHA256 bits=128/128);
 Tue, 22 Oct 2024 21:59:04 -0700 (PDT)
X-Relaying-Domain: iol.unh.edu
Date: Tue, 22 Oct 2024 21:59:04 -0700 (PDT)
Message-ID: <67188298.0c0a0220.3b0fc7.9832SMTPIN_ADDED_MISSING@mx.google.com>
Received: from [172.17.0.3] (unknown [172.18.0.217])
 by postal.iol.unh.edu (Postfix) with ESMTP id 463676052471;
 Wed, 23 Oct 2024 00:59:04 -0400 (EDT)
Subject: |SUCCESS| pw146431-146412 [PATCH] [10/10] eventdev: remove single ev
From: dpdklab@iol.unh.edu
To: Test Report <test-report@dpdk.org>
Cc: dpdk-test-reports@iol.unh.edu
In-Reply-To: <20241021085115.864114-11-mattias.ronnblom@ericsson.com>
References: <20241021085115.864114-11-mattias.ronnblom@ericsson.com>
Content-Type: text/plain
X-BeenThere: test-report@dpdk.org
X-Mailman-Version: 2.1.29
Precedence: list
List-Id: automatic DPDK test reports <test-report.dpdk.org>
List-Unsubscribe: <https://mails.dpdk.org/options/test-report>,
 <mailto:test-report-request@dpdk.org?subject=unsubscribe>
List-Archive: <http://mails.dpdk.org/archives/test-report/>
List-Post: <mailto:test-report@dpdk.org>
List-Help: <mailto:test-report-request@dpdk.org?subject=help>
List-Subscribe: <https://mails.dpdk.org/listinfo/test-report>,
 <mailto:test-report-request@dpdk.org?subject=subscribe>
Errors-To: test-report-bounces@dpdk.org

Test-Label: iol-unit-amd64-testing
Test-Status: SUCCESS
http://dpdk.org/patch/146412

_Testing PASS_

Submitter: Mattias Ronnblom <mattias.ronnblom@ericsson.com>
Date: Monday, October 21 2024 08:51:15 
DPDK git baseline: Repo:dpdk
  Branch: master
  CommitID:e609858b480ca0d646e5f05f2c7fd6bbf35a4140

146431-146412 --> testing pass

Upstream job id: Generic-Unit-Test-DPDK#280194

Test environment and result as below:

+---------------------+----------------+
|     Environment     | dpdk_unit_test |
+=====================+================+
| Windows Server 2022 | PASS           |
+---------------------+----------------+
| CentOS Stream 9     | PASS           |
+---------------------+----------------+
| Debian Bullseye     | PASS           |
+---------------------+----------------+
| Fedora 37           | PASS           |
+---------------------+----------------+
| Debian 12           | PASS           |
+---------------------+----------------+
| Fedora 38 (Clang)   | PASS           |
+---------------------+----------------+
| Fedora 39           | PASS           |
+---------------------+----------------+
| Fedora 39 (Clang)   | PASS           |
+---------------------+----------------+
| Fedora 40           | PASS           |
+---------------------+----------------+
| Fedora 40 (Clang)   | PASS           |
+---------------------+----------------+
| RHEL8               | PASS           |
+---------------------+----------------+
| RHEL9               | PASS           |
+---------------------+----------------+
| Ubuntu 20.04        | PASS           |
+---------------------+----------------+
| Ubuntu 22.04        | PASS           |
+---------------------+----------------+
| Ubuntu 24.04        | PASS           |
+---------------------+----------------+
| Fedora 38           | PASS           |
+---------------------+----------------+


Windows Server 2022
	Kernel: 10.0.20348.2031
	Compiler: clang 15.0.7, gcc 14.1.0 (MinGW), and MSVC VS 19.39.33521

CentOS Stream 9
	Kernel: Depends on container host
	Compiler: gcc 11.4.1 20231218 (Red Hat 11.4.1-3)

Debian Bullseye
	Kernel: Depends on container host
	Compiler: gcc (Debian 10.2.1-6) 10.2.1 20210110

Fedora 37
	Kernel: Depends on container host system
	Compiler: gcc 12.3.1 20230508 (Red Hat 12.3.1-1)

Debian 12
	Kernel: Depends on container host
	Compiler: gcc (Debian 12.2.0-14) 12.2.0

Fedora 38 (Clang)
	Kernel: Depends on container host
	Compiler: clang 16.0.6 (Fedora 16.0.6-4.fc38)

Fedora 39
	Kernel: Depends on container host
	Compiler: gcc 13.3.1 20240522 (Red Hat 13.3.1-1)

Fedora 39 (Clang)
	Kernel: Depends on container host
	Compiler: clang 17.0.6 (Fedora 17.0.6-2.fc39)

Fedora 40
	Kernel: Depends on container host
	Compiler: gcc 14.2.1 20240801 (Red Hat 14.2.1-1)

Fedora 40 (Clang)
	Kernel: Depends on container host
	Compiler: clang 18.1.6 (Fedora 18.1.6-3.fc40)

RHEL8
	Kernel: Depends on container host
	Compiler: gcc 8.5.0 20210514 (Red Hat 8.5.0-22)

RHEL9
	Kernel: Depends on container host
	Compiler: gcc 11.4.1 20231218 (Red Hat 11.4.1-3)

Ubuntu 20.04
	Kernel: Depends on container host
	Compiler: gcc (Ubuntu 9.4.0-1ubuntu1~20.04.2) 9.4.0

Ubuntu 22.04
	Kernel: Depends on container host
	Compiler: gcc (Ubuntu 11.4.0-1ubuntu1~22.04) 11.4.0

Ubuntu 24.04
	Kernel: Depends on container host
	Compiler: gcc (Ubuntu 13.2.0-23ubuntu4) 13.2.0

Fedora 38
	Kernel: Depends on container host
	Compiler: gcc 13.2.1 20240316 (Red Hat 13.2.1-7)

To view detailed results, visit:
https://lab.dpdk.org/results/dashboard/patchsets/31571/

UNH-IOL DPDK Community Lab

To manage your email subscriptions, visit: 
https://lab.dpdk.org/results/dashboard/preferences/subscriptions/