From mboxrd@z Thu Jan  1 00:00:00 1970
Return-Path: <test-report-bounces@dpdk.org>
Received: from mails.dpdk.org (mails.dpdk.org [217.70.189.124])
	by inbox.dpdk.org (Postfix) with ESMTP id 59E7445BAA
	for <public@inbox.dpdk.org>; Wed, 23 Oct 2024 07:51:04 +0200 (CEST)
Received: from mails.dpdk.org (localhost [127.0.0.1])
	by mails.dpdk.org (Postfix) with ESMTP id 5492240BA0;
	Wed, 23 Oct 2024 07:51:04 +0200 (CEST)
Received: from mail-io1-f99.google.com (mail-io1-f99.google.com
 [209.85.166.99]) by mails.dpdk.org (Postfix) with ESMTP id 0F4D340B99
 for <test-report@dpdk.org>; Wed, 23 Oct 2024 07:51:03 +0200 (CEST)
Received: by mail-io1-f99.google.com with SMTP id
 ca18e2360f4ac-83aba65556cso223669539f.3
 for <test-report@dpdk.org>; Tue, 22 Oct 2024 22:51:03 -0700 (PDT)
DKIM-Signature: v=1; a=rsa-sha256; c=relaxed/relaxed;
 d=iol.unh.edu; s=unh-iol; t=1729662662; x=1730267462; darn=dpdk.org;
 h=references:in-reply-to:cc:to:from:subject:message-id:date:from:to
 :cc:subject:date:message-id:reply-to;
 bh=9TeKz5fYIoK+yoHsZ3cwzYa4zKMj5p8rrPZgochHd/E=;
 b=XVA7opNC0gIp7iKLGNVeswn3O7/brAcubANFbi4ZBxD9KA8C5ozTfV/+RLBPbVj+w4
 Jhrk6A3/wG9LYcZK1E8N3Bq3R6GBxmoD3Z/Wkkif2CuX468qXhf9zneorsUbGyorvYro
 3FqN7whk02zOBa/PDEgD0s0/4O888Xm1Nwicg=
X-Google-DKIM-Signature: v=1; a=rsa-sha256; c=relaxed/relaxed;
 d=1e100.net; s=20230601; t=1729662662; x=1730267462;
 h=references:in-reply-to:cc:to:from:subject:message-id:date
 :x-gm-message-state:from:to:cc:subject:date:message-id:reply-to;
 bh=9TeKz5fYIoK+yoHsZ3cwzYa4zKMj5p8rrPZgochHd/E=;
 b=kW2LvaBSuhYglNJbqM4wF+eb+wqH9OsvmGSfMJjOUnvMUPAYzP3SZ+maazFLSRhzS7
 ONcwYpYXOwx8RTmBt3dy3kzJFA4Rz/jfwuauYsO2jbjTQyJPT4p1kMKmUBTc4rFOnNH5
 A96C3ehmbmVOZX78oC9EBxMclC4cfufGFwXp8vIb/NRU/ZI3fg4R8WoIqRLaxj4W/Cbc
 5kmuY0d18U3kBYO602/2msnJSZJ4rosod5MODpCQR4W5gMOAZEl5aSAkAJgPQDOFG+Wt
 uOz8xUDJJj90V+EfG8vugDE8fGSN6qO/0XooTDdpbqgvvLMt/W2f4FkSgM3pPFHYPGOt
 pmHA==
X-Gm-Message-State: AOJu0Yz+ZyiepHAlGXV7vYIqbTlILDhWltbm8clqd7nZtSxHzSYqwcUZ
 wL+y00VGcS9sgQR8bz5BZD0YF+G9hsEnAgpgOTAMyFSP/6WUeLvOvYYTzlMIjO7PoOR4cf4quvP
 25V16VDA6xOQwAQboAubjKHYMMDqpKgqjRJ2G2I1s2cIc8A/b8e8wjpAu
X-Google-Smtp-Source: AGHT+IGP8Te8WASOTPOlQs+DQYj6aNPNGGQ1bTS7tYRWR6IT5gxqv1N8SShXN8dA+NvPhSp+HcGga4ovlEIj
X-Received: by 2002:a05:6602:3405:b0:82a:a76a:1779 with SMTP id
 ca18e2360f4ac-83af61830femr166330839f.8.1729662662323; 
 Tue, 22 Oct 2024 22:51:02 -0700 (PDT)
Received: from postal.iol.unh.edu (postal.iol.unh.edu.
 [2606:4100:3880:1234::84]) by smtp-relay.gmail.com with ESMTPS id
 ca18e2360f4ac-83ad1dbfdaasm31472839f.26.2024.10.22.22.51.02
 (version=TLS1_2 cipher=ECDHE-ECDSA-AES128-GCM-SHA256 bits=128/128);
 Tue, 22 Oct 2024 22:51:02 -0700 (PDT)
X-Relaying-Domain: iol.unh.edu
Date: Tue, 22 Oct 2024 22:51:02 -0700 (PDT)
Message-ID: <67188ec6.050a0220.fb87e.4785SMTPIN_ADDED_MISSING@mx.google.com>
Received: from [172.17.0.2] (unknown [172.18.0.217])
 by postal.iol.unh.edu (Postfix) with ESMTP id D06CE6052471;
 Wed, 23 Oct 2024 01:51:01 -0400 (EDT)
Subject: |SUCCESS| pw146345-146349 [PATCH] [v7,5/5] maintainers: update for d
From: dpdklab@iol.unh.edu
To: Test Report <test-report@dpdk.org>
Cc: dpdk-test-reports@iol.unh.edu
In-Reply-To: <20241021040724.3325876-6-sivaprasad.tummala@amd.com>
References: <20241021040724.3325876-6-sivaprasad.tummala@amd.com>
Content-Type: text/plain
X-BeenThere: test-report@dpdk.org
X-Mailman-Version: 2.1.29
Precedence: list
List-Id: automatic DPDK test reports <test-report.dpdk.org>
List-Unsubscribe: <https://mails.dpdk.org/options/test-report>,
 <mailto:test-report-request@dpdk.org?subject=unsubscribe>
List-Archive: <http://mails.dpdk.org/archives/test-report/>
List-Post: <mailto:test-report@dpdk.org>
List-Help: <mailto:test-report-request@dpdk.org?subject=help>
List-Subscribe: <https://mails.dpdk.org/listinfo/test-report>,
 <mailto:test-report-request@dpdk.org?subject=subscribe>
Errors-To: test-report-bounces@dpdk.org

Test-Label: iol-compile-amd64-testing
Test-Status: SUCCESS
http://dpdk.org/patch/146349

_Testing PASS_

Submitter: Sivaprasad Tummala <Sivaprasad.Tummala@amd.com>
Date: Monday, October 21 2024 04:07:23 
DPDK git baseline: Repo:dpdk
  Branch: master
  CommitID:e609858b480ca0d646e5f05f2c7fd6bbf35a4140

146345-146349 --> testing pass

Upstream job id: Generic-DPDK-Compile-Meson#321110

Test environment and result as below:

+---------------------+--------------------+-----------------------+----------------------+-------------------+------------------+-------------------+
|     Environment     | dpdk_meson_compile | dpdk_win_llvm_compile | dpdk_mingw64_compile | dpdk_msvc_compile | dpdk_compile_ovs | dpdk_compile_spdk |
+=====================+====================+=======================+======================+===================+==================+===================+
| FreeBSD 13.4        | PASS               | SKIPPED               | SKIPPED              | SKIPPED           | SKIPPED          | SKIPPED           |
+---------------------+--------------------+-----------------------+----------------------+-------------------+------------------+-------------------+
| FreeBSD 14.1        | PASS               | SKIPPED               | SKIPPED              | SKIPPED           | SKIPPED          | SKIPPED           |
+---------------------+--------------------+-----------------------+----------------------+-------------------+------------------+-------------------+
| CentOS Stream 9     | PASS               | SKIPPED               | SKIPPED              | SKIPPED           | PASS             | PASS              |
+---------------------+--------------------+-----------------------+----------------------+-------------------+------------------+-------------------+
| Debian Bullseye     | PASS               | SKIPPED               | SKIPPED              | SKIPPED           | PASS             | PASS              |
+---------------------+--------------------+-----------------------+----------------------+-------------------+------------------+-------------------+
| Debian 12           | PASS               | SKIPPED               | SKIPPED              | SKIPPED           | PASS             | PASS              |
+---------------------+--------------------+-----------------------+----------------------+-------------------+------------------+-------------------+
| Fedora 37           | PASS               | SKIPPED               | SKIPPED              | SKIPPED           | PASS             | PASS              |
+---------------------+--------------------+-----------------------+----------------------+-------------------+------------------+-------------------+
| Fedora 38 (Clang)   | PASS               | SKIPPED               | SKIPPED              | SKIPPED           | PASS             | PASS              |
+---------------------+--------------------+-----------------------+----------------------+-------------------+------------------+-------------------+
| Fedora 38           | PASS               | SKIPPED               | SKIPPED              | SKIPPED           | PASS             | PASS              |
+---------------------+--------------------+-----------------------+----------------------+-------------------+------------------+-------------------+
| Fedora 39 (Clang)   | PASS               | SKIPPED               | SKIPPED              | SKIPPED           | PASS             | PASS              |
+---------------------+--------------------+-----------------------+----------------------+-------------------+------------------+-------------------+
| Fedora 39           | PASS               | SKIPPED               | SKIPPED              | SKIPPED           | PASS             | PASS              |
+---------------------+--------------------+-----------------------+----------------------+-------------------+------------------+-------------------+
| Fedora 40           | PASS               | SKIPPED               | SKIPPED              | SKIPPED           | PASS             | PASS              |
+---------------------+--------------------+-----------------------+----------------------+-------------------+------------------+-------------------+
| openSUSE Leap 15    | PASS               | SKIPPED               | SKIPPED              | SKIPPED           | PASS             | SKIPPED           |
+---------------------+--------------------+-----------------------+----------------------+-------------------+------------------+-------------------+
| RHEL8               | PASS               | SKIPPED               | SKIPPED              | SKIPPED           | PASS             | SKIPPED           |
+---------------------+--------------------+-----------------------+----------------------+-------------------+------------------+-------------------+
| RHEL9               | PASS               | SKIPPED               | SKIPPED              | SKIPPED           | PASS             | SKIPPED           |
+---------------------+--------------------+-----------------------+----------------------+-------------------+------------------+-------------------+
| Ubuntu 20.04        | PASS               | SKIPPED               | SKIPPED              | SKIPPED           | PASS             | SKIPPED           |
+---------------------+--------------------+-----------------------+----------------------+-------------------+------------------+-------------------+
| Ubuntu 22.04        | PASS               | SKIPPED               | SKIPPED              | SKIPPED           | PASS             | PASS              |
+---------------------+--------------------+-----------------------+----------------------+-------------------+------------------+-------------------+
| Ubuntu 24.04        | PASS               | SKIPPED               | SKIPPED              | SKIPPED           | PASS             | PASS              |
+---------------------+--------------------+-----------------------+----------------------+-------------------+------------------+-------------------+
| Alpine              | PASS               | SKIPPED               | SKIPPED              | SKIPPED           | PASS             | SKIPPED           |
+---------------------+--------------------+-----------------------+----------------------+-------------------+------------------+-------------------+
| Fedora 40 (Clang)   | PASS               | SKIPPED               | SKIPPED              | SKIPPED           | PASS             | PASS              |
+---------------------+--------------------+-----------------------+----------------------+-------------------+------------------+-------------------+
| Windows Server 2022 | SKIPPED            | PASS                  | PASS                 | PASS              | SKIPPED          | SKIPPED           |
+---------------------+--------------------+-----------------------+----------------------+-------------------+------------------+-------------------+


FreeBSD 13.4
	Kernel: 13.4-RELEASE-p1
	Compiler: clang 18.1.6

FreeBSD 14.1
	Kernel: 14.1-RELEASE-p3
	Compiler: clang 18.1.5

CentOS Stream 9
	Kernel: Depends on container host
	Compiler: gcc 11.4.1 20231218 (Red Hat 11.4.1-3)

Debian Bullseye
	Kernel: Depends on container host
	Compiler: gcc (Debian 10.2.1-6) 10.2.1 20210110

Debian 12
	Kernel: Depends on container host
	Compiler: gcc (Debian 12.2.0-14) 12.2.0

Fedora 37
	Kernel: Depends on container host system
	Compiler: gcc 12.3.1 20230508 (Red Hat 12.3.1-1)

Fedora 38 (Clang)
	Kernel: Depends on container host
	Compiler: clang 16.0.6 (Fedora 16.0.6-4.fc38)

Fedora 38
	Kernel: Depends on container host
	Compiler: gcc 13.2.1 20240316 (Red Hat 13.2.1-7)

Fedora 39 (Clang)
	Kernel: Depends on container host
	Compiler: clang 17.0.6 (Fedora 17.0.6-2.fc39)

Fedora 39
	Kernel: Depends on container host
	Compiler: gcc 13.3.1 20240522 (Red Hat 13.3.1-1)

Fedora 40
	Kernel: Depends on container host
	Compiler: gcc 14.2.1 20240801 (Red Hat 14.2.1-1)

openSUSE Leap 15
	Kernel: Depends on container host
	Compiler: gcc (SUSE Linux) 7.5.0

RHEL8
	Kernel: Depends on container host
	Compiler: gcc 8.5.0 20210514 (Red Hat 8.5.0-22)

RHEL9
	Kernel: Depends on container host
	Compiler: gcc 11.4.1 20231218 (Red Hat 11.4.1-3)

Ubuntu 20.04
	Kernel: Depends on container host
	Compiler: gcc (Ubuntu 9.4.0-1ubuntu1~20.04.2) 9.4.0

Ubuntu 22.04
	Kernel: Depends on container host
	Compiler: gcc (Ubuntu 11.4.0-1ubuntu1~22.04) 11.4.0

Ubuntu 24.04
	Kernel: Depends on container host
	Compiler: gcc (Ubuntu 13.2.0-23ubuntu4) 13.2.0

Alpine
	Kernel: Depends on container host
	Compiler: gcc (Alpine 13.2.1_git20240309) 13.2.1 20240309

Fedora 40 (Clang)
	Kernel: Depends on container host
	Compiler: clang 18.1.6 (Fedora 18.1.6-3.fc40)

Windows Server 2022
	Kernel: 10.0.20348.2031
	Compiler: clang 15.0.7, gcc 14.1.0 (MinGW), and MSVC VS 19.39.33521

To view detailed results, visit:
https://lab.dpdk.org/results/dashboard/patchsets/31567/

UNH-IOL DPDK Community Lab

To manage your email subscriptions, visit: 
https://lab.dpdk.org/results/dashboard/preferences/subscriptions/