From mboxrd@z Thu Jan  1 00:00:00 1970
Return-Path: <test-report-bounces@dpdk.org>
Received: from mails.dpdk.org (mails.dpdk.org [217.70.189.124])
	by inbox.dpdk.org (Postfix) with ESMTP id 1557C45BAC
	for <public@inbox.dpdk.org>; Wed, 23 Oct 2024 09:52:48 +0200 (CEST)
Received: from mails.dpdk.org (localhost [127.0.0.1])
	by mails.dpdk.org (Postfix) with ESMTP id 10A6B4065B;
	Wed, 23 Oct 2024 09:52:48 +0200 (CEST)
Received: from mail-pf1-f228.google.com (mail-pf1-f228.google.com
 [209.85.210.228])
 by mails.dpdk.org (Postfix) with ESMTP id 8C1E2402E4
 for <test-report@dpdk.org>; Wed, 23 Oct 2024 09:52:47 +0200 (CEST)
Received: by mail-pf1-f228.google.com with SMTP id
 d2e1a72fcca58-71e4c2e36daso441644b3a.0
 for <test-report@dpdk.org>; Wed, 23 Oct 2024 00:52:47 -0700 (PDT)
DKIM-Signature: v=1; a=rsa-sha256; c=relaxed/relaxed;
 d=iol.unh.edu; s=unh-iol; t=1729669966; x=1730274766; darn=dpdk.org;
 h=references:in-reply-to:cc:to:from:subject:message-id:date:from:to
 :cc:subject:date:message-id:reply-to;
 bh=Q9+2Ij4DRSE1COCY1jyUrnx6ZrkP7khhsFAgAF5/GYQ=;
 b=BG1DvYix3Y7h9Pmh1LKyM4IRHrCNj3gGwCQ3NV59ICYzCduw+Ye6gpb8SXGgren5cA
 YgZX4+xsoHsCbkwD6AzTBALh/yOodDecP6LYT7XfRfDL7N1sjeh2P+2ePbwPWegISrQn
 DyM1EBxqEDpEdHjS59FbdfMxEhZyVmwKclAbc=
X-Google-DKIM-Signature: v=1; a=rsa-sha256; c=relaxed/relaxed;
 d=1e100.net; s=20230601; t=1729669966; x=1730274766;
 h=references:in-reply-to:cc:to:from:subject:message-id:date
 :x-gm-message-state:from:to:cc:subject:date:message-id:reply-to;
 bh=Q9+2Ij4DRSE1COCY1jyUrnx6ZrkP7khhsFAgAF5/GYQ=;
 b=WYNyVFh1RH7OHMRKEJHFjW/tptAvt3gZdFbaJcVwdULJXzW1t1wYHdJVJ4Qbi+/Jxg
 hlUsQ8FpXj07KwBa/Ef3AvqO+N0lrtqoEa4NniHwil4nPXoftMmukFPruwGtTl+ghD+r
 GEZaAUGoEnZKTG6vsqwC2KjsQ5p9DII/5hs29HEQLx6z1ZKyd6LfZET4zY8KdNTpCGn7
 gX3xHt3f7YNMS6nujGaI+HH3p40AJ20zov2F8GZ6+6YfJUzdMsfjjpo6c/PpQhRKd6vk
 lOz5hFtBnZdEGuMZ8SnUDiR5gHCxbj6R0cp+5nA25f6sbmqNCSWv7pkboOx9Du+3bf8c
 oF1Q==
X-Gm-Message-State: AOJu0Yzhnxe/eJ0zfdDd+9p03j3UT+X6THhNbsqTNJf9gZCluY3I7qh2
 M9FJp2fhSOK/6bnOiSKe2Jiqt+FjoSPoaXe7Uo8QdodKZhCPddULdHXTJgsVSVmJpn5bayrmrbL
 TgT3ciLWJ7bkgq5SU8G4F+cgrILv76RS3FQS1gExT
X-Google-Smtp-Source: AGHT+IH4xlWKkAvcmzAQ+DnCgfNOrxYR8aM1vsd2eFCw+lx+YFAZzS42UaZDI0bwHRV1Fx3iW6hBuoGCYsrO
X-Received: by 2002:a05:6a20:b294:b0:1d9:78b3:7975 with SMTP id
 adf61e73a8af0-1d978b37982mr2296220637.0.1729669966579; 
 Wed, 23 Oct 2024 00:52:46 -0700 (PDT)
Received: from postal.iol.unh.edu (postal.iol.unh.edu. [132.177.123.84])
 by smtp-relay.gmail.com with ESMTPS id
 d2e1a72fcca58-71ec138e929sm400694b3a.14.2024.10.23.00.52.46
 (version=TLS1_2 cipher=ECDHE-ECDSA-AES128-GCM-SHA256 bits=128/128);
 Wed, 23 Oct 2024 00:52:46 -0700 (PDT)
X-Relaying-Domain: iol.unh.edu
Date: Wed, 23 Oct 2024 00:52:46 -0700 (PDT)
Message-ID: <6718ab4e.050a0220.a6904.aec2SMTPIN_ADDED_MISSING@mx.google.com>
Received: from [172.17.0.3] (unknown [172.18.0.217])
 by postal.iol.unh.edu (Postfix) with ESMTP id 11D2D6052471;
 Wed, 23 Oct 2024 03:52:46 -0400 (EDT)
Subject: |SUCCESS| pw146204 [PATCH] net/gve: replace typedefs with macros in 
From: dpdklab@iol.unh.edu
To: Test Report <test-report@dpdk.org>
Cc: dpdk-test-reports@iol.unh.edu
In-Reply-To: <20241017234233.3456943-1-joshwash@google.com>
References: <20241017234233.3456943-1-joshwash@google.com>
Content-Type: text/plain
X-BeenThere: test-report@dpdk.org
X-Mailman-Version: 2.1.29
Precedence: list
List-Id: automatic DPDK test reports <test-report.dpdk.org>
List-Unsubscribe: <https://mails.dpdk.org/options/test-report>,
 <mailto:test-report-request@dpdk.org?subject=unsubscribe>
List-Archive: <http://mails.dpdk.org/archives/test-report/>
List-Post: <mailto:test-report@dpdk.org>
List-Help: <mailto:test-report-request@dpdk.org?subject=help>
List-Subscribe: <https://mails.dpdk.org/listinfo/test-report>,
 <mailto:test-report-request@dpdk.org?subject=subscribe>
Errors-To: test-report-bounces@dpdk.org

Test-Label: iol-compile-amd64-testing
Test-Status: SUCCESS
http://dpdk.org/patch/146204

_Testing PASS_

Submitter: Joshua Washington <joshwash@google.com>
Date: Thursday, October 17 2024 23:42:33 
DPDK git baseline: Repo:dpdk
  Branch: master
  CommitID:03d37ac13b61563fb31e4a0f5d0e427a61d548d5

146204 --> testing pass

Upstream job id: Windows-Compile-DPDK-Native#23537

Test environment and result as below:

+---------------------+--------------------+------------------+-------------------+-------------------+----------------------+-----------------------+
|     Environment     | dpdk_meson_compile | dpdk_compile_ovs | dpdk_compile_spdk | dpdk_msvc_compile | dpdk_mingw64_compile | dpdk_win_llvm_compile |
+=====================+====================+==================+===================+===================+======================+=======================+
| FreeBSD 13.4        | PASS               | SKIPPED          | SKIPPED           | SKIPPED           | SKIPPED              | SKIPPED               |
+---------------------+--------------------+------------------+-------------------+-------------------+----------------------+-----------------------+
| FreeBSD 14.1        | PASS               | SKIPPED          | SKIPPED           | SKIPPED           | SKIPPED              | SKIPPED               |
+---------------------+--------------------+------------------+-------------------+-------------------+----------------------+-----------------------+
| CentOS Stream 9     | PASS               | PASS             | PASS              | SKIPPED           | SKIPPED              | SKIPPED               |
+---------------------+--------------------+------------------+-------------------+-------------------+----------------------+-----------------------+
| Debian Bullseye     | PASS               | PASS             | PASS              | SKIPPED           | SKIPPED              | SKIPPED               |
+---------------------+--------------------+------------------+-------------------+-------------------+----------------------+-----------------------+
| Debian 12           | PASS               | PASS             | PASS              | SKIPPED           | SKIPPED              | SKIPPED               |
+---------------------+--------------------+------------------+-------------------+-------------------+----------------------+-----------------------+
| Fedora 37           | PASS               | PASS             | PASS              | SKIPPED           | SKIPPED              | SKIPPED               |
+---------------------+--------------------+------------------+-------------------+-------------------+----------------------+-----------------------+
| Fedora 38 (Clang)   | PASS               | PASS             | PASS              | SKIPPED           | SKIPPED              | SKIPPED               |
+---------------------+--------------------+------------------+-------------------+-------------------+----------------------+-----------------------+
| Fedora 38           | PASS               | PASS             | PASS              | SKIPPED           | SKIPPED              | SKIPPED               |
+---------------------+--------------------+------------------+-------------------+-------------------+----------------------+-----------------------+
| Fedora 39 (Clang)   | PASS               | PASS             | PASS              | SKIPPED           | SKIPPED              | SKIPPED               |
+---------------------+--------------------+------------------+-------------------+-------------------+----------------------+-----------------------+
| Fedora 39           | PASS               | PASS             | PASS              | SKIPPED           | SKIPPED              | SKIPPED               |
+---------------------+--------------------+------------------+-------------------+-------------------+----------------------+-----------------------+
| Fedora 40 (Clang)   | PASS               | PASS             | PASS              | SKIPPED           | SKIPPED              | SKIPPED               |
+---------------------+--------------------+------------------+-------------------+-------------------+----------------------+-----------------------+
| Fedora 40           | PASS               | PASS             | PASS              | SKIPPED           | SKIPPED              | SKIPPED               |
+---------------------+--------------------+------------------+-------------------+-------------------+----------------------+-----------------------+
| openSUSE Leap 15    | PASS               | PASS             | SKIPPED           | SKIPPED           | SKIPPED              | SKIPPED               |
+---------------------+--------------------+------------------+-------------------+-------------------+----------------------+-----------------------+
| RHEL8               | PASS               | PASS             | SKIPPED           | SKIPPED           | SKIPPED              | SKIPPED               |
+---------------------+--------------------+------------------+-------------------+-------------------+----------------------+-----------------------+
| Ubuntu 20.04        | PASS               | PASS             | SKIPPED           | SKIPPED           | SKIPPED              | SKIPPED               |
+---------------------+--------------------+------------------+-------------------+-------------------+----------------------+-----------------------+
| Ubuntu 22.04        | PASS               | PASS             | PASS              | SKIPPED           | SKIPPED              | SKIPPED               |
+---------------------+--------------------+------------------+-------------------+-------------------+----------------------+-----------------------+
| Ubuntu 24.04        | PASS               | PASS             | PASS              | SKIPPED           | SKIPPED              | SKIPPED               |
+---------------------+--------------------+------------------+-------------------+-------------------+----------------------+-----------------------+
| Alpine              | PASS               | PASS             | SKIPPED           | SKIPPED           | SKIPPED              | SKIPPED               |
+---------------------+--------------------+------------------+-------------------+-------------------+----------------------+-----------------------+
| RHEL9               | PASS               | PASS             | SKIPPED           | SKIPPED           | SKIPPED              | SKIPPED               |
+---------------------+--------------------+------------------+-------------------+-------------------+----------------------+-----------------------+
| Windows Server 2022 | SKIPPED            | SKIPPED          | SKIPPED           | PASS              | PASS                 | PASS                  |
+---------------------+--------------------+------------------+-------------------+-------------------+----------------------+-----------------------+


FreeBSD 13.4
	Kernel: 13.4-RELEASE-p1
	Compiler: clang 18.1.6

FreeBSD 14.1
	Kernel: 14.1-RELEASE-p3
	Compiler: clang 18.1.5

CentOS Stream 9
	Kernel: Depends on container host
	Compiler: gcc 11.4.1 20231218 (Red Hat 11.4.1-3)

Debian Bullseye
	Kernel: Depends on container host
	Compiler: gcc (Debian 10.2.1-6) 10.2.1 20210110

Debian 12
	Kernel: Depends on container host
	Compiler: gcc (Debian 12.2.0-14) 12.2.0

Fedora 37
	Kernel: Depends on container host system
	Compiler: gcc 12.3.1 20230508 (Red Hat 12.3.1-1)

Fedora 38 (Clang)
	Kernel: Depends on container host
	Compiler: clang 16.0.6 (Fedora 16.0.6-4.fc38)

Fedora 38
	Kernel: Depends on container host
	Compiler: gcc 13.2.1 20240316 (Red Hat 13.2.1-7)

Fedora 39 (Clang)
	Kernel: Depends on container host
	Compiler: clang 17.0.6 (Fedora 17.0.6-2.fc39)

Fedora 39
	Kernel: Depends on container host
	Compiler: gcc 13.3.1 20240522 (Red Hat 13.3.1-1)

Fedora 40 (Clang)
	Kernel: Depends on container host
	Compiler: clang 18.1.6 (Fedora 18.1.6-3.fc40)

Fedora 40
	Kernel: Depends on container host
	Compiler: gcc 14.2.1 20240801 (Red Hat 14.2.1-1)

openSUSE Leap 15
	Kernel: Depends on container host
	Compiler: gcc (SUSE Linux) 7.5.0

RHEL8
	Kernel: Depends on container host
	Compiler: gcc 8.5.0 20210514 (Red Hat 8.5.0-22)

Ubuntu 20.04
	Kernel: Depends on container host
	Compiler: gcc (Ubuntu 9.4.0-1ubuntu1~20.04.2) 9.4.0

Ubuntu 22.04
	Kernel: Depends on container host
	Compiler: gcc (Ubuntu 11.4.0-1ubuntu1~22.04) 11.4.0

Ubuntu 24.04
	Kernel: Depends on container host
	Compiler: gcc (Ubuntu 13.2.0-23ubuntu4) 13.2.0

Alpine
	Kernel: Depends on container host
	Compiler: gcc (Alpine 13.2.1_git20240309) 13.2.1 20240309

RHEL9
	Kernel: Depends on container host
	Compiler: gcc 11.4.1 20231218 (Red Hat 11.4.1-3)

Windows Server 2022
	Kernel: 10.0.20348.2031
	Compiler: clang 15.0.7, gcc 14.1.0 (MinGW), and MSVC VS 19.39.33521

To view detailed results, visit:
https://lab.dpdk.org/results/dashboard/patchsets/31544/

UNH-IOL DPDK Community Lab

To manage your email subscriptions, visit: 
https://lab.dpdk.org/results/dashboard/preferences/subscriptions/