From mboxrd@z Thu Jan  1 00:00:00 1970
Return-Path: <test-report-bounces@dpdk.org>
Received: from mails.dpdk.org (mails.dpdk.org [217.70.189.124])
	by inbox.dpdk.org (Postfix) with ESMTP id 9051D45BAF
	for <public@inbox.dpdk.org>; Wed, 23 Oct 2024 12:26:23 +0200 (CEST)
Received: from mails.dpdk.org (localhost [127.0.0.1])
	by mails.dpdk.org (Postfix) with ESMTP id 8B7C7402EF;
	Wed, 23 Oct 2024 12:26:23 +0200 (CEST)
Received: from mail-ot1-f99.google.com (mail-ot1-f99.google.com
 [209.85.210.99]) by mails.dpdk.org (Postfix) with ESMTP id 19DF5402C6
 for <test-report@dpdk.org>; Wed, 23 Oct 2024 12:26:22 +0200 (CEST)
Received: by mail-ot1-f99.google.com with SMTP id
 46e09a7af769-7181a8af549so2377062a34.2
 for <test-report@dpdk.org>; Wed, 23 Oct 2024 03:26:22 -0700 (PDT)
DKIM-Signature: v=1; a=rsa-sha256; c=relaxed/relaxed;
 d=iol.unh.edu; s=unh-iol; t=1729679181; x=1730283981; darn=dpdk.org;
 h=references:in-reply-to:cc:to:from:subject:message-id:date:from:to
 :cc:subject:date:message-id:reply-to;
 bh=ipshKdvIG2aBtXPdK+qYDbzeutPbsPTYJ//9UlhIO0o=;
 b=V+117CBlKs8p3rlbNPwhP0SlI9csYnAA9d1l9V+1pIMfnKffvrTlCvOzG6xs/G/uR/
 HXodeUZ+sS7mAoIgjNg8nP88CJrer3d4ZDWx14lnYNoG0HQVlUSQAMolyT5nEwXx9ejy
 Kqcr3oHCJXy2+xJdtNk1PbJ84F8+4ZtTGzDFM=
X-Google-DKIM-Signature: v=1; a=rsa-sha256; c=relaxed/relaxed;
 d=1e100.net; s=20230601; t=1729679181; x=1730283981;
 h=references:in-reply-to:cc:to:from:subject:message-id:date
 :x-gm-message-state:from:to:cc:subject:date:message-id:reply-to;
 bh=ipshKdvIG2aBtXPdK+qYDbzeutPbsPTYJ//9UlhIO0o=;
 b=LYqBRmAnbagRVDIEmMznc6+m9mmLXAo8qrwG1j5NJgyCU5nONk/RLg6tpyBlGP6/+W
 oTt9UaxjJ7G7b3JMpTl2vspRImN8dNMQ6hJZY6+s6n3nt8WvKFKZUxi3rWlXMVwqE5ok
 UpAvDA6MyPizYJ0xpRD2ayQgNCrlqtiB6C48orZFiNkVjCPEpCXhqZlk/Qf6cCqPYjHW
 6mgP749S6UxWXnTi0mH6Nm3/5ablXM4EUasXzfMjV5Ai+PqnCOqLX5xBB9U1UTv51R82
 PWuus4hGrsJrkewlqjLa1WSuo8lCe0b+6+TSytUIib8mCFPNiS+Uv0YGW1k4etMyPHkF
 8arw==
X-Gm-Message-State: AOJu0Ywpu87Ibo/RXanK4cxoalNuvKum3Yt0AOiHhxvYyU6Y5ASVydUZ
 qOpRcUJOQLxdaAmrlsgCFCmlxhj4MhsckgxRL7lzar/rPHvMpMrvXgD+YQ4PsugQu14FIjXJgwC
 d2i6aNZowqGviupWMhAUECcJdSqJeo3a0XQa7eLev+GHyIhmAnSVPqYA4
X-Google-Smtp-Source: AGHT+IF2U+payTHBGQHeBXdaTEtFg1HCBPUJuRLzHPzWL7RRfYzv+YcRwhkYVhlT1cp2TXRcNRKxsR+kICmj
X-Received: by 2002:a05:6830:2683:b0:710:f200:eb55 with SMTP id
 46e09a7af769-7184b28dc5bmr2047884a34.1.1729679180494; 
 Wed, 23 Oct 2024 03:26:20 -0700 (PDT)
Received: from postal.iol.unh.edu (postal.iol.unh.edu.
 [2606:4100:3880:1234::84]) by smtp-relay.gmail.com with ESMTPS id
 46e09a7af769-7182eb598b3sm266800a34.4.2024.10.23.03.26.20
 (version=TLS1_2 cipher=ECDHE-ECDSA-AES128-GCM-SHA256 bits=128/128);
 Wed, 23 Oct 2024 03:26:20 -0700 (PDT)
X-Relaying-Domain: iol.unh.edu
Date: Wed, 23 Oct 2024 03:26:20 -0700 (PDT)
Message-ID: <6718cf4c.9d0a0220.b8cf0.1f36SMTPIN_ADDED_MISSING@mx.google.com>
Received: from [172.17.0.3] (unknown [172.18.0.217])
 by postal.iol.unh.edu (Postfix) with ESMTP id F10AC6052471;
 Wed, 23 Oct 2024 06:26:19 -0400 (EDT)
Subject: |SUCCESS| pw146364-146397 [PATCH] [v6,47/47] net/bnxt: tf_ulp: add s
From: dpdklab@iol.unh.edu
To: Test Report <test-report@dpdk.org>
Cc: dpdk-test-reports@iol.unh.edu
In-Reply-To: <20241021082607.232829-48-sriharsha.basavapatna@broadcom.com>
References: <20241021082607.232829-48-sriharsha.basavapatna@broadcom.com>
Content-Type: text/plain
X-BeenThere: test-report@dpdk.org
X-Mailman-Version: 2.1.29
Precedence: list
List-Id: automatic DPDK test reports <test-report.dpdk.org>
List-Unsubscribe: <https://mails.dpdk.org/options/test-report>,
 <mailto:test-report-request@dpdk.org?subject=unsubscribe>
List-Archive: <http://mails.dpdk.org/archives/test-report/>
List-Post: <mailto:test-report@dpdk.org>
List-Help: <mailto:test-report-request@dpdk.org?subject=help>
List-Subscribe: <https://mails.dpdk.org/listinfo/test-report>,
 <mailto:test-report-request@dpdk.org?subject=subscribe>
Errors-To: test-report-bounces@dpdk.org

Test-Label: iol-compile-arm64-testing
Test-Status: SUCCESS
http://dpdk.org/patch/146397

_Testing PASS_

Submitter: Sriharsha Basavapatna <sriharsha.basavapatna@broadcom.com>
Date: Monday, October 21 2024 08:26:07 
DPDK git baseline: Repo:dpdk
  Branch: master
  CommitID:9be79060c65948f0dd6fca6f30be526adabc1dfa

146364-146397 --> testing pass

Upstream job id: Generic-DPDK-Compile-Meson#321239

Test environment and result as below:

+----------------------------------------+--------------------+
|              Environment               | dpdk_meson_compile |
+========================================+====================+
| RHEL9 (ARM)                            | PASS               |
+----------------------------------------+--------------------+
| Ubuntu 20.04 ARM GCC Cross Compile     | PASS               |
+----------------------------------------+--------------------+
| Ubuntu 20.04 ARM SVE                   | PASS               |
+----------------------------------------+--------------------+
| Debian 12 with MUSDK                   | PASS               |
+----------------------------------------+--------------------+
| Fedora 37 (ARM)                        | PASS               |
+----------------------------------------+--------------------+
| Fedora 38 (ARM)                        | PASS               |
+----------------------------------------+--------------------+
| Fedora 38 (ARM Clang)                  | PASS               |
+----------------------------------------+--------------------+
| Fedora 39 (ARM)                        | PASS               |
+----------------------------------------+--------------------+
| Fedora 39 (ARM Clang)                  | PASS               |
+----------------------------------------+--------------------+
| Fedora 40 (ARM)                        | PASS               |
+----------------------------------------+--------------------+
| Fedora 40 (ARM Clang)                  | PASS               |
+----------------------------------------+--------------------+
| Ubuntu 20.04 (ARM)                     | PASS               |
+----------------------------------------+--------------------+
| Ubuntu 24.04 (ARM)                     | PASS               |
+----------------------------------------+--------------------+
| CentOS Stream 9 (ARM)                  | PASS               |
+----------------------------------------+--------------------+
| Debian 11 (Buster) (ARM)               | PASS               |
+----------------------------------------+--------------------+
| Debian 12 (arm)                        | PASS               |
+----------------------------------------+--------------------+
| Ubuntu 20.04 ARM Clang Cross Compile   | PASS               |
+----------------------------------------+--------------------+
| Ubuntu 20.04 aarch32 GCC Cross Compile | PASS               |
+----------------------------------------+--------------------+
| Ubuntu 22.04 (ARM)                     | PASS               |
+----------------------------------------+--------------------+


RHEL9 (ARM)
	Kernel: Depends on container host
	Compiler: gcc 11.4.1 20231218 (Red Hat 11.4.1-3)

Ubuntu 20.04 ARM GCC Cross Compile
	Kernel: Depends on container host
	Compiler: aarch64-linux-gnu-gcc (Ubuntu 9.4.0-1ubuntu1~20.04.2) 9.4.0

Ubuntu 20.04 ARM SVE
	Kernel: Depends on container host
	Compiler: gcc (Ubuntu 10.5.0-1ubuntu1~20.04) 10.5.0

Debian 12 with MUSDK
	Kernel: Depends on container host
	Compiler: gcc (Debian 12.2.0-14) 12.2.0

Fedora 37 (ARM)
	Kernel: Depends on container host
	Compiler: gcc 12.3.1 20230508 (Red Hat 12.3.1-1)

Fedora 38 (ARM)
	Kernel: Depends on container host
	Compiler: gcc 13.2.1 20240316 (Red Hat 13.2.1-7)

Fedora 38 (ARM Clang)
	Kernel: Depends on container host
	Compiler: clang 16.0.6 (Fedora 16.0.6-4.fc38)

Fedora 39 (ARM)
	Kernel: Depends on container host
	Compiler: gcc 13.3.1 20240522 (Red Hat 13.3.1-1)

Fedora 39 (ARM Clang)
	Kernel: Depends on container host
	Compiler: clang 17.0.6 (Fedora 17.0.6-2.fc39)

Fedora 40 (ARM)
	Kernel: Depends on container host
	Compiler: gcc 14.2.1 20240801 (Red Hat 14.2.1-1)

Fedora 40 (ARM Clang)
	Kernel: Depends on container host
	Compiler: clang 18.1.6 (Fedora 18.1.6-3.fc40)

Ubuntu 20.04 (ARM)
	Kernel: Depends on container host
	Compiler: gcc (Ubuntu 9.4.0-1ubuntu1~20.04.2) 9.4.0

Ubuntu 24.04 (ARM)
	Kernel: Depends on container host
	Compiler: gcc (Ubuntu 13.2.0-23ubuntu4) 13.2.0

CentOS Stream 9 (ARM)
	Kernel: Depends on container host
	Compiler: gcc 11.4.1 20231218 (Red Hat 11.4.1-3)

Debian 11 (Buster) (ARM)
	Kernel: Depends on container host
	Compiler: gcc (Debian 10.2.1-6) 10.2.1 20210110

Debian 12 (arm)
	Kernel: Depends on container host
	Compiler: gcc (Debian 12.2.0-14) 12.2.0

Ubuntu 20.04 ARM Clang Cross Compile
	Kernel: Depends on container host
	Compiler: clang 10.0.0-4ubuntu1

Ubuntu 20.04 aarch32 GCC Cross Compile
	Kernel: Depends on container host
	Compiler: gcc 9.4.0

Ubuntu 22.04 (ARM)
	Kernel: Depends on container host
	Compiler: gcc (Ubuntu 11.4.0-1ubuntu1~22.04) 11.4.0

To view detailed results, visit:
https://lab.dpdk.org/results/dashboard/patchsets/31570/

UNH-IOL DPDK Community Lab

To manage your email subscriptions, visit: 
https://lab.dpdk.org/results/dashboard/preferences/subscriptions/