From mboxrd@z Thu Jan  1 00:00:00 1970
Return-Path: <test-report-bounces@dpdk.org>
Received: from mails.dpdk.org (mails.dpdk.org [217.70.189.124])
	by inbox.dpdk.org (Postfix) with ESMTP id CBB7945BB4
	for <public@inbox.dpdk.org>; Wed, 23 Oct 2024 19:44:36 +0200 (CEST)
Received: from mails.dpdk.org (localhost [127.0.0.1])
	by mails.dpdk.org (Postfix) with ESMTP id C6D27406BC;
	Wed, 23 Oct 2024 19:44:36 +0200 (CEST)
Received: from mail-pj1-f97.google.com (mail-pj1-f97.google.com
 [209.85.216.97]) by mails.dpdk.org (Postfix) with ESMTP id 7F9CF402A7
 for <test-report@dpdk.org>; Wed, 23 Oct 2024 19:44:35 +0200 (CEST)
Received: by mail-pj1-f97.google.com with SMTP id
 98e67ed59e1d1-2e2e050b1c3so895424a91.0
 for <test-report@dpdk.org>; Wed, 23 Oct 2024 10:44:35 -0700 (PDT)
DKIM-Signature: v=1; a=rsa-sha256; c=relaxed/relaxed;
 d=iol.unh.edu; s=unh-iol; t=1729705474; x=1730310274; darn=dpdk.org;
 h=references:in-reply-to:cc:to:from:subject:message-id:date:from:to
 :cc:subject:date:message-id:reply-to;
 bh=ZwNDo6hl0bCKhL+0y/w64aktUJPVLKf6Ff+cH8vQsBc=;
 b=hFaT6+DKbqc82iwOSTw5Vx4uueP2xstF57bP0YBm59S1G7eRly6OBAoh/YgjB7bXhP
 LI5NltAngB6xjJFitMxOdk55M9gKcBdKmjqquLXV2Gx8lCqJaLe410xdSuDbKkr16O4j
 RfTTRxfkccx/V0/SIJrohyrksWt5PHr9XkYLw=
X-Google-DKIM-Signature: v=1; a=rsa-sha256; c=relaxed/relaxed;
 d=1e100.net; s=20230601; t=1729705474; x=1730310274;
 h=references:in-reply-to:cc:to:from:subject:message-id:date
 :x-gm-message-state:from:to:cc:subject:date:message-id:reply-to;
 bh=ZwNDo6hl0bCKhL+0y/w64aktUJPVLKf6Ff+cH8vQsBc=;
 b=o5GZhW/Epy5qpvdMOpbxgojEqqk05e/jDNlWNHdySXqFhi4vfl9/2ri8wfFzujD0p+
 asW1yuc+3XKYBVv2jDb/EZl0+u9H6N+IZPtS6lo794KJuFIZDtCffuBLIV3VKR9aSirI
 R/yaxbXpuZOIbV/oq4axpsXYkoZjyT5BrYBgbathv7roYCfTLYkIVme30hfucwxEoE8M
 5MgSg7MVw0RDqWeuwMTAwVSIGIOxJkQDKsYN9bkTaDajnZzznF1pXBxn/12U12OmfY6Q
 3z2oHEN6pbTJ/aglLJbkckY/YEajX5ZYUMjB/rjDzUv7vVfeKejZThTyUTHLUh5/zB3Y
 bP9A==
X-Gm-Message-State: AOJu0YzGEGpbnASQMTYoKSCcunIhXvVCpINxA6gvmALP8jbKr4VBslwA
 xiQV10YDaW2zA9WRbVwOBD6gDsXndK0xw/ExbwfF0wQMecsMR04i7IVnyw7XqpfhNTBvqcQEFam
 cOPGb238dnqdukqkV2c2vTxWMVexc6LOVxCI6kq2Z
X-Google-Smtp-Source: AGHT+IHsSCk02rH4KkmCUh0Ut+tzHinkZI9wP3w5qn1v4aalQPtZQHEUzVbWLnN0qoytfwkEHMpD6txVIXqX
X-Received: by 2002:a17:90a:68cf:b0:2d8:a744:a81c with SMTP id
 98e67ed59e1d1-2e5db91087fmr11184878a91.1.1729705474620; 
 Wed, 23 Oct 2024 10:44:34 -0700 (PDT)
Received: from postal.iol.unh.edu (postal.iol.unh.edu. [132.177.123.84])
 by smtp-relay.gmail.com with ESMTPS id
 98e67ed59e1d1-2e76dfde690sm82789a91.15.2024.10.23.10.44.34
 (version=TLS1_2 cipher=ECDHE-ECDSA-AES128-GCM-SHA256 bits=128/128);
 Wed, 23 Oct 2024 10:44:34 -0700 (PDT)
X-Relaying-Domain: iol.unh.edu
Date: Wed, 23 Oct 2024 10:44:34 -0700 (PDT)
Message-ID: <67193602.170a0220.208cec.56c3SMTPIN_ADDED_MISSING@mx.google.com>
Received: from [172.17.0.2] (unknown [172.18.0.217])
 by postal.iol.unh.edu (Postfix) with ESMTP id AFC2D6052471;
 Wed, 23 Oct 2024 13:44:33 -0400 (EDT)
Subject: |WARNING| pw146566-146572 [PATCH] [v3,8/8] maintainers: update for k
From: dpdklab@iol.unh.edu
To: Test Report <test-report@dpdk.org>
Cc: dpdk-test-reports@iol.unh.edu
In-Reply-To: <20241022061431.21925-9-fengchengwen@huawei.com>
References: <20241022061431.21925-9-fengchengwen@huawei.com>
Content-Type: text/plain
X-BeenThere: test-report@dpdk.org
X-Mailman-Version: 2.1.29
Precedence: list
List-Id: automatic DPDK test reports <test-report.dpdk.org>
List-Unsubscribe: <https://mails.dpdk.org/options/test-report>,
 <mailto:test-report-request@dpdk.org?subject=unsubscribe>
List-Archive: <http://mails.dpdk.org/archives/test-report/>
List-Post: <mailto:test-report@dpdk.org>
List-Help: <mailto:test-report-request@dpdk.org?subject=help>
List-Subscribe: <https://mails.dpdk.org/listinfo/test-report>,
 <mailto:test-report-request@dpdk.org?subject=subscribe>
Errors-To: test-report-bounces@dpdk.org

Test-Label: iol-unit-arm64-testing
Test-Status: WARNING
http://dpdk.org/patch/146572

_Testing issues_

Submitter: fengchengwen <fengchengwen@huawei.com>
Date: Tuesday, October 22 2024 06:14:31 
DPDK git baseline: Repo:dpdk
  Branch: master
  CommitID:cff6dba7ff8521df410b40399fd8aca5b450a05b

146566-146572 --> testing issues

Upstream job id: Generic-Unit-Test-DPDK#280327

Test environment and result as below:

+-----------------------------+----------------+--------------+---------------------------+
|         Environment         | dpdk_unit_test | lpm_autotest | cryptodev_sw_zuc_autotest |
+=============================+================+==============+===========================+
| Debian 11 (Buster) (ARM)    | PASS           | SKIPPED      | SKIPPED                   |
+-----------------------------+----------------+--------------+---------------------------+
| Fedora 37 (ARM)             | PEND           | SKIPPED      | SKIPPED                   |
+-----------------------------+----------------+--------------+---------------------------+
| Fedora 38 (ARM)             | PEND           | SKIPPED      | SKIPPED                   |
+-----------------------------+----------------+--------------+---------------------------+
| 32-bit Ubuntu 20.04.4 (ARM) | PASS           | SKIPPED      | SKIPPED                   |
+-----------------------------+----------------+--------------+---------------------------+
| Fedora 39 (ARM)             | PEND           | SKIPPED      | SKIPPED                   |
+-----------------------------+----------------+--------------+---------------------------+
| Fedora 40 (ARM)             | PEND           | SKIPPED      | SKIPPED                   |
+-----------------------------+----------------+--------------+---------------------------+
| Ubuntu 20.04 (ARM)          | PEND           | SKIPPED      | SKIPPED                   |
+-----------------------------+----------------+--------------+---------------------------+
| Ubuntu 22.04 (ARM)          | PEND           | SKIPPED      | SKIPPED                   |
+-----------------------------+----------------+--------------+---------------------------+
| Ubuntu 20.04 ARM SVE        | SKIPPED        | PASS         | SKIPPED                   |
+-----------------------------+----------------+--------------+---------------------------+
| Debian 12 (arm)             | SKIPPED        | SKIPPED      | WARN                      |
+-----------------------------+----------------+--------------+---------------------------+

==== 20 line log output for Debian 12 (arm) (cryptodev_sw_zuc_autotest): ====
 --- Failed to get log output --- 
==== End log output ====

Debian 11 (Buster) (ARM)
	Kernel: Depends on container host
	Compiler: gcc (Debian 10.2.1-6) 10.2.1 20210110

Fedora 37 (ARM)
	Kernel: Depends on container host
	Compiler: gcc 12.3.1 20230508 (Red Hat 12.3.1-1)

Fedora 38 (ARM)
	Kernel: Depends on container host
	Compiler: gcc 13.2.1 20240316 (Red Hat 13.2.1-7)

32-bit Ubuntu 20.04.4 (ARM)
	Kernel: 5.4.0-155-generic aarch64
	Compiler: gcc 9.4

Fedora 39 (ARM)
	Kernel: Depends on container host
	Compiler: gcc 13.3.1 20240522 (Red Hat 13.3.1-1)

Fedora 40 (ARM)
	Kernel: Depends on container host
	Compiler: gcc 14.2.1 20240801 (Red Hat 14.2.1-1)

Ubuntu 20.04 (ARM)
	Kernel: Depends on container host
	Compiler: gcc (Ubuntu 9.4.0-1ubuntu1~20.04.2) 9.4.0

Ubuntu 22.04 (ARM)
	Kernel: Depends on container host
	Compiler: gcc (Ubuntu 11.4.0-1ubuntu1~22.04) 11.4.0

Ubuntu 20.04 ARM SVE
	Kernel: Depends on container host
	Compiler: gcc (Ubuntu 10.5.0-1ubuntu1~20.04) 10.5.0

Debian 12 (arm)
	Kernel: Depends on container host
	Compiler: gcc (Debian 12.2.0-14) 12.2.0

To view detailed results, visit:
https://lab.dpdk.org/results/dashboard/patchsets/31588/

UNH-IOL DPDK Community Lab

To manage your email subscriptions, visit: 
https://lab.dpdk.org/results/dashboard/preferences/subscriptions/