From mboxrd@z Thu Jan  1 00:00:00 1970
Return-Path: <test-report-bounces@dpdk.org>
Received: from mails.dpdk.org (mails.dpdk.org [217.70.189.124])
	by inbox.dpdk.org (Postfix) with ESMTP id 22F6A45BB5
	for <public@inbox.dpdk.org>; Wed, 23 Oct 2024 21:22:52 +0200 (CEST)
Received: from mails.dpdk.org (localhost [127.0.0.1])
	by mails.dpdk.org (Postfix) with ESMTP id F402E40261;
	Wed, 23 Oct 2024 21:22:51 +0200 (CEST)
Received: from mail-oo1-f100.google.com (mail-oo1-f100.google.com
 [209.85.161.100])
 by mails.dpdk.org (Postfix) with ESMTP id 4C01540144
 for <test-report@dpdk.org>; Wed, 23 Oct 2024 21:22:51 +0200 (CEST)
Received: by mail-oo1-f100.google.com with SMTP id
 006d021491bc7-5ebbfcab9f4so48276eaf.2
 for <test-report@dpdk.org>; Wed, 23 Oct 2024 12:22:51 -0700 (PDT)
DKIM-Signature: v=1; a=rsa-sha256; c=relaxed/relaxed;
 d=iol.unh.edu; s=unh-iol; t=1729711370; x=1730316170; darn=dpdk.org;
 h=references:in-reply-to:cc:to:from:subject:message-id:date:from:to
 :cc:subject:date:message-id:reply-to;
 bh=MSKmHPXNBSXzao4Qwlfy16agWLzIRFDNbuS7pJprGMU=;
 b=J2xuAfuZ7JP0AAoav9aYguso8v282IfExN13IAFMNJiOTbx+HEPjhoKaU6D4RXds2n
 uDPs10BII032/OZKRGNiw0wz4TDGkjsBmBaH2zzws9lqa+kXsVzn6CW2BKazBVAyeAOv
 9X+k1A8elYdrnWZk3PL2+cqn6wmP9AiUuk1js=
X-Google-DKIM-Signature: v=1; a=rsa-sha256; c=relaxed/relaxed;
 d=1e100.net; s=20230601; t=1729711370; x=1730316170;
 h=references:in-reply-to:cc:to:from:subject:message-id:date
 :x-gm-message-state:from:to:cc:subject:date:message-id:reply-to;
 bh=MSKmHPXNBSXzao4Qwlfy16agWLzIRFDNbuS7pJprGMU=;
 b=v5yVEYlhXHLfpvE0iTKQv+oz/L6P+LWiJzmLiQjOcQWUMcugGUrESJobYJJ/iW+pio
 vYeDh68s6xDYVMaX7v5NsES3E8H5Fbg02jCBDmu8FMDP0UwLBmXnAUMIYlZoCnGguugM
 RPXk0HrWeFrjIGE5itrTPEO11G3lA0HtFARWelaCq9bWrMKzR2KCCrRAvYDhf2RZGRkF
 z0+l3vN3FFDK0MkDxcskof/rZfDJk2auR+4eQJd1h62U4BJQeB01j9GODw6h5sF+3gTr
 US/AoeTwx2AddNBziHQ2zKxWNTvvGZYkqZymzQG43Nh7zLCN7UiGUrsV/nGepeEg9bPq
 CXGQ==
X-Gm-Message-State: AOJu0YyCX2Q20pb8/TnoWxziW4B0AcY6NkuISYUwRcltRjkMn1cLeD3D
 oCIJ3MJ92xTHkV30b4m3GYhlSg86koiF7f1/nqJsUDdwdr/T3+CyKIs8iTnrOqj7FQsoaO+EsjH
 HJWVbnxUEuIeYWUp+23bkicMHgcQkShd/VLCt+jFp
X-Google-Smtp-Source: AGHT+IF5ByO2awPcU8Gjqapmkh/a2mThSZRlJE9BdWyJm+0C7xvMu0bDauYdtjG1EFiHDyYN+vk3yU5/hoNS
X-Received: by 2002:a05:6820:541:b0:5e1:ba69:1646 with SMTP id
 006d021491bc7-5ebee8df170mr2891975eaf.4.1729711370418; 
 Wed, 23 Oct 2024 12:22:50 -0700 (PDT)
Received: from postal.iol.unh.edu (postal.iol.unh.edu. [132.177.123.84])
 by smtp-relay.gmail.com with ESMTPS id
 006d021491bc7-5ec02c08b2csm3252eaf.25.2024.10.23.12.22.50
 (version=TLS1_2 cipher=ECDHE-ECDSA-AES128-GCM-SHA256 bits=128/128);
 Wed, 23 Oct 2024 12:22:50 -0700 (PDT)
X-Relaying-Domain: iol.unh.edu
Date: Wed, 23 Oct 2024 12:22:50 -0700 (PDT)
Message-ID: <67194d0a.050a0220.178843.033eSMTPIN_ADDED_MISSING@mx.google.com>
Received: from [172.17.0.3] (unknown [172.18.0.217])
 by postal.iol.unh.edu (Postfix) with ESMTP id D49696052471;
 Wed, 23 Oct 2024 15:22:49 -0400 (EDT)
Subject: |WARNING| pw146566-146572 [PATCH] [v3,8/8] maintainers: update for k
From: dpdklab@iol.unh.edu
To: Test Report <test-report@dpdk.org>
Cc: dpdk-test-reports@iol.unh.edu
In-Reply-To: <20241022061431.21925-9-fengchengwen@huawei.com>
References: <20241022061431.21925-9-fengchengwen@huawei.com>
Content-Type: text/plain
X-BeenThere: test-report@dpdk.org
X-Mailman-Version: 2.1.29
Precedence: list
List-Id: automatic DPDK test reports <test-report.dpdk.org>
List-Unsubscribe: <https://mails.dpdk.org/options/test-report>,
 <mailto:test-report-request@dpdk.org?subject=unsubscribe>
List-Archive: <http://mails.dpdk.org/archives/test-report/>
List-Post: <mailto:test-report@dpdk.org>
List-Help: <mailto:test-report-request@dpdk.org?subject=help>
List-Subscribe: <https://mails.dpdk.org/listinfo/test-report>,
 <mailto:test-report-request@dpdk.org?subject=subscribe>
Errors-To: test-report-bounces@dpdk.org

Test-Label: iol-unit-arm64-testing
Test-Status: WARNING
http://dpdk.org/patch/146572

_Testing issues_

Submitter: fengchengwen <fengchengwen@huawei.com>
Date: Tuesday, October 22 2024 06:14:31 
DPDK git baseline: Repo:dpdk
  Branch: master
  CommitID:cff6dba7ff8521df410b40399fd8aca5b450a05b

146566-146572 --> testing issues

Upstream job id: Generic-Unit-Test-DPDK#280356

Test environment and result as below:

+-----------------------------+----------------+--------------+---------------------------+------------------------------+
|         Environment         | dpdk_unit_test | lpm_autotest | cryptodev_sw_zuc_autotest | cryptodev_sw_snow3g_autotest |
+=============================+================+==============+===========================+==============================+
| 32-bit Ubuntu 20.04.4 (ARM) | PEND           | SKIPPED      | SKIPPED                   | SKIPPED                      |
+-----------------------------+----------------+--------------+---------------------------+------------------------------+
| CentOS Stream 9 (ARM)       | PEND           | SKIPPED      | SKIPPED                   | SKIPPED                      |
+-----------------------------+----------------+--------------+---------------------------+------------------------------+
| Debian 11 (Buster) (ARM)    | PEND           | SKIPPED      | SKIPPED                   | SKIPPED                      |
+-----------------------------+----------------+--------------+---------------------------+------------------------------+
| Debian 12 (arm)             | PEND           | SKIPPED      | WARN                      | WARN                         |
+-----------------------------+----------------+--------------+---------------------------+------------------------------+
| Fedora 38 (ARM)             | PEND           | SKIPPED      | SKIPPED                   | SKIPPED                      |
+-----------------------------+----------------+--------------+---------------------------+------------------------------+
| Ubuntu 20.04 ARM SVE        | SKIPPED        | PASS         | SKIPPED                   | SKIPPED                      |
+-----------------------------+----------------+--------------+---------------------------+------------------------------+

==== 20 line log output for Debian 12 (arm) (cryptodev_sw_snow3g_autotest): ====
 --- Failed to get log output --- 
==== End log output ====

32-bit Ubuntu 20.04.4 (ARM)
	Kernel: 5.4.0-155-generic aarch64
	Compiler: gcc 9.4

CentOS Stream 9 (ARM)
	Kernel: Depends on container host
	Compiler: gcc 11.4.1 20231218 (Red Hat 11.4.1-3)

Debian 11 (Buster) (ARM)
	Kernel: Depends on container host
	Compiler: gcc (Debian 10.2.1-6) 10.2.1 20210110

Debian 12 (arm)
	Kernel: Depends on container host
	Compiler: gcc (Debian 12.2.0-14) 12.2.0

Fedora 38 (ARM)
	Kernel: Depends on container host
	Compiler: gcc 13.2.1 20240316 (Red Hat 13.2.1-7)

Ubuntu 20.04 ARM SVE
	Kernel: Depends on container host
	Compiler: gcc (Ubuntu 10.5.0-1ubuntu1~20.04) 10.5.0

To view detailed results, visit:
https://lab.dpdk.org/results/dashboard/patchsets/31588/

UNH-IOL DPDK Community Lab

To manage your email subscriptions, visit: 
https://lab.dpdk.org/results/dashboard/preferences/subscriptions/