From mboxrd@z Thu Jan  1 00:00:00 1970
Return-Path: <test-report-bounces@dpdk.org>
Received: from mails.dpdk.org (mails.dpdk.org [217.70.189.124])
	by inbox.dpdk.org (Postfix) with ESMTP id B78FF45BB9
	for <public@inbox.dpdk.org>; Thu, 24 Oct 2024 05:04:20 +0200 (CEST)
Received: from mails.dpdk.org (localhost [127.0.0.1])
	by mails.dpdk.org (Postfix) with ESMTP id AFAF64060F;
	Thu, 24 Oct 2024 05:04:20 +0200 (CEST)
Received: from mail-pl1-f228.google.com (mail-pl1-f228.google.com
 [209.85.214.228])
 by mails.dpdk.org (Postfix) with ESMTP id 698A0402CF
 for <test-report@dpdk.org>; Thu, 24 Oct 2024 05:04:19 +0200 (CEST)
Received: by mail-pl1-f228.google.com with SMTP id
 d9443c01a7336-20cb47387ceso3018775ad.1
 for <test-report@dpdk.org>; Wed, 23 Oct 2024 20:04:19 -0700 (PDT)
DKIM-Signature: v=1; a=rsa-sha256; c=relaxed/relaxed;
 d=iol.unh.edu; s=unh-iol; t=1729739058; x=1730343858; darn=dpdk.org;
 h=references:in-reply-to:cc:to:from:subject:message-id:date:from:to
 :cc:subject:date:message-id:reply-to;
 bh=G324Cgs/pHszcMdHDpl5/r2kLlpQUnfu47pTLuaaYxg=;
 b=Tx6kbnk/K2ECztl/hDBMKA7zeTS5BlQ2HVEpot6qZrNAXHY2qnsymmf6K5ExsH8dhu
 yfrEXqaY4Zx6C82Cib4x68o0NP+fxqubryLZthMmG3Rk7iuD1gQv3l03eVSFlytqCTtb
 C49aoqqhgabcwoPXnLfAsLzS3P1pWMg3NR/vg=
X-Google-DKIM-Signature: v=1; a=rsa-sha256; c=relaxed/relaxed;
 d=1e100.net; s=20230601; t=1729739058; x=1730343858;
 h=references:in-reply-to:cc:to:from:subject:message-id:date
 :x-gm-message-state:from:to:cc:subject:date:message-id:reply-to;
 bh=G324Cgs/pHszcMdHDpl5/r2kLlpQUnfu47pTLuaaYxg=;
 b=UibjWhbQSg6siIvysRb7jiuG5ZtOC1oHTfq+Vl8ygmLhYDWzoIcei3PPeX8wr4/H3f
 X8pw6DErgbwS5W0uunUy0H2iR5NbehP6xQXb4GD8mWd0eTRm73aX5HXgUSex/NYP0epP
 WSQJRehHhka4fokPaU6a+6QgaTUlXc61Pb1EY0oshRhNbt7bPND2TVF1YJPhY44wnF1V
 N8kRvvdA4nZWbMVac14+v7Y7a038t91tjDPUBCamMdO2uQo3joc8MW94yBUhC7MHj7mR
 pj6ddf+ISz4XF/FmDil6tg/fIL6cMMcgHJWDoQcijpp2IJZJl2gKrQxi5EH2GQn+Yh51
 FXJA==
X-Gm-Message-State: AOJu0YxwbDDlCQNvAqynyT8xsjs6uyRhysTYeCvdnp433Klss3yKlBYp
 JbK9PjbKmXWkCkFv/HqNpZMnfy3BhcsPNAwtVR9KHBmWT8R529SnbyKiQwYJFajR64m4CXDbBy/
 FWmL1FDWdL2y0mAaJMiPVjlcqUhA1xxSkZUytvEFgPAFPM1nEQT6/QxWu
X-Google-Smtp-Source: AGHT+IHyY8UQDiM3ANfpBxzIwqEv7lOpBTT1XNt7Mhs3RSuqCdOqzj2mtFw3WoVuGungy2xVERHv2g78UUkw
X-Received: by 2002:a17:902:ecc9:b0:20b:8776:4902 with SMTP id
 d9443c01a7336-20fb9aa2125mr3785815ad.38.1729739058506; 
 Wed, 23 Oct 2024 20:04:18 -0700 (PDT)
Received: from postal.iol.unh.edu (postal.iol.unh.edu.
 [2606:4100:3880:1234::84]) by smtp-relay.gmail.com with ESMTPS id
 d9443c01a7336-20e7f0b0800sm2857255ad.14.2024.10.23.20.04.18
 (version=TLS1_2 cipher=ECDHE-ECDSA-AES128-GCM-SHA256 bits=128/128);
 Wed, 23 Oct 2024 20:04:18 -0700 (PDT)
X-Relaying-Domain: iol.unh.edu
Date: Wed, 23 Oct 2024 20:04:18 -0700 (PDT)
Message-ID: <6719b932.170a0220.27be98.2305SMTPIN_ADDED_MISSING@mx.google.com>
Received: from [172.17.0.4] (unknown [172.18.0.217])
 by postal.iol.unh.edu (Postfix) with ESMTP id B3D526052471;
 Wed, 23 Oct 2024 23:04:17 -0400 (EDT)
Subject: |SUCCESS| pw146314 [PATCH] net/netvsc: force TX VLAN offload on 801.
From: dpdklab@iol.unh.edu
To: Test Report <test-report@dpdk.org>
Cc: dpdk-test-reports@iol.unh.edu
In-Reply-To: <1729275230-16011-1-git-send-email-longli@linuxonhyperv.com>
References: <1729275230-16011-1-git-send-email-longli@linuxonhyperv.com>
Content-Type: text/plain
X-BeenThere: test-report@dpdk.org
X-Mailman-Version: 2.1.29
Precedence: list
List-Id: automatic DPDK test reports <test-report.dpdk.org>
List-Unsubscribe: <https://mails.dpdk.org/options/test-report>,
 <mailto:test-report-request@dpdk.org?subject=unsubscribe>
List-Archive: <http://mails.dpdk.org/archives/test-report/>
List-Post: <mailto:test-report@dpdk.org>
List-Help: <mailto:test-report-request@dpdk.org?subject=help>
List-Subscribe: <https://mails.dpdk.org/listinfo/test-report>,
 <mailto:test-report-request@dpdk.org?subject=subscribe>
Errors-To: test-report-bounces@dpdk.org

Test-Label: iol-sample-apps-testing
Test-Status: SUCCESS
http://dpdk.org/patch/146314

_Testing PASS_

Submitter: Long Li <longli@linuxonhyperv.com>
Date: Friday, October 18 2024 18:13:50 
DPDK git baseline: Repo:dpdk
  Branch: master
  CommitID:03d37ac13b61563fb31e4a0f5d0e427a61d548d5

146314 --> testing pass

Upstream job id: ACVP-FIPS-testing#7434

Test environment and result as below:

+--------------------+----------------------+----------------------+
|    Environment     | compressdev_zlib_pmd | dpdk_fips_validation |
+====================+======================+======================+
| Ubuntu 22.04 (ARM) | PASS                 | SKIPPED              |
+--------------------+----------------------+----------------------+
| Ubuntu 22.04       | PASS                 | SKIPPED              |
+--------------------+----------------------+----------------------+
| Ubuntu 20.04       | SKIPPED              | PASS                 |
+--------------------+----------------------+----------------------+


Ubuntu 22.04 (ARM)
	Kernel: 5.15.0-97-generic
	Compiler: gcc gcc (Ubuntu 11.4.0-1ubuntu1~22.04) 11.4.0

Ubuntu 22.04
	Kernel: 5.15.0-100-generic
	Compiler: gcc gcc (Ubuntu 11.4.0-1ubuntu1~22.04) 11.4.0

Ubuntu 20.04
	Kernel: Depends on container host
	Compiler: gcc (Ubuntu 9.4.0-1ubuntu1~20.04.2) 9.4.0

To view detailed results, visit:
https://lab.dpdk.org/results/dashboard/patchsets/31557/

UNH-IOL DPDK Community Lab

To manage your email subscriptions, visit: 
https://lab.dpdk.org/results/dashboard/preferences/subscriptions/