From mboxrd@z Thu Jan  1 00:00:00 1970
Return-Path: <test-report-bounces@dpdk.org>
Received: from mails.dpdk.org (mails.dpdk.org [217.70.189.124])
	by inbox.dpdk.org (Postfix) with ESMTP id 4630945BB9
	for <public@inbox.dpdk.org>; Thu, 24 Oct 2024 05:25:44 +0200 (CEST)
Received: from mails.dpdk.org (localhost [127.0.0.1])
	by mails.dpdk.org (Postfix) with ESMTP id 40BE443352;
	Thu, 24 Oct 2024 05:25:44 +0200 (CEST)
Received: from mail-pf1-f226.google.com (mail-pf1-f226.google.com
 [209.85.210.226])
 by mails.dpdk.org (Postfix) with ESMTP id 702AA4060F
 for <test-report@dpdk.org>; Thu, 24 Oct 2024 05:25:43 +0200 (CEST)
Received: by mail-pf1-f226.google.com with SMTP id
 d2e1a72fcca58-71e74900866so348254b3a.1
 for <test-report@dpdk.org>; Wed, 23 Oct 2024 20:25:43 -0700 (PDT)
DKIM-Signature: v=1; a=rsa-sha256; c=relaxed/relaxed;
 d=iol.unh.edu; s=unh-iol; t=1729740342; x=1730345142; darn=dpdk.org;
 h=references:in-reply-to:cc:to:from:subject:message-id:date:from:to
 :cc:subject:date:message-id:reply-to;
 bh=9DB0h0OJCPiTxxiUvuAcLjxGqZxhD6QrEiSt6vuQcSk=;
 b=JVGoKcLznI1w44rU/OxHSsvji3AO5UxbAls+t983tEAojexs3YdCT9eyDVNkv1IZaw
 6b5eyBojXKh4h4ZgHTn439BmHifq5KfdC8MfxEwIN+3VXRN/+Et341q4v2qxgKs6z6RY
 9m18Fazxcj0MhL8k1n8zbds1oeQzPa7HO6F3E=
X-Google-DKIM-Signature: v=1; a=rsa-sha256; c=relaxed/relaxed;
 d=1e100.net; s=20230601; t=1729740342; x=1730345142;
 h=references:in-reply-to:cc:to:from:subject:message-id:date
 :x-gm-message-state:from:to:cc:subject:date:message-id:reply-to;
 bh=9DB0h0OJCPiTxxiUvuAcLjxGqZxhD6QrEiSt6vuQcSk=;
 b=lCP0ALh1UrIHM7NCX9wUAgO1PfdQKN8j6wDdrjKUCijJ3Zg2yVSGkUNh5hNec8Yo1M
 3aX1Ovdh6bRIOS4IFLOlifzgQ8h/A+ogHYfaRHgDKJc5FCk/g8a1GKqJkG1AzNdb9xah
 HDbtA6scU6Q3Nte1bC5oPkkAeXxmaH8loOFR7kVVVigS1Gqggub7g0WuwhftmMrWMiO7
 69ZM4mM6XfzGi87SqyzetpIOBvFNJboazkL96tM3DZKuauJV2k7pVt9JbO+Ika2tFmAW
 hOeBYasOK6vC9ISZP5Tz6TNddbqpYMqvXV8gCNZKNoaNNrHEihTYj3ccBB2jpffZsWkC
 eeDA==
X-Gm-Message-State: AOJu0YykpZRnIWWzu4k0a5RPyo+llRs6MZ0JPTnVkiIqQ37BWlg3jJqT
 Gv6ywHiYUDPgTj2EUuM3UqArM/EGigLeuVbatmN08c08nIFf3RtXCGKeBzIwDD6BsRny+A5Za1C
 Xfdy6JscdCOhm4ZfM0eSD/nkrQGRjTo3D9Rw3dc25JUMTHJgjL3vwHYCu
X-Google-Smtp-Source: AGHT+IH97TCEY/GCSitvJJF2J6uFmme1jKgz1SavAUDuEF4javUohTm1K/17qGy23Mt+GEHQ1PVxHRMD1FsS
X-Received: by 2002:a05:6a00:8d3:b0:71e:52cd:9cd4 with SMTP id
 d2e1a72fcca58-72045f66d2dmr630241b3a.20.1729740342496; 
 Wed, 23 Oct 2024 20:25:42 -0700 (PDT)
Received: from postal.iol.unh.edu (postal.iol.unh.edu.
 [2606:4100:3880:1234::84]) by smtp-relay.gmail.com with ESMTPS id
 d2e1a72fcca58-71ec137a3fbsm454801b3a.9.2024.10.23.20.25.42
 (version=TLS1_2 cipher=ECDHE-ECDSA-AES128-GCM-SHA256 bits=128/128);
 Wed, 23 Oct 2024 20:25:42 -0700 (PDT)
X-Relaying-Domain: iol.unh.edu
Date: Wed, 23 Oct 2024 20:25:42 -0700 (PDT)
Message-ID: <6719be36.050a0220.246198.d07cSMTPIN_ADDED_MISSING@mx.google.com>
Received: from [172.21.0.2] (unknown [172.18.0.240])
 by postal.iol.unh.edu (Postfix) with ESMTP id 9E47A6052471;
 Wed, 23 Oct 2024 23:25:41 -0400 (EDT)
Subject: |SUCCESS| pw146955-146962 [PATCH] [8/8] net/cnxk: handle RSS action 
From: dpdklab@iol.unh.edu
To: Test Report <test-report@dpdk.org>
Cc: dpdk-test-reports@iol.unh.edu
In-Reply-To: <20241023150143.113877-8-hkalra@marvell.com>
References: <20241023150143.113877-8-hkalra@marvell.com>
Content-Type: text/plain
X-BeenThere: test-report@dpdk.org
X-Mailman-Version: 2.1.29
Precedence: list
List-Id: automatic DPDK test reports <test-report.dpdk.org>
List-Unsubscribe: <https://mails.dpdk.org/options/test-report>,
 <mailto:test-report-request@dpdk.org?subject=unsubscribe>
List-Archive: <http://mails.dpdk.org/archives/test-report/>
List-Post: <mailto:test-report@dpdk.org>
List-Help: <mailto:test-report-request@dpdk.org?subject=help>
List-Subscribe: <https://mails.dpdk.org/listinfo/test-report>,
 <mailto:test-report-request@dpdk.org?subject=subscribe>
Errors-To: test-report-bounces@dpdk.org

Test-Label: iol-unit-amd64-testing
Test-Status: SUCCESS
http://dpdk.org/patch/146962

_Testing PASS_

Submitter: Harman Kalra <hkalra@marvell.com>
Date: Wednesday, October 23 2024 15:01:42 
DPDK git baseline: Repo:dpdk
  Branch: master
  CommitID:3ee7a3e0e0e0f5a81a4b102a834697bc488fb32f

146955-146962 --> testing pass

Upstream job id: Generic-Unit-Test-DPDK#280594

Test environment and result as below:

+-------------------+----------------+
|    Environment    | dpdk_unit_test |
+===================+================+
| CentOS Stream 9   | PASS           |
+-------------------+----------------+
| Debian Bullseye   | PASS           |
+-------------------+----------------+
| Fedora 37         | PASS           |
+-------------------+----------------+
| Fedora 38         | PASS           |
+-------------------+----------------+
| Debian 12         | PASS           |
+-------------------+----------------+
| Fedora 39         | PASS           |
+-------------------+----------------+
| Fedora 38 (Clang) | PASS           |
+-------------------+----------------+
| Fedora 39 (Clang) | PASS           |
+-------------------+----------------+
| Fedora 40         | PASS           |
+-------------------+----------------+
| Fedora 40 (Clang) | PASS           |
+-------------------+----------------+
| RHEL8             | PASS           |
+-------------------+----------------+
| RHEL9             | PASS           |
+-------------------+----------------+
| Ubuntu 20.04      | PASS           |
+-------------------+----------------+
| Ubuntu 24.04      | PASS           |
+-------------------+----------------+


CentOS Stream 9
	Kernel: Depends on container host
	Compiler: gcc 11.4.1 20231218 (Red Hat 11.4.1-3)

Debian Bullseye
	Kernel: Depends on container host
	Compiler: gcc (Debian 10.2.1-6) 10.2.1 20210110

Fedora 37
	Kernel: Depends on container host system
	Compiler: gcc 12.3.1 20230508 (Red Hat 12.3.1-1)

Fedora 38
	Kernel: Depends on container host
	Compiler: gcc 13.2.1 20240316 (Red Hat 13.2.1-7)

Debian 12
	Kernel: Depends on container host
	Compiler: gcc (Debian 12.2.0-14) 12.2.0

Fedora 39
	Kernel: Depends on container host
	Compiler: gcc 13.3.1 20240522 (Red Hat 13.3.1-1)

Fedora 38 (Clang)
	Kernel: Depends on container host
	Compiler: clang 16.0.6 (Fedora 16.0.6-4.fc38)

Fedora 39 (Clang)
	Kernel: Depends on container host
	Compiler: clang 17.0.6 (Fedora 17.0.6-2.fc39)

Fedora 40
	Kernel: Depends on container host
	Compiler: gcc 14.2.1 20240801 (Red Hat 14.2.1-1)

Fedora 40 (Clang)
	Kernel: Depends on container host
	Compiler: clang 18.1.6 (Fedora 18.1.6-3.fc40)

RHEL8
	Kernel: Depends on container host
	Compiler: gcc 8.5.0 20210514 (Red Hat 8.5.0-22)

RHEL9
	Kernel: Depends on container host
	Compiler: gcc 11.4.1 20231218 (Red Hat 11.4.1-3)

Ubuntu 20.04
	Kernel: Depends on container host
	Compiler: gcc (Ubuntu 9.4.0-1ubuntu1~20.04.2) 9.4.0

Ubuntu 24.04
	Kernel: Depends on container host
	Compiler: gcc (Ubuntu 13.2.0-23ubuntu4) 13.2.0

To view detailed results, visit:
https://lab.dpdk.org/results/dashboard/patchsets/31625/

UNH-IOL DPDK Community Lab

To manage your email subscriptions, visit: 
https://lab.dpdk.org/results/dashboard/preferences/subscriptions/