From mboxrd@z Thu Jan  1 00:00:00 1970
Return-Path: <test-report-bounces@dpdk.org>
Received: from mails.dpdk.org (mails.dpdk.org [217.70.189.124])
	by inbox.dpdk.org (Postfix) with ESMTP id 60E9F45BBB
	for <public@inbox.dpdk.org>; Thu, 24 Oct 2024 06:14:19 +0200 (CEST)
Received: from mails.dpdk.org (localhost [127.0.0.1])
	by mails.dpdk.org (Postfix) with ESMTP id 5D9DA43352;
	Thu, 24 Oct 2024 06:14:19 +0200 (CEST)
Received: from mail-pl1-f228.google.com (mail-pl1-f228.google.com
 [209.85.214.228])
 by mails.dpdk.org (Postfix) with ESMTP id 9A56B4060F
 for <test-report@dpdk.org>; Thu, 24 Oct 2024 06:14:17 +0200 (CEST)
Received: by mail-pl1-f228.google.com with SMTP id
 d9443c01a7336-20cf6eea3c0so3482555ad.0
 for <test-report@dpdk.org>; Wed, 23 Oct 2024 21:14:17 -0700 (PDT)
DKIM-Signature: v=1; a=rsa-sha256; c=relaxed/relaxed;
 d=iol.unh.edu; s=unh-iol; t=1729743257; x=1730348057; darn=dpdk.org;
 h=references:in-reply-to:cc:to:from:subject:message-id:date:from:to
 :cc:subject:date:message-id:reply-to;
 bh=c+rZt3CDOKF6f7xbb4r6U/vdr/l3jawoThVgJ2EbkJ0=;
 b=X0oxJyRyPvTI8VosWKHG540V0sCgC+lOLp3P6BhklTKtV+e7mNkH+MhLvhClETJOl4
 2f8wDz9oRDtA2fgSTg4U9oFIerTubVNz33VvU4T8F386lqGro68UTdIX0Nb3oU/bhA0V
 FhUgS0kWn9VHXlvF0iG6hTsSVe+6duyyuzR4s=
X-Google-DKIM-Signature: v=1; a=rsa-sha256; c=relaxed/relaxed;
 d=1e100.net; s=20230601; t=1729743257; x=1730348057;
 h=references:in-reply-to:cc:to:from:subject:message-id:date
 :x-gm-message-state:from:to:cc:subject:date:message-id:reply-to;
 bh=c+rZt3CDOKF6f7xbb4r6U/vdr/l3jawoThVgJ2EbkJ0=;
 b=NkNUHvhwG+anzYxifVqarvYhxyvE/VH96RsZb9CF2Ft9+MlVWxvog8ZpZJVsy+6Ikd
 kMcZwZsdo8AhDeCrp2FCRtpOAG1YqY1u8Hj9wd/f7yeJ3yPJP9AFX4QqjzHBDGyrkNvA
 TGy8lXycLYnmAp6uUSiQP0g2tuX41atFNqn857jr2srfcF/4yWB9Cf056NBh9jbERiXn
 99eYqMGYQ3xd6bGLUy3PzuivsOO6Z5+WuJv4rKsDUxzvlNoIPdxO8UTgjPNw3QDrsWuH
 RJ3XZuaSsFTUccZMdzTOMech7MkWCxKLGc8KkzEM+KM1cifteK4jiZWyoR2HJRJULkg9
 L+dA==
X-Gm-Message-State: AOJu0Yy0GldpJD3gmjUi91ezMwDqbtod1oY6PytaQyp+MBfCwIkNPmRj
 H34GiyeQ0wHDlgFBBJhg0Ff4M4MbcYCuwz9jSpQSXk+O8U0LkzwY5zDqmuXttE1RLX93FKmsIRC
 hB6g2NmM8ocg24KQ6CmUWz8S/kbKFbFkoz97OouZr
X-Google-Smtp-Source: AGHT+IGhLWgAgjgptet31wR+nCCT6Elog6n5yCMYuYrIaXoWIYtKb4fMyNg0oVgwrvLRY/S6wQbb269bq7po
X-Received: by 2002:a17:902:db07:b0:20c:e8df:2516 with SMTP id
 d9443c01a7336-20fb9aa225fmr5966115ad.42.1729743256807; 
 Wed, 23 Oct 2024 21:14:16 -0700 (PDT)
Received: from postal.iol.unh.edu (postal.iol.unh.edu. [132.177.123.84])
 by smtp-relay.gmail.com with ESMTPS id
 d9443c01a7336-20e7f17cb91sm3060625ad.114.2024.10.23.21.14.16
 (version=TLS1_2 cipher=ECDHE-ECDSA-AES128-GCM-SHA256 bits=128/128);
 Wed, 23 Oct 2024 21:14:16 -0700 (PDT)
X-Relaying-Domain: iol.unh.edu
Date: Wed, 23 Oct 2024 21:14:16 -0700 (PDT)
Message-ID: <6719c998.170a0220.1efe1a.37dfSMTPIN_ADDED_MISSING@mx.google.com>
Received: from [172.21.0.3] (unknown [172.18.0.240])
 by postal.iol.unh.edu (Postfix) with ESMTP id 3835F6052471;
 Thu, 24 Oct 2024 00:14:16 -0400 (EDT)
Subject: |SUCCESS| pw146864-146904 [PATCH] [v4,42/42] vdpa/sfc: use rte strer
From: dpdklab@iol.unh.edu
To: Test Report <test-report@dpdk.org>
Cc: dpdk-test-reports@iol.unh.edu
In-Reply-To: <20241023082852.2780488-43-huangdengdui@huawei.com>
References: <20241023082852.2780488-43-huangdengdui@huawei.com>
Content-Type: text/plain
X-BeenThere: test-report@dpdk.org
X-Mailman-Version: 2.1.29
Precedence: list
List-Id: automatic DPDK test reports <test-report.dpdk.org>
List-Unsubscribe: <https://mails.dpdk.org/options/test-report>,
 <mailto:test-report-request@dpdk.org?subject=unsubscribe>
List-Archive: <http://mails.dpdk.org/archives/test-report/>
List-Post: <mailto:test-report@dpdk.org>
List-Help: <mailto:test-report-request@dpdk.org?subject=help>
List-Subscribe: <https://mails.dpdk.org/listinfo/test-report>,
 <mailto:test-report-request@dpdk.org?subject=subscribe>
Errors-To: test-report-bounces@dpdk.org

Test-Label: iol-unit-amd64-testing
Test-Status: SUCCESS
http://dpdk.org/patch/146904

_Testing PASS_

Submitter: Dengdui Huang <huangdengdui@huawei.com>
Date: Wednesday, October 23 2024 08:28:52 
DPDK git baseline: Repo:dpdk
  Branch: master
  CommitID:3ee7a3e0e0e0f5a81a4b102a834697bc488fb32f

146864-146904 --> testing pass

Upstream job id: Generic-Unit-Test-DPDK#280642

Test environment and result as below:

+-------------------+----------------+
|    Environment    | dpdk_unit_test |
+===================+================+
| CentOS Stream 9   | PASS           |
+-------------------+----------------+
| Debian Bullseye   | PASS           |
+-------------------+----------------+
| Debian 12         | PASS           |
+-------------------+----------------+
| Fedora 38         | PASS           |
+-------------------+----------------+
| Fedora 37         | PASS           |
+-------------------+----------------+
| Fedora 38 (Clang) | PASS           |
+-------------------+----------------+
| Fedora 39         | PASS           |
+-------------------+----------------+
| Fedora 39 (Clang) | PASS           |
+-------------------+----------------+
| Fedora 40         | PASS           |
+-------------------+----------------+
| RHEL8             | PASS           |
+-------------------+----------------+
| RHEL9             | PASS           |
+-------------------+----------------+
| Ubuntu 20.04      | PASS           |
+-------------------+----------------+
| Ubuntu 22.04      | PASS           |
+-------------------+----------------+
| Ubuntu 24.04      | PASS           |
+-------------------+----------------+


CentOS Stream 9
	Kernel: Depends on container host
	Compiler: gcc 11.4.1 20231218 (Red Hat 11.4.1-3)

Debian Bullseye
	Kernel: Depends on container host
	Compiler: gcc (Debian 10.2.1-6) 10.2.1 20210110

Debian 12
	Kernel: Depends on container host
	Compiler: gcc (Debian 12.2.0-14) 12.2.0

Fedora 38
	Kernel: Depends on container host
	Compiler: gcc 13.2.1 20240316 (Red Hat 13.2.1-7)

Fedora 37
	Kernel: Depends on container host system
	Compiler: gcc 12.3.1 20230508 (Red Hat 12.3.1-1)

Fedora 38 (Clang)
	Kernel: Depends on container host
	Compiler: clang 16.0.6 (Fedora 16.0.6-4.fc38)

Fedora 39
	Kernel: Depends on container host
	Compiler: gcc 13.3.1 20240522 (Red Hat 13.3.1-1)

Fedora 39 (Clang)
	Kernel: Depends on container host
	Compiler: clang 17.0.6 (Fedora 17.0.6-2.fc39)

Fedora 40
	Kernel: Depends on container host
	Compiler: gcc 14.2.1 20240801 (Red Hat 14.2.1-1)

RHEL8
	Kernel: Depends on container host
	Compiler: gcc 8.5.0 20210514 (Red Hat 8.5.0-22)

RHEL9
	Kernel: Depends on container host
	Compiler: gcc 11.4.1 20231218 (Red Hat 11.4.1-3)

Ubuntu 20.04
	Kernel: Depends on container host
	Compiler: gcc (Ubuntu 9.4.0-1ubuntu1~20.04.2) 9.4.0

Ubuntu 22.04
	Kernel: Depends on container host
	Compiler: gcc (Ubuntu 11.4.0-1ubuntu1~22.04) 11.4.0

Ubuntu 24.04
	Kernel: Depends on container host
	Compiler: gcc (Ubuntu 13.2.0-23ubuntu4) 13.2.0

To view detailed results, visit:
https://lab.dpdk.org/results/dashboard/patchsets/31620/

UNH-IOL DPDK Community Lab

To manage your email subscriptions, visit: 
https://lab.dpdk.org/results/dashboard/preferences/subscriptions/