From mboxrd@z Thu Jan  1 00:00:00 1970
Return-Path: <test-report-bounces@dpdk.org>
Received: from mails.dpdk.org (mails.dpdk.org [217.70.189.124])
	by inbox.dpdk.org (Postfix) with ESMTP id CA00E45BC4
	for <public@inbox.dpdk.org>; Thu, 24 Oct 2024 15:58:27 +0200 (CEST)
Received: from mails.dpdk.org (localhost [127.0.0.1])
	by mails.dpdk.org (Postfix) with ESMTP id C678440281;
	Thu, 24 Oct 2024 15:58:27 +0200 (CEST)
Received: from mail-io1-f98.google.com (mail-io1-f98.google.com
 [209.85.166.98]) by mails.dpdk.org (Postfix) with ESMTP id 16AF340265
 for <test-report@dpdk.org>; Thu, 24 Oct 2024 15:58:26 +0200 (CEST)
Received: by mail-io1-f98.google.com with SMTP id
 ca18e2360f4ac-83aff992087so40262739f.3
 for <test-report@dpdk.org>; Thu, 24 Oct 2024 06:58:26 -0700 (PDT)
DKIM-Signature: v=1; a=rsa-sha256; c=relaxed/relaxed;
 d=iol.unh.edu; s=unh-iol; t=1729778305; x=1730383105; darn=dpdk.org;
 h=references:in-reply-to:cc:to:from:subject:message-id:date:from:to
 :cc:subject:date:message-id:reply-to;
 bh=lKth1ToK2qjg0xzElWUcYZz6NtuRcAnboEIG6j/Yjl0=;
 b=YA1C193qFeuh64zUXhsUR+E2ZaUdZWFE/3GuyDPhwuFUtJyJJAvzW9HZDWAhztDWRu
 /Gu48udDz4EZLFhzNcYex+sR4uAA/2woZ6QVnU/VDThj22pDeeJ1kmVoDD9AbmQXUB7x
 zoJl9npgB63wW8QxU3DvePiq+qTALKAqqwPj0=
X-Google-DKIM-Signature: v=1; a=rsa-sha256; c=relaxed/relaxed;
 d=1e100.net; s=20230601; t=1729778305; x=1730383105;
 h=references:in-reply-to:cc:to:from:subject:message-id:date
 :x-gm-message-state:from:to:cc:subject:date:message-id:reply-to;
 bh=lKth1ToK2qjg0xzElWUcYZz6NtuRcAnboEIG6j/Yjl0=;
 b=PLZ4FZiaZZ7s0EbcBSHri1aZlClEVPgoquia5CKoc5Au5VbuXleiJ/HpPJRDuOP1aN
 ZSeSNsuGx4fLXkdOJCeFDx+Zp674wRuXclsywB6WIS1nBi6xeW8izzqkfwEYwFTgQGfZ
 gBdAth9eG5yM6UaUsPnI0PkkGUu3LRSsHosuJARq2p3C/fjiVgSuMO3An6VVvUEAMaLg
 47pw/l8ZJj4O82/CMzha3E1RL19F1CUfgfUeXlsjvOy1Knsi+I3uC2MX6l86/Uc2bs0O
 /2bjtfTrFi2GobzIuDxTDHsr0zuMVd7P0BAA74+FFuFz5eSzsIGOepkReexEI0AF0CfW
 5qHA==
X-Gm-Message-State: AOJu0YyEKPtREUOjv4dSC2hs1Cy5HSqPmAV85i1CVGsO13A9dGPu9KQk
 iY4No1v8Wlw9bEYh0y1ktXvXDH8FaJ56edGNXm7/t1+mG1mx28kG/mIdPj65icOP1Xw4fch63vG
 Mmp2BQFYAf/8kh2Ba8iQ82alYVARAfSlcsVw1C1UC
X-Google-Smtp-Source: AGHT+IERihplYT9BhDviWyjW58AbJKClspbG05Pxeth25SAv1igYPP8blnBroueUh0Vya6W5z1ToI2vMPmv9
X-Received: by 2002:a05:6602:2c06:b0:81f:75bf:6570 with SMTP id
 ca18e2360f4ac-83b04018a71mr290885239f.5.1729778304509; 
 Thu, 24 Oct 2024 06:58:24 -0700 (PDT)
Received: from postal.iol.unh.edu (postal.iol.unh.edu. [132.177.123.84])
 by smtp-relay.gmail.com with ESMTPS id
 8926c6da1cb9f-4dc2a4f312fsm400737173.29.2024.10.24.06.58.24
 (version=TLS1_2 cipher=ECDHE-ECDSA-AES128-GCM-SHA256 bits=128/128);
 Thu, 24 Oct 2024 06:58:24 -0700 (PDT)
X-Relaying-Domain: iol.unh.edu
Date: Thu, 24 Oct 2024 06:58:24 -0700 (PDT)
Message-ID: <671a5280.050a0220.27e35c.a344SMTPIN_ADDED_MISSING@mx.google.com>
Received: from [172.21.0.2] (unknown [172.18.0.240])
 by postal.iol.unh.edu (Postfix) with ESMTP id 245DC6052471;
 Thu, 24 Oct 2024 09:58:24 -0400 (EDT)
Subject: |WARNING| pw146621-146630 [PATCH] [v13,12/12] crypto/zsda: add zsda 
From: dpdklab@iol.unh.edu
To: Test Report <test-report@dpdk.org>
Cc: dpdk-test-reports@iol.unh.edu
In-Reply-To: <20241022125931.2128534-13-wang.junlong1@zte.com.cn>
References: <20241022125931.2128534-13-wang.junlong1@zte.com.cn>
Content-Type: text/plain
X-BeenThere: test-report@dpdk.org
X-Mailman-Version: 2.1.29
Precedence: list
List-Id: automatic DPDK test reports <test-report.dpdk.org>
List-Unsubscribe: <https://mails.dpdk.org/options/test-report>,
 <mailto:test-report-request@dpdk.org?subject=unsubscribe>
List-Archive: <http://mails.dpdk.org/archives/test-report/>
List-Post: <mailto:test-report@dpdk.org>
List-Help: <mailto:test-report-request@dpdk.org?subject=help>
List-Subscribe: <https://mails.dpdk.org/listinfo/test-report>,
 <mailto:test-report-request@dpdk.org?subject=subscribe>
Errors-To: test-report-bounces@dpdk.org

Test-Label: iol-unit-arm64-testing
Test-Status: WARNING
http://dpdk.org/patch/146630

_Testing issues_

Submitter: Junlong Wang <wang.junlong1@zte.com.cn>
Date: Tuesday, October 22 2024 12:59:18 
DPDK git baseline: Repo:dpdk
  Branch: master
  CommitID:cff6dba7ff8521df410b40399fd8aca5b450a05b

146621-146630 --> testing issues

Upstream job id: Generic-Unit-Test-DPDK#280831

Test environment and result as below:

+-----------------------------+----------------+--------------+---------------------------+------------------------------+
|         Environment         | dpdk_unit_test | lpm_autotest | cryptodev_sw_zuc_autotest | cryptodev_sw_snow3g_autotest |
+=============================+================+==============+===========================+==============================+
| 32-bit Ubuntu 20.04.4 (ARM) | PASS           | SKIPPED      | SKIPPED                   | SKIPPED                      |
+-----------------------------+----------------+--------------+---------------------------+------------------------------+
| CentOS Stream 9 (ARM)       | PASS           | SKIPPED      | SKIPPED                   | SKIPPED                      |
+-----------------------------+----------------+--------------+---------------------------+------------------------------+
| Debian 11 (Buster) (ARM)    | PASS           | SKIPPED      | SKIPPED                   | SKIPPED                      |
+-----------------------------+----------------+--------------+---------------------------+------------------------------+
| Debian 12 (arm)             | PASS           | SKIPPED      | WARN                      | WARN                         |
+-----------------------------+----------------+--------------+---------------------------+------------------------------+
| Fedora 38 (ARM Clang)       | PASS           | SKIPPED      | SKIPPED                   | SKIPPED                      |
+-----------------------------+----------------+--------------+---------------------------+------------------------------+
| Fedora 39 (ARM)             | PASS           | SKIPPED      | SKIPPED                   | SKIPPED                      |
+-----------------------------+----------------+--------------+---------------------------+------------------------------+
| Fedora 39 (ARM Clang)       | PASS           | SKIPPED      | SKIPPED                   | SKIPPED                      |
+-----------------------------+----------------+--------------+---------------------------+------------------------------+
| RHEL9 (ARM)                 | PASS           | SKIPPED      | SKIPPED                   | SKIPPED                      |
+-----------------------------+----------------+--------------+---------------------------+------------------------------+
| Ubuntu 20.04 (ARM)          | PASS           | SKIPPED      | SKIPPED                   | SKIPPED                      |
+-----------------------------+----------------+--------------+---------------------------+------------------------------+
| Ubuntu 22.04 (ARM)          | PASS           | SKIPPED      | SKIPPED                   | SKIPPED                      |
+-----------------------------+----------------+--------------+---------------------------+------------------------------+
| Ubuntu 20.04 ARM SVE        | SKIPPED        | PASS         | SKIPPED                   | SKIPPED                      |
+-----------------------------+----------------+--------------+---------------------------+------------------------------+

==== 20 line log output for Debian 12 (arm) (cryptodev_sw_snow3g_autotest): ====
 --- Failed to get log output --- 
==== End log output ====

32-bit Ubuntu 20.04.4 (ARM)
	Kernel: 5.4.0-155-generic aarch64
	Compiler: gcc 9.4

CentOS Stream 9 (ARM)
	Kernel: Depends on container host
	Compiler: gcc 11.4.1 20231218 (Red Hat 11.4.1-3)

Debian 11 (Buster) (ARM)
	Kernel: Depends on container host
	Compiler: gcc (Debian 10.2.1-6) 10.2.1 20210110

Debian 12 (arm)
	Kernel: Depends on container host
	Compiler: gcc (Debian 12.2.0-14) 12.2.0

Fedora 38 (ARM Clang)
	Kernel: Depends on container host
	Compiler: clang 16.0.6 (Fedora 16.0.6-4.fc38)

Fedora 39 (ARM)
	Kernel: Depends on container host
	Compiler: gcc 13.3.1 20240522 (Red Hat 13.3.1-1)

Fedora 39 (ARM Clang)
	Kernel: Depends on container host
	Compiler: clang 17.0.6 (Fedora 17.0.6-2.fc39)

RHEL9 (ARM)
	Kernel: Depends on container host
	Compiler: gcc 11.4.1 20231218 (Red Hat 11.4.1-3)

Ubuntu 20.04 (ARM)
	Kernel: Depends on container host
	Compiler: gcc (Ubuntu 9.4.0-1ubuntu1~20.04.2) 9.4.0

Ubuntu 22.04 (ARM)
	Kernel: Depends on container host
	Compiler: gcc (Ubuntu 11.4.0-1ubuntu1~22.04) 11.4.0

Ubuntu 20.04 ARM SVE
	Kernel: Depends on container host
	Compiler: gcc (Ubuntu 10.5.0-1ubuntu1~20.04) 10.5.0

To view detailed results, visit:
https://lab.dpdk.org/results/dashboard/patchsets/31598/

UNH-IOL DPDK Community Lab

To manage your email subscriptions, visit: 
https://lab.dpdk.org/results/dashboard/preferences/subscriptions/