From mboxrd@z Thu Jan  1 00:00:00 1970
Return-Path: <test-report-bounces@dpdk.org>
Received: from mails.dpdk.org (mails.dpdk.org [217.70.189.124])
	by inbox.dpdk.org (Postfix) with ESMTP id 4B7CA45BC8
	for <public@inbox.dpdk.org>; Fri, 25 Oct 2024 01:26:29 +0200 (CEST)
Received: from mails.dpdk.org (localhost [127.0.0.1])
	by mails.dpdk.org (Postfix) with ESMTP id 46FDB4025A;
	Fri, 25 Oct 2024 01:26:29 +0200 (CEST)
Received: from mail-il1-f225.google.com (mail-il1-f225.google.com
 [209.85.166.225])
 by mails.dpdk.org (Postfix) with ESMTP id CE85A400EF
 for <test-report@dpdk.org>; Fri, 25 Oct 2024 01:26:27 +0200 (CEST)
Received: by mail-il1-f225.google.com with SMTP id
 e9e14a558f8ab-3a4e5a7b2dcso505145ab.1
 for <test-report@dpdk.org>; Thu, 24 Oct 2024 16:26:27 -0700 (PDT)
DKIM-Signature: v=1; a=rsa-sha256; c=relaxed/relaxed;
 d=iol.unh.edu; s=unh-iol; t=1729812387; x=1730417187; darn=dpdk.org;
 h=references:in-reply-to:cc:to:from:subject:message-id:date:from:to
 :cc:subject:date:message-id:reply-to;
 bh=DJx7RJEZ6hAMYS8lhPbGfkB6V76FcNToO7NNLtDhztQ=;
 b=UKWWA5mohdngfEqW91m9mKZMPq86AmlpadQfSXhrS9ncHwZIbJKyhqt/NBdycVvndU
 SdfEuRU71lu3m5EszYSL7sQ8Zzk9nbPHGVJV9Fk6A2UpIldpvWDPm2oNo95roEZkRbDQ
 tdRaBTrYXkyJR6uuwnxvxTRlo9LlntQtDGVh4=
X-Google-DKIM-Signature: v=1; a=rsa-sha256; c=relaxed/relaxed;
 d=1e100.net; s=20230601; t=1729812387; x=1730417187;
 h=references:in-reply-to:cc:to:from:subject:message-id:date
 :x-gm-message-state:from:to:cc:subject:date:message-id:reply-to;
 bh=DJx7RJEZ6hAMYS8lhPbGfkB6V76FcNToO7NNLtDhztQ=;
 b=nqyIMuoOhAIqu2lKyrnxVArxGI9j4ckCKkUgPQb91IDLEqzoXd9PZCPWJFEpdNUqh0
 jkiIZ9SJLhtOmIt9VBQlp1Gjxzx5xg976RcHhP0Z/wlqsJrlFLJ3O2SndBQqka8U1sWE
 ZN0GA1LwiDgrrQe7dcKRt8GHOh4d8XChMnOwVMg3611XO0Sd/clgmCIA6Ele6Ta1dMBz
 lDBukkPEaYtc0+kZYw0fyo9PyKUKbiH6bCekqm+o80bo5DuVS7POGVxYSG+KCCqpxhL4
 0nuMIgX1a8nSVZ3yHyCZUlXR4O/ra67Effn01CWWMgo8WOwLmWQaoGZHm4QZzwmInF4F
 QwGQ==
X-Gm-Message-State: AOJu0YxC9tesRKQGcN6LONoTPLN+AeXuKOux8saz1lOy5L+yS034Redq
 1eeV6KHIMYFx+uKgJaWewQy995l/mtuC0KSjJ+QBwSJOGwSIIcFg4MOMshmwCl3sWOit1qZREHs
 k339qcrTtSzdXUy1O6PqLnrjsfK1CC1sQMNd/10g13Silhhs3zdVF/1Y7
X-Google-Smtp-Source: AGHT+IHc+T1TAQ+/jpNV1mdo23BoXjsrVLXhPWHoyAPl+XrnEqwZzqz/SYf0zAKTzu8mPDPDr/JkuV5y45fS
X-Received: by 2002:a05:6e02:2184:b0:3a0:8d2f:2914 with SMTP id
 e9e14a558f8ab-3a4de82e6c7mr39019455ab.23.1729812387173; 
 Thu, 24 Oct 2024 16:26:27 -0700 (PDT)
Received: from postal.iol.unh.edu (postal.iol.unh.edu.
 [2606:4100:3880:1234::84]) by smtp-relay.gmail.com with ESMTPS id
 e9e14a558f8ab-3a4e6df8c71sm1565ab.44.2024.10.24.16.26.27
 (version=TLS1_2 cipher=ECDHE-ECDSA-AES128-GCM-SHA256 bits=128/128);
 Thu, 24 Oct 2024 16:26:27 -0700 (PDT)
X-Relaying-Domain: iol.unh.edu
Date: Thu, 24 Oct 2024 16:26:27 -0700 (PDT)
Message-ID: <671ad7a3.050a0220.38a308.0030SMTPIN_ADDED_MISSING@mx.google.com>
Received: from [172.17.0.3] (unknown [172.18.0.217])
 by postal.iol.unh.edu (Postfix) with ESMTP id 9EF086052471;
 Thu, 24 Oct 2024 19:26:26 -0400 (EDT)
Subject: |WARNING| pw146725-146730 [PATCH] [v8,6/6] power: rename library sou
From: dpdklab@iol.unh.edu
To: Test Report <test-report@dpdk.org>
Cc: dpdk-test-reports@iol.unh.edu
In-Reply-To: <20241022184133.700367-7-sivaprasad.tummala@amd.com>
References: <20241022184133.700367-7-sivaprasad.tummala@amd.com>
Content-Type: text/plain
X-BeenThere: test-report@dpdk.org
X-Mailman-Version: 2.1.29
Precedence: list
List-Id: automatic DPDK test reports <test-report.dpdk.org>
List-Unsubscribe: <https://mails.dpdk.org/options/test-report>,
 <mailto:test-report-request@dpdk.org?subject=unsubscribe>
List-Archive: <http://mails.dpdk.org/archives/test-report/>
List-Post: <mailto:test-report@dpdk.org>
List-Help: <mailto:test-report-request@dpdk.org?subject=help>
List-Subscribe: <https://mails.dpdk.org/listinfo/test-report>,
 <mailto:test-report-request@dpdk.org?subject=subscribe>
Errors-To: test-report-bounces@dpdk.org

Test-Label: iol-unit-arm64-testing
Test-Status: WARNING
http://dpdk.org/patch/146730

_Testing issues_

Submitter: Sivaprasad Tummala <Sivaprasad.Tummala@amd.com>
Date: Tuesday, October 22 2024 18:41:32 
DPDK git baseline: Repo:dpdk
  Branch: master
  CommitID:cff6dba7ff8521df410b40399fd8aca5b450a05b

146725-146730 --> testing issues

Upstream job id: Generic-Unit-Test-DPDK#281104

Test environment and result as below:

+-----------------------------+----------------+------------------------------+
|         Environment         | dpdk_unit_test | cryptodev_sw_snow3g_autotest |
+=============================+================+==============================+
| CentOS Stream 9 (ARM)       | PASS           | SKIPPED                      |
+-----------------------------+----------------+------------------------------+
| 32-bit Ubuntu 20.04.4 (ARM) | PASS           | SKIPPED                      |
+-----------------------------+----------------+------------------------------+
| Debian 11 (Buster) (ARM)    | PASS           | SKIPPED                      |
+-----------------------------+----------------+------------------------------+
| Fedora 37 (ARM)             | PASS           | SKIPPED                      |
+-----------------------------+----------------+------------------------------+
| Fedora 38 (ARM)             | PASS           | SKIPPED                      |
+-----------------------------+----------------+------------------------------+
| Fedora 39 (ARM)             | PEND           | SKIPPED                      |
+-----------------------------+----------------+------------------------------+
| Fedora 38 (ARM Clang)       | PEND           | SKIPPED                      |
+-----------------------------+----------------+------------------------------+
| Fedora 40 (ARM)             | PEND           | SKIPPED                      |
+-----------------------------+----------------+------------------------------+
| Fedora 39 (ARM Clang)       | PEND           | SKIPPED                      |
+-----------------------------+----------------+------------------------------+
| Fedora 40 (ARM Clang)       | PEND           | SKIPPED                      |
+-----------------------------+----------------+------------------------------+
| Ubuntu 20.04 (ARM)          | PEND           | SKIPPED                      |
+-----------------------------+----------------+------------------------------+
| Ubuntu 22.04 (ARM)          | PEND           | SKIPPED                      |
+-----------------------------+----------------+------------------------------+
| Ubuntu 24.04 (ARM)          | PEND           | SKIPPED                      |
+-----------------------------+----------------+------------------------------+
| Debian 12 (arm)             | SKIPPED        | WARN                         |
+-----------------------------+----------------+------------------------------+

==== 20 line log output for Debian 12 (arm) (cryptodev_sw_snow3g_autotest): ====
 --- Failed to get log output --- 
==== End log output ====

CentOS Stream 9 (ARM)
	Kernel: Depends on container host
	Compiler: gcc 11.4.1 20231218 (Red Hat 11.4.1-3)

32-bit Ubuntu 20.04.4 (ARM)
	Kernel: 5.4.0-155-generic aarch64
	Compiler: gcc 9.4

Debian 11 (Buster) (ARM)
	Kernel: Depends on container host
	Compiler: gcc (Debian 10.2.1-6) 10.2.1 20210110

Fedora 37 (ARM)
	Kernel: Depends on container host
	Compiler: gcc 12.3.1 20230508 (Red Hat 12.3.1-1)

Fedora 38 (ARM)
	Kernel: Depends on container host
	Compiler: gcc 13.2.1 20240316 (Red Hat 13.2.1-7)

Fedora 39 (ARM)
	Kernel: Depends on container host
	Compiler: gcc 13.3.1 20240522 (Red Hat 13.3.1-1)

Fedora 38 (ARM Clang)
	Kernel: Depends on container host
	Compiler: clang 16.0.6 (Fedora 16.0.6-4.fc38)

Fedora 40 (ARM)
	Kernel: Depends on container host
	Compiler: gcc 14.2.1 20240801 (Red Hat 14.2.1-1)

Fedora 39 (ARM Clang)
	Kernel: Depends on container host
	Compiler: clang 17.0.6 (Fedora 17.0.6-2.fc39)

Fedora 40 (ARM Clang)
	Kernel: Depends on container host
	Compiler: clang 18.1.6 (Fedora 18.1.6-3.fc40)

Ubuntu 20.04 (ARM)
	Kernel: Depends on container host
	Compiler: gcc (Ubuntu 9.4.0-1ubuntu1~20.04.2) 9.4.0

Ubuntu 22.04 (ARM)
	Kernel: Depends on container host
	Compiler: gcc (Ubuntu 11.4.0-1ubuntu1~22.04) 11.4.0

Ubuntu 24.04 (ARM)
	Kernel: Depends on container host
	Compiler: gcc (Ubuntu 13.2.0-23ubuntu4) 13.2.0

Debian 12 (arm)
	Kernel: Depends on container host
	Compiler: gcc (Debian 12.2.0-14) 12.2.0

To view detailed results, visit:
https://lab.dpdk.org/results/dashboard/patchsets/31605/

UNH-IOL DPDK Community Lab

To manage your email subscriptions, visit: 
https://lab.dpdk.org/results/dashboard/preferences/subscriptions/