From mboxrd@z Thu Jan  1 00:00:00 1970
Return-Path: <test-report-bounces@dpdk.org>
Received: from mails.dpdk.org (mails.dpdk.org [217.70.189.124])
	by inbox.dpdk.org (Postfix) with ESMTP id 626C445BD0
	for <public@inbox.dpdk.org>; Fri, 25 Oct 2024 06:22:45 +0200 (CEST)
Received: from mails.dpdk.org (localhost [127.0.0.1])
	by mails.dpdk.org (Postfix) with ESMTP id 5F28F4026B;
	Fri, 25 Oct 2024 06:22:45 +0200 (CEST)
Received: from mail-yw1-f226.google.com (mail-yw1-f226.google.com
 [209.85.128.226])
 by mails.dpdk.org (Postfix) with ESMTP id 087B84025A
 for <test-report@dpdk.org>; Fri, 25 Oct 2024 06:22:44 +0200 (CEST)
Received: by mail-yw1-f226.google.com with SMTP id
 00721157ae682-6e34fa656a2so17194287b3.1
 for <test-report@dpdk.org>; Thu, 24 Oct 2024 21:22:43 -0700 (PDT)
DKIM-Signature: v=1; a=rsa-sha256; c=relaxed/relaxed;
 d=iol.unh.edu; s=unh-iol; t=1729830163; x=1730434963; darn=dpdk.org;
 h=references:in-reply-to:cc:to:from:subject:message-id:date:from:to
 :cc:subject:date:message-id:reply-to;
 bh=d/k8BwaIa3Gi+SKEGlEhBYvQ3R/58o8aIC/e7089IY8=;
 b=MNypH934yHcsKwNqiW981UFAPmqvuCjJiwWT/OylZTmRqzTP1bPnDxyRWDMQ9Aickq
 2IMWn3WK4EHlL3IE30Z1JHW/stQS+29cO3YI21axDS9amkewmPIWIE84VWhg0Oc02AUC
 9ozbhqikPlQRnTqNn/RzMczl96602BH9s0S1I=
X-Google-DKIM-Signature: v=1; a=rsa-sha256; c=relaxed/relaxed;
 d=1e100.net; s=20230601; t=1729830163; x=1730434963;
 h=references:in-reply-to:cc:to:from:subject:message-id:date
 :x-gm-message-state:from:to:cc:subject:date:message-id:reply-to;
 bh=d/k8BwaIa3Gi+SKEGlEhBYvQ3R/58o8aIC/e7089IY8=;
 b=Gc0N3wldnJ/gh85zfctoBPnvSgYSFIKvVSVUyYoHs+UIf1c4KPZlhM9UamPbvAoAhU
 pI83JRUPyNCH7of9td80qnae7TMkBz14pxyXvpxAsq3ArCa8ORv/P2R0KLRTrN+uODpI
 6dG8RWxyboN5z3R0PhcjAB3rIrYE/Os+nI0pyv8NoMkNikZgZevU1ur6WOaEX4j53+Pk
 Epif+b/kLefPFNI6LxjkWnYvjal6W3hZIcBa0uwzUkknRVQ6Wn0mDp2QK4uN2zCzprQC
 gnDSMwndVG+N9dhMrjxu0SuaXltGaqMd2nsB94MwEK19MdE82WRpJSlrV7dyYUdy8YoZ
 N+4w==
X-Gm-Message-State: AOJu0YwAcJleYpomyGIelt4vp7CvmW8HDh8eMOWT/6fSuCy2SSdZJpU1
 C4ce3r/v7zmkJ+FK/HJ7YA7Qq6iw8snCP81JFrvW0NuApFxRgBX0LCE8e1atgNIidapgzLOfjgZ
 tt3qWxnWuEUk4teTrOetEnv8Bgn2JINuQ4RnYa5ahQgLUS5xkQmpo13rm
X-Google-Smtp-Source: AGHT+IGfcLp/CaFmf4k5TkKVXi9lEoGgNuOF9j3ZFj62/DxAeAlxrsAUrR9QQUN2yn3KtqUCp31qbOPat78W
X-Received: by 2002:a05:690c:30e:b0:6c7:a120:e0ec with SMTP id
 00721157ae682-6e7f0e445acmr95538157b3.22.1729830163458; 
 Thu, 24 Oct 2024 21:22:43 -0700 (PDT)
Received: from postal.iol.unh.edu (postal.iol.unh.edu.
 [2606:4100:3880:1234::84]) by smtp-relay.gmail.com with ESMTPS id
 00721157ae682-6e9c6c1d22fsm84127b3.29.2024.10.24.21.22.43
 (version=TLS1_2 cipher=ECDHE-ECDSA-AES128-GCM-SHA256 bits=128/128);
 Thu, 24 Oct 2024 21:22:43 -0700 (PDT)
X-Relaying-Domain: iol.unh.edu
Date: Thu, 24 Oct 2024 21:22:43 -0700 (PDT)
Message-ID: <671b1d13.050a0220.16e27b.09a0SMTPIN_ADDED_MISSING@mx.google.com>
Received: from [172.21.0.6] (unknown [172.18.0.240])
 by postal.iol.unh.edu (Postfix) with ESMTP id 1FD596052471;
 Fri, 25 Oct 2024 00:22:43 -0400 (EDT)
Subject: |SUCCESS| pw146611-146616 [PATCH] [v7,9/9] net/zxdh: add zxdh dev co
From: dpdklab@iol.unh.edu
To: Test Report <test-report@dpdk.org>
Cc: dpdk-test-reports@iol.unh.edu
In-Reply-To: <20241022122042.2127065-10-wang.junlong1@zte.com.cn>
References: <20241022122042.2127065-10-wang.junlong1@zte.com.cn>
Content-Type: text/plain
X-BeenThere: test-report@dpdk.org
X-Mailman-Version: 2.1.29
Precedence: list
List-Id: automatic DPDK test reports <test-report.dpdk.org>
List-Unsubscribe: <https://mails.dpdk.org/options/test-report>,
 <mailto:test-report-request@dpdk.org?subject=unsubscribe>
List-Archive: <http://mails.dpdk.org/archives/test-report/>
List-Post: <mailto:test-report@dpdk.org>
List-Help: <mailto:test-report-request@dpdk.org?subject=help>
List-Subscribe: <https://mails.dpdk.org/listinfo/test-report>,
 <mailto:test-report-request@dpdk.org?subject=subscribe>
Errors-To: test-report-bounces@dpdk.org

Test-Label: iol-unit-amd64-testing
Test-Status: SUCCESS
http://dpdk.org/patch/146616

_Testing PASS_

Submitter: Junlong Wang <wang.junlong1@zte.com.cn>
Date: Tuesday, October 22 2024 12:20:42 
DPDK git baseline: Repo:dpdk
  Branch: master
  CommitID:5bb17458f32befba8a2cccd9553ea65cd8b99581

146611-146616 --> testing pass

Upstream job id: Generic-Unit-Test-DPDK#281461

Test environment and result as below:

+-------------------+----------------+
|    Environment    | dpdk_unit_test |
+===================+================+
| CentOS Stream 9   | PASS           |
+-------------------+----------------+
| Debian 12         | PASS           |
+-------------------+----------------+
| Debian Bullseye   | PASS           |
+-------------------+----------------+
| Fedora 37         | PASS           |
+-------------------+----------------+
| Fedora 38 (Clang) | PASS           |
+-------------------+----------------+
| Fedora 38         | PASS           |
+-------------------+----------------+
| Fedora 39         | PASS           |
+-------------------+----------------+
| Fedora 39 (Clang) | PASS           |
+-------------------+----------------+
| Fedora 40 (Clang) | PASS           |
+-------------------+----------------+
| RHEL8             | PASS           |
+-------------------+----------------+
| RHEL9             | PASS           |
+-------------------+----------------+


CentOS Stream 9
	Kernel: Depends on container host
	Compiler: gcc 11.4.1 20231218 (Red Hat 11.4.1-3)

Debian 12
	Kernel: Depends on container host
	Compiler: gcc (Debian 12.2.0-14) 12.2.0

Debian Bullseye
	Kernel: Depends on container host
	Compiler: gcc (Debian 10.2.1-6) 10.2.1 20210110

Fedora 37
	Kernel: Depends on container host system
	Compiler: gcc 12.3.1 20230508 (Red Hat 12.3.1-1)

Fedora 38 (Clang)
	Kernel: Depends on container host
	Compiler: clang 16.0.6 (Fedora 16.0.6-4.fc38)

Fedora 38
	Kernel: Depends on container host
	Compiler: gcc 13.2.1 20240316 (Red Hat 13.2.1-7)

Fedora 39
	Kernel: Depends on container host
	Compiler: gcc 13.3.1 20240522 (Red Hat 13.3.1-1)

Fedora 39 (Clang)
	Kernel: Depends on container host
	Compiler: clang 17.0.6 (Fedora 17.0.6-2.fc39)

Fedora 40 (Clang)
	Kernel: Depends on container host
	Compiler: clang 18.1.6 (Fedora 18.1.6-3.fc40)

RHEL8
	Kernel: Depends on container host
	Compiler: gcc 8.5.0 20210514 (Red Hat 8.5.0-22)

RHEL9
	Kernel: Depends on container host
	Compiler: gcc 11.4.1 20231218 (Red Hat 11.4.1-3)

To view detailed results, visit:
https://lab.dpdk.org/results/dashboard/patchsets/31596/

UNH-IOL DPDK Community Lab

To manage your email subscriptions, visit: 
https://lab.dpdk.org/results/dashboard/preferences/subscriptions/