From mboxrd@z Thu Jan  1 00:00:00 1970
Return-Path: <test-report-bounces@dpdk.org>
Received: from mails.dpdk.org (mails.dpdk.org [217.70.189.124])
	by inbox.dpdk.org (Postfix) with ESMTP id 7655645BD0
	for <public@inbox.dpdk.org>; Fri, 25 Oct 2024 07:02:04 +0200 (CEST)
Received: from mails.dpdk.org (localhost [127.0.0.1])
	by mails.dpdk.org (Postfix) with ESMTP id 730904067D;
	Fri, 25 Oct 2024 07:02:04 +0200 (CEST)
Received: from mail-pl1-f226.google.com (mail-pl1-f226.google.com
 [209.85.214.226])
 by mails.dpdk.org (Postfix) with ESMTP id 22FF54026B
 for <test-report@dpdk.org>; Fri, 25 Oct 2024 07:02:03 +0200 (CEST)
Received: by mail-pl1-f226.google.com with SMTP id
 d9443c01a7336-20ce5e3b116so10840945ad.1
 for <test-report@dpdk.org>; Thu, 24 Oct 2024 22:02:03 -0700 (PDT)
DKIM-Signature: v=1; a=rsa-sha256; c=relaxed/relaxed;
 d=iol.unh.edu; s=unh-iol; t=1729832522; x=1730437322; darn=dpdk.org;
 h=references:in-reply-to:cc:to:from:subject:message-id:date:from:to
 :cc:subject:date:message-id:reply-to;
 bh=AR7c8DnXYXWPvOt0oAVHAIoKv7jqzVO2NnmCYwZPKMU=;
 b=XUjKUf+apYQvH0qjnj7xCVuOmbXqbb3YdVDxwhglOEaPi2maq5WVUpsZTOFrB3e5r3
 r7Ryz+GmLy5yBgcQy69ih0/Y/8grW+8ufzmoEOOcwfRELuCevwf6TUEZjNEkF9MYBjIL
 gL2yrGhX2Guk2e0xyYRUrdcndSkouQ7VIPJtE=
X-Google-DKIM-Signature: v=1; a=rsa-sha256; c=relaxed/relaxed;
 d=1e100.net; s=20230601; t=1729832522; x=1730437322;
 h=references:in-reply-to:cc:to:from:subject:message-id:date
 :x-gm-message-state:from:to:cc:subject:date:message-id:reply-to;
 bh=AR7c8DnXYXWPvOt0oAVHAIoKv7jqzVO2NnmCYwZPKMU=;
 b=U8hwLumXo1B/nJvCPtFD5QweblrmP1KjZnKwmriRuBjk/EPeA7+e/7QfgxqnZbSi5S
 PJnYcxC9jezXMXJX+Q2oLGLw5axr+Wio54omX0Gv/mwvpJ36OZi4V5LJl+UYFXyKBfDi
 itEvJzITaLk60ChYQ64xfaZgZMEiUD3WOxMrrILxEe1qAKn/JlG0I8o1WD9S62QZvsB/
 wcNFh5wK2l+DIqOY7oH2eLCa1I2YuMYgVYIVaKw1UZYgYbz9B05hyaaUgng+YcC3Jgrd
 XagQj6g//gMbAbk9guU2qH1UTylqy4pCZKRVEqchdPm9sbrsIB6qGWWDCtPB8e9ziRW2
 d/Dg==
X-Gm-Message-State: AOJu0YzTfvdtrRZh85Vk0gIuVDBOPNgtgA6VvkWuI45aq3ZciXFfcPAs
 n/IMRYuqB4ghLn76bWA93XdNWL8O50M8urU8vUrzXPfiXTlqIIvBg1UvBDvm9rt/FJ4k5JimWSN
 kDCjkQJ9pl6NEdjj13Mhp5cgM6JKPAGxTySvvra8wPx4kANE+tNdUEtRQ
X-Google-Smtp-Source: AGHT+IHbyxdygzzy01xZatRt6HZri4pD4Ky4fm2nbQjtnsyWXNMdpHRwxRzu9xuNgZ24myj1O1tsST2je/mY
X-Received: by 2002:a17:902:e74f:b0:20c:7898:a8f4 with SMTP id
 d9443c01a7336-20fab2d9835mr104078465ad.60.1729832522057; 
 Thu, 24 Oct 2024 22:02:02 -0700 (PDT)
Received: from postal.iol.unh.edu (postal.iol.unh.edu.
 [2606:4100:3880:1234::84]) by smtp-relay.gmail.com with ESMTPS id
 d9443c01a7336-210bbec1ab8sm179645ad.15.2024.10.24.22.02.01
 (version=TLS1_2 cipher=ECDHE-ECDSA-AES128-GCM-SHA256 bits=128/128);
 Thu, 24 Oct 2024 22:02:02 -0700 (PDT)
X-Relaying-Domain: iol.unh.edu
Date: Thu, 24 Oct 2024 22:02:02 -0700 (PDT)
Message-ID: <671b264a.170a0220.1be050.14c7SMTPIN_ADDED_MISSING@mx.google.com>
Received: from [172.17.0.4] (unknown [172.18.0.57])
 by postal.iol.unh.edu (Postfix) with ESMTP id 24AC46052471;
 Fri, 25 Oct 2024 01:02:01 -0400 (EDT)
Subject: |SUCCESS| pw146599 [PATCH] test/event: fix device stop
From: dpdklab@iol.unh.edu
To: Test Report <test-report@dpdk.org>
Cc: dpdk-test-reports@iol.unh.edu
In-Reply-To: <20241022120329.16420-1-pbhagavatula@marvell.com>
References: <20241022120329.16420-1-pbhagavatula@marvell.com>
Content-Type: text/plain
X-BeenThere: test-report@dpdk.org
X-Mailman-Version: 2.1.29
Precedence: list
List-Id: automatic DPDK test reports <test-report.dpdk.org>
List-Unsubscribe: <https://mails.dpdk.org/options/test-report>,
 <mailto:test-report-request@dpdk.org?subject=unsubscribe>
List-Archive: <http://mails.dpdk.org/archives/test-report/>
List-Post: <mailto:test-report@dpdk.org>
List-Help: <mailto:test-report-request@dpdk.org?subject=help>
List-Subscribe: <https://mails.dpdk.org/listinfo/test-report>,
 <mailto:test-report-request@dpdk.org?subject=subscribe>
Errors-To: test-report-bounces@dpdk.org

Test-Label: iol-unit-amd64-testing
Test-Status: SUCCESS
http://dpdk.org/patch/146599

_Testing PASS_

Submitter: Pavan Nikhilesh Bhagavatula <pbhagavatula@marvell.com>
Date: Tuesday, October 22 2024 12:03:29 
DPDK git baseline: Repo:dpdk
  Branch: master
  CommitID:e609858b480ca0d646e5f05f2c7fd6bbf35a4140

146599 --> testing pass

Upstream job id: Generic-Unit-Test-DPDK#281519

Test environment and result as below:

+-------------------+----------------+
|    Environment    | dpdk_unit_test |
+===================+================+
| CentOS Stream 9   | PASS           |
+-------------------+----------------+
| Debian 12         | PASS           |
+-------------------+----------------+
| Debian Bullseye   | PASS           |
+-------------------+----------------+
| Fedora 37         | PASS           |
+-------------------+----------------+
| Fedora 38         | PASS           |
+-------------------+----------------+
| Fedora 40         | PASS           |
+-------------------+----------------+
| Fedora 38 (Clang) | PASS           |
+-------------------+----------------+
| Fedora 40 (Clang) | PASS           |
+-------------------+----------------+
| RHEL9             | PASS           |
+-------------------+----------------+
| Ubuntu 20.04      | PASS           |
+-------------------+----------------+
| Ubuntu 22.04      | PASS           |
+-------------------+----------------+
| Ubuntu 24.04      | PASS           |
+-------------------+----------------+


CentOS Stream 9
	Kernel: Depends on container host
	Compiler: gcc 11.4.1 20231218 (Red Hat 11.4.1-3)

Debian 12
	Kernel: Depends on container host
	Compiler: gcc (Debian 12.2.0-14) 12.2.0

Debian Bullseye
	Kernel: Depends on container host
	Compiler: gcc (Debian 10.2.1-6) 10.2.1 20210110

Fedora 37
	Kernel: Depends on container host system
	Compiler: gcc 12.3.1 20230508 (Red Hat 12.3.1-1)

Fedora 38
	Kernel: Depends on container host
	Compiler: gcc 13.2.1 20240316 (Red Hat 13.2.1-7)

Fedora 40
	Kernel: Depends on container host
	Compiler: gcc 14.2.1 20240801 (Red Hat 14.2.1-1)

Fedora 38 (Clang)
	Kernel: Depends on container host
	Compiler: clang 16.0.6 (Fedora 16.0.6-4.fc38)

Fedora 40 (Clang)
	Kernel: Depends on container host
	Compiler: clang 18.1.6 (Fedora 18.1.6-3.fc40)

RHEL9
	Kernel: Depends on container host
	Compiler: gcc 11.4.1 20231218 (Red Hat 11.4.1-3)

Ubuntu 20.04
	Kernel: Depends on container host
	Compiler: gcc (Ubuntu 9.4.0-1ubuntu1~20.04.2) 9.4.0

Ubuntu 22.04
	Kernel: Depends on container host
	Compiler: gcc (Ubuntu 11.4.0-1ubuntu1~22.04) 11.4.0

Ubuntu 24.04
	Kernel: Depends on container host
	Compiler: gcc (Ubuntu 13.2.0-23ubuntu4) 13.2.0

To view detailed results, visit:
https://lab.dpdk.org/results/dashboard/patchsets/31593/

UNH-IOL DPDK Community Lab

To manage your email subscriptions, visit: 
https://lab.dpdk.org/results/dashboard/preferences/subscriptions/