From mboxrd@z Thu Jan  1 00:00:00 1970
Return-Path: <test-report-bounces@dpdk.org>
Received: from mails.dpdk.org (mails.dpdk.org [217.70.189.124])
	by inbox.dpdk.org (Postfix) with ESMTP id EFE9045BD4
	for <public@inbox.dpdk.org>; Fri, 25 Oct 2024 11:09:38 +0200 (CEST)
Received: from mails.dpdk.org (localhost [127.0.0.1])
	by mails.dpdk.org (Postfix) with ESMTP id E430C402BC;
	Fri, 25 Oct 2024 11:09:38 +0200 (CEST)
Received: from mail-yb1-f227.google.com (mail-yb1-f227.google.com
 [209.85.219.227])
 by mails.dpdk.org (Postfix) with ESMTP id 5756D4003C
 for <test-report@dpdk.org>; Fri, 25 Oct 2024 11:09:35 +0200 (CEST)
Received: by mail-yb1-f227.google.com with SMTP id
 3f1490d57ef6-e291f1d659aso2163115276.3
 for <test-report@dpdk.org>; Fri, 25 Oct 2024 02:09:35 -0700 (PDT)
DKIM-Signature: v=1; a=rsa-sha256; c=relaxed/relaxed;
 d=iol.unh.edu; s=unh-iol; t=1729847374; x=1730452174; darn=dpdk.org;
 h=references:in-reply-to:cc:to:from:subject:message-id:date:from:to
 :cc:subject:date:message-id:reply-to;
 bh=QZ1fy0PKGGe2rj2wt5zpdFX2JI2gwHnFRaNYRVBv+vw=;
 b=BRLG9VhrUTDf9lMdv/oEM6G966gPCSBTubG3Hnskbo9YMum451tePJCNFL/MNAyjCz
 gOZ9Czv2Jplce0uH1NzwYVRZwkmHBjV7r1DpUS+jEWfsdehoieqR4VRSpzJS/tvc1VQi
 1JlS7Wq2WHjfkBc6ErKciCEU8NhLSoyzx8HXY=
X-Google-DKIM-Signature: v=1; a=rsa-sha256; c=relaxed/relaxed;
 d=1e100.net; s=20230601; t=1729847374; x=1730452174;
 h=references:in-reply-to:cc:to:from:subject:message-id:date
 :x-gm-message-state:from:to:cc:subject:date:message-id:reply-to;
 bh=QZ1fy0PKGGe2rj2wt5zpdFX2JI2gwHnFRaNYRVBv+vw=;
 b=fZIY+W9WXtDBPNuduQO8TJXAKuMWmDxVR8w+Ov0OZd2rh+q6p32MVSpLFhRwR04VEK
 MO7otNQXl8tDGFjja08skHyQP8FzxR9GfljauszM6TKROVeXW1E1EHZE2xC0f9hw0fYu
 ibLkffyr6gxr+Na3i+0ykpn9s7+x5uLuUNtNlWfHKYlEO35vDyXDLjy8/qdEDhL7XSv7
 TItGhmNQCJ3XoJuAxoFz54e0dey2Hwm86PK0oczKmFzrSHL6bLk9MAEVaLfYN2f8sQuP
 0ZMy2bZEXg50CVEBP2nIpTffWOuzCcYQLuDy1y0n9fALJCFf+2n+tPzBDbysCybdIEGd
 I0RQ==
X-Gm-Message-State: AOJu0Ywq7IzlJFnuqeN7syYHk6eovmsNgrmq1utOPP6npPJxQ11raqCr
 dZ7vjapEni+cMkjT1LQQQs5ktnRzYTSn09dd8t+TPSRMFSK8qvgYxeSOQ7WoLc+3/cK45ljb386
 p8JR4ApuDjDzy+jqaMCn2rUGn3KASE3znhadCxXTh3OY33nXVvfbyk8s3
X-Google-Smtp-Source: AGHT+IEEttthXRfC+EJAvSSAsmKWHnaPl600D1uf1yhN59x1uQ6dQEe/w1fratAFEqDgHzVPzPAHdkHMqcWi
X-Received: by 2002:a05:6902:1615:b0:e29:6c21:20b2 with SMTP id
 3f1490d57ef6-e2e3a6dc97emr9685434276.47.1729847374644; 
 Fri, 25 Oct 2024 02:09:34 -0700 (PDT)
Received: from postal.iol.unh.edu (postal.iol.unh.edu.
 [2606:4100:3880:1234::84]) by smtp-relay.gmail.com with ESMTPS id
 3f1490d57ef6-e307a023910sm17493276.33.2024.10.25.02.09.34
 (version=TLS1_2 cipher=ECDHE-ECDSA-AES128-GCM-SHA256 bits=128/128);
 Fri, 25 Oct 2024 02:09:34 -0700 (PDT)
X-Relaying-Domain: iol.unh.edu
Date: Fri, 25 Oct 2024 02:09:34 -0700 (PDT)
Message-ID: <671b604e.250a0220.20f1ba.12f4SMTPIN_ADDED_MISSING@mx.google.com>
Received: from [172.17.0.5] (unknown [172.18.0.217])
 by postal.iol.unh.edu (Postfix) with ESMTP id 5C4E36052471;
 Fri, 25 Oct 2024 05:09:34 -0400 (EDT)
Subject: |SUCCESS| pw146599 [PATCH] test/event: fix device stop
From: dpdklab@iol.unh.edu
To: Test Report <test-report@dpdk.org>
Cc: dpdk-test-reports@iol.unh.edu
In-Reply-To: <20241022120329.16420-1-pbhagavatula@marvell.com>
References: <20241022120329.16420-1-pbhagavatula@marvell.com>
Content-Type: text/plain
X-BeenThere: test-report@dpdk.org
X-Mailman-Version: 2.1.29
Precedence: list
List-Id: automatic DPDK test reports <test-report.dpdk.org>
List-Unsubscribe: <https://mails.dpdk.org/options/test-report>,
 <mailto:test-report-request@dpdk.org?subject=unsubscribe>
List-Archive: <http://mails.dpdk.org/archives/test-report/>
List-Post: <mailto:test-report@dpdk.org>
List-Help: <mailto:test-report-request@dpdk.org?subject=help>
List-Subscribe: <https://mails.dpdk.org/listinfo/test-report>,
 <mailto:test-report-request@dpdk.org?subject=subscribe>
Errors-To: test-report-bounces@dpdk.org

Test-Label: iol-compile-amd64-testing
Test-Status: SUCCESS
http://dpdk.org/patch/146599

_Testing PASS_

Submitter: Pavan Nikhilesh Bhagavatula <pbhagavatula@marvell.com>
Date: Tuesday, October 22 2024 12:03:29 
DPDK git baseline: Repo:dpdk
  Branch: master
  CommitID:e609858b480ca0d646e5f05f2c7fd6bbf35a4140

146599 --> testing pass

Upstream job id: Generic-DPDK-Compile-Meson#322708

Test environment and result as below:

+-------------------+--------------------+------------------+-------------------+
|    Environment    | dpdk_meson_compile | dpdk_compile_ovs | dpdk_compile_spdk |
+===================+====================+==================+===================+
| CentOS Stream 9   | PASS               | PASS             | PASS              |
+-------------------+--------------------+------------------+-------------------+
| Debian Bullseye   | PASS               | PASS             | PASS              |
+-------------------+--------------------+------------------+-------------------+
| Debian 12         | PASS               | PASS             | PASS              |
+-------------------+--------------------+------------------+-------------------+
| Fedora 37         | PASS               | PASS             | PASS              |
+-------------------+--------------------+------------------+-------------------+
| Fedora 38 (Clang) | PASS               | PASS             | PASS              |
+-------------------+--------------------+------------------+-------------------+
| Fedora 38         | PASS               | PASS             | PASS              |
+-------------------+--------------------+------------------+-------------------+
| Fedora 39 (Clang) | PASS               | PASS             | PASS              |
+-------------------+--------------------+------------------+-------------------+
| Fedora 39         | PASS               | PASS             | PASS              |
+-------------------+--------------------+------------------+-------------------+
| FreeBSD 13.4      | PASS               | SKIPPED          | SKIPPED           |
+-------------------+--------------------+------------------+-------------------+
| Fedora 40 (Clang) | PASS               | PASS             | PASS              |
+-------------------+--------------------+------------------+-------------------+
| FreeBSD 14.1      | PASS               | SKIPPED          | SKIPPED           |
+-------------------+--------------------+------------------+-------------------+
| Fedora 40         | PASS               | PASS             | PASS              |
+-------------------+--------------------+------------------+-------------------+
| openSUSE Leap 15  | PASS               | PASS             | SKIPPED           |
+-------------------+--------------------+------------------+-------------------+
| RHEL8             | PASS               | PASS             | SKIPPED           |
+-------------------+--------------------+------------------+-------------------+
| RHEL9             | PASS               | PASS             | SKIPPED           |
+-------------------+--------------------+------------------+-------------------+
| Ubuntu 20.04      | PASS               | PASS             | SKIPPED           |
+-------------------+--------------------+------------------+-------------------+
| Ubuntu 22.04      | PASS               | PASS             | PASS              |
+-------------------+--------------------+------------------+-------------------+
| Ubuntu 24.04      | PASS               | PASS             | PASS              |
+-------------------+--------------------+------------------+-------------------+
| Alpine            | PASS               | PASS             | SKIPPED           |
+-------------------+--------------------+------------------+-------------------+


CentOS Stream 9
	Kernel: Depends on container host
	Compiler: gcc 11.4.1 20231218 (Red Hat 11.4.1-3)

Debian Bullseye
	Kernel: Depends on container host
	Compiler: gcc (Debian 10.2.1-6) 10.2.1 20210110

Debian 12
	Kernel: Depends on container host
	Compiler: gcc (Debian 12.2.0-14) 12.2.0

Fedora 37
	Kernel: Depends on container host system
	Compiler: gcc 12.3.1 20230508 (Red Hat 12.3.1-1)

Fedora 38 (Clang)
	Kernel: Depends on container host
	Compiler: clang 16.0.6 (Fedora 16.0.6-4.fc38)

Fedora 38
	Kernel: Depends on container host
	Compiler: gcc 13.2.1 20240316 (Red Hat 13.2.1-7)

Fedora 39 (Clang)
	Kernel: Depends on container host
	Compiler: clang 17.0.6 (Fedora 17.0.6-2.fc39)

Fedora 39
	Kernel: Depends on container host
	Compiler: gcc 13.3.1 20240522 (Red Hat 13.3.1-1)

FreeBSD 13.4
	Kernel: 13.4-RELEASE-p1
	Compiler: clang 18.1.6

Fedora 40 (Clang)
	Kernel: Depends on container host
	Compiler: clang 18.1.6 (Fedora 18.1.6-3.fc40)

FreeBSD 14.1
	Kernel: 14.1-RELEASE-p3
	Compiler: clang 18.1.5

Fedora 40
	Kernel: Depends on container host
	Compiler: gcc 14.2.1 20240801 (Red Hat 14.2.1-1)

openSUSE Leap 15
	Kernel: Depends on container host
	Compiler: gcc (SUSE Linux) 7.5.0

RHEL8
	Kernel: Depends on container host
	Compiler: gcc 8.5.0 20210514 (Red Hat 8.5.0-22)

RHEL9
	Kernel: Depends on container host
	Compiler: gcc 11.4.1 20231218 (Red Hat 11.4.1-3)

Ubuntu 20.04
	Kernel: Depends on container host
	Compiler: gcc (Ubuntu 9.4.0-1ubuntu1~20.04.2) 9.4.0

Ubuntu 22.04
	Kernel: Depends on container host
	Compiler: gcc (Ubuntu 11.4.0-1ubuntu1~22.04) 11.4.0

Ubuntu 24.04
	Kernel: Depends on container host
	Compiler: gcc (Ubuntu 13.2.0-23ubuntu4) 13.2.0

Alpine
	Kernel: Depends on container host
	Compiler: gcc (Alpine 13.2.1_git20240309) 13.2.1 20240309

To view detailed results, visit:
https://lab.dpdk.org/results/dashboard/patchsets/31593/

UNH-IOL DPDK Community Lab

To manage your email subscriptions, visit: 
https://lab.dpdk.org/results/dashboard/preferences/subscriptions/