From mboxrd@z Thu Jan  1 00:00:00 1970
Return-Path: <test-report-bounces@dpdk.org>
Received: from mails.dpdk.org (mails.dpdk.org [217.70.189.124])
	by inbox.dpdk.org (Postfix) with ESMTP id 8280645BD4
	for <public@inbox.dpdk.org>; Fri, 25 Oct 2024 11:20:19 +0200 (CEST)
Received: from mails.dpdk.org (localhost [127.0.0.1])
	by mails.dpdk.org (Postfix) with ESMTP id 7EBAE4026C;
	Fri, 25 Oct 2024 11:20:19 +0200 (CEST)
Received: from mail-pl1-f225.google.com (mail-pl1-f225.google.com
 [209.85.214.225])
 by mails.dpdk.org (Postfix) with ESMTP id B2BF94003C
 for <test-report@dpdk.org>; Fri, 25 Oct 2024 11:20:18 +0200 (CEST)
Received: by mail-pl1-f225.google.com with SMTP id
 d9443c01a7336-20c803787abso14020355ad.0
 for <test-report@dpdk.org>; Fri, 25 Oct 2024 02:20:18 -0700 (PDT)
DKIM-Signature: v=1; a=rsa-sha256; c=relaxed/relaxed;
 d=iol.unh.edu; s=unh-iol; t=1729848018; x=1730452818; darn=dpdk.org;
 h=references:in-reply-to:cc:to:from:subject:message-id:date:from:to
 :cc:subject:date:message-id:reply-to;
 bh=YNp1HoR5uIasy+t1xxqgiJxE/y4BdARCayGPvFzRa8Q=;
 b=K4LNzb2YR75X5qKlLP0+K8vhTxri5+1AoXCZG/sfrdphGgGhCTZWmqW4Eg5Khp7RyD
 sTtArBxW+3Xlgry7Usj8LZ88yonmMwMbWdNdJM3tx2LwFiHE3Hks/TdHgRYizP6Z4FSV
 aK2YFgvgdx1ycEQNifMFNaIQAMusABu70qtRI=
X-Google-DKIM-Signature: v=1; a=rsa-sha256; c=relaxed/relaxed;
 d=1e100.net; s=20230601; t=1729848018; x=1730452818;
 h=references:in-reply-to:cc:to:from:subject:message-id:date
 :x-gm-message-state:from:to:cc:subject:date:message-id:reply-to;
 bh=YNp1HoR5uIasy+t1xxqgiJxE/y4BdARCayGPvFzRa8Q=;
 b=hU0ENydHuzN64l9NeS7/BroPI9qgV/rYWhfi7WLT/dppVR3GdWivrAsdsFeGawwwNG
 Tlc4v3f0LEKcI1tm6UwgZf+xojN6o4wgItp9r8A+/R5JVqpb4Fb/DFs8FHz3rJ4FJ/un
 KiQuY2R0D6S7THHlyXpRIhcPyeyeRYMbUX06o2o+7qOFmHgE+/UJBJ9Q7YS0Y3xRdSaZ
 Ce0Ad06BCfjA+Jb2XfwaysW8Lsy5nM5J2cbM2ctEkFGhJy/1hEJVFVz4U7zpcOcAvCca
 9of9M8mv7fZRejMSB4+QW6UwFvr3F7Gm+tMkpxclwqFG4BCaB4uRKafabT9WWQ4UVpZz
 bNBQ==
X-Gm-Message-State: AOJu0YzmzRBPteUSTPwv8837X4QQMlZIfXaHmVPY845Ntwm/dVM++Uhz
 bdh2JDN6sl0nBZj/PBFqqylSzk/xOCvv09iSTFrQcEhIHxkv+DnezLvM5aOwdzDYxITnzxd/78g
 FJBSQXYtgvbQ6srU0E4g+RgFNr/i3Rx7w5TCL53Vi
X-Google-Smtp-Source: AGHT+IErISjIEqNwGKqcLrUyekWDGh+ZqEcJKrfwfkMWW2yNkmo1wzQ0FYzP2ThStlHBuD4+eUKxry2P3ju/
X-Received: by 2002:a17:902:fc4f:b0:20b:a41f:6e4d with SMTP id
 d9443c01a7336-20fb89650ffmr77256935ad.15.1729848017969; 
 Fri, 25 Oct 2024 02:20:17 -0700 (PDT)
Received: from postal.iol.unh.edu (postal.iol.unh.edu. [132.177.123.84])
 by smtp-relay.gmail.com with ESMTPS id
 d9443c01a7336-210bbf1eab3sm328005ad.54.2024.10.25.02.20.17
 (version=TLS1_2 cipher=ECDHE-ECDSA-AES128-GCM-SHA256 bits=128/128);
 Fri, 25 Oct 2024 02:20:17 -0700 (PDT)
X-Relaying-Domain: iol.unh.edu
Date: Fri, 25 Oct 2024 02:20:17 -0700 (PDT)
Message-ID: <671b62d1.170a0220.5d0fb.244aSMTPIN_ADDED_MISSING@mx.google.com>
Received: from [172.21.0.3] (unknown [172.18.0.240])
 by postal.iol.unh.edu (Postfix) with ESMTP id 5E1006052471;
 Fri, 25 Oct 2024 05:20:17 -0400 (EDT)
Subject: |SUCCESS| pw146364-146397 [PATCH] [v6,47/47] net/bnxt: tf_ulp: add s
From: dpdklab@iol.unh.edu
To: Test Report <test-report@dpdk.org>
Cc: dpdk-test-reports@iol.unh.edu
In-Reply-To: <20241021082607.232829-48-sriharsha.basavapatna@broadcom.com>
References: <20241021082607.232829-48-sriharsha.basavapatna@broadcom.com>
Content-Type: text/plain
X-BeenThere: test-report@dpdk.org
X-Mailman-Version: 2.1.29
Precedence: list
List-Id: automatic DPDK test reports <test-report.dpdk.org>
List-Unsubscribe: <https://mails.dpdk.org/options/test-report>,
 <mailto:test-report-request@dpdk.org?subject=unsubscribe>
List-Archive: <http://mails.dpdk.org/archives/test-report/>
List-Post: <mailto:test-report@dpdk.org>
List-Help: <mailto:test-report-request@dpdk.org?subject=help>
List-Subscribe: <https://mails.dpdk.org/listinfo/test-report>,
 <mailto:test-report-request@dpdk.org?subject=subscribe>
Errors-To: test-report-bounces@dpdk.org

Test-Label: iol-sample-apps-testing
Test-Status: SUCCESS
http://dpdk.org/patch/146397

_Testing PASS_

Submitter: Sriharsha Basavapatna <sriharsha.basavapatna@broadcom.com>
Date: Monday, October 21 2024 08:26:07 
DPDK git baseline: Repo:dpdk
  Branch: master
  CommitID:9be79060c65948f0dd6fca6f30be526adabc1dfa

146364-146397 --> testing pass

Upstream job id: ACVP-FIPS-testing#7446

Test environment and result as below:

+--------------------+----------------------+----------------------+
|    Environment     | compressdev_zlib_pmd | dpdk_fips_validation |
+====================+======================+======================+
| Ubuntu 22.04 (ARM) | PASS                 | SKIPPED              |
+--------------------+----------------------+----------------------+
| Ubuntu 22.04       | PASS                 | SKIPPED              |
+--------------------+----------------------+----------------------+
| Ubuntu 20.04       | SKIPPED              | PASS                 |
+--------------------+----------------------+----------------------+


Ubuntu 22.04 (ARM)
	Kernel: 5.15.0-97-generic
	Compiler: gcc gcc (Ubuntu 11.4.0-1ubuntu1~22.04) 11.4.0

Ubuntu 22.04
	Kernel: 5.15.0-100-generic
	Compiler: gcc gcc (Ubuntu 11.4.0-1ubuntu1~22.04) 11.4.0

Ubuntu 20.04
	Kernel: Depends on container host
	Compiler: gcc (Ubuntu 9.4.0-1ubuntu1~20.04.2) 9.4.0

To view detailed results, visit:
https://lab.dpdk.org/results/dashboard/patchsets/31570/

UNH-IOL DPDK Community Lab

To manage your email subscriptions, visit: 
https://lab.dpdk.org/results/dashboard/preferences/subscriptions/