From mboxrd@z Thu Jan  1 00:00:00 1970
Return-Path: <test-report-bounces@dpdk.org>
Received: from mails.dpdk.org (mails.dpdk.org [217.70.189.124])
	by inbox.dpdk.org (Postfix) with ESMTP id 517CD45BCB
	for <public@inbox.dpdk.org>; Fri, 25 Oct 2024 18:07:22 +0200 (CEST)
Received: from mails.dpdk.org (localhost [127.0.0.1])
	by mails.dpdk.org (Postfix) with ESMTP id 3439840264;
	Fri, 25 Oct 2024 18:07:22 +0200 (CEST)
Received: from mail-yw1-f227.google.com (mail-yw1-f227.google.com
 [209.85.128.227])
 by mails.dpdk.org (Postfix) with ESMTP id C3D0A4021F
 for <test-report@dpdk.org>; Fri, 25 Oct 2024 18:07:20 +0200 (CEST)
Received: by mail-yw1-f227.google.com with SMTP id
 00721157ae682-6e2772f7df9so19621357b3.2
 for <test-report@dpdk.org>; Fri, 25 Oct 2024 09:07:20 -0700 (PDT)
DKIM-Signature: v=1; a=rsa-sha256; c=relaxed/relaxed;
 d=iol.unh.edu; s=unh-iol; t=1729872440; x=1730477240; darn=dpdk.org;
 h=references:in-reply-to:cc:to:from:subject:message-id:date:from:to
 :cc:subject:date:message-id:reply-to;
 bh=I5vxgS72PL5s3c5MYRD5OpTboxWiImVa6npsYZhAU4I=;
 b=iqnIhVcyWOMVKq0YUj8L3jALswM9qLy507Z5n0wsqfDGHf97dX656+3fIFmFgW2oB/
 48QKcUaRDSV7K82DiDJOvd8JKlEW2uNDlVzt2CEDm4bYeam3h8QKEGjujkPzTepjqt6d
 XTUi+zoctrdAsW0pWVlDea3x0HPbkVYxvSC0M=
X-Google-DKIM-Signature: v=1; a=rsa-sha256; c=relaxed/relaxed;
 d=1e100.net; s=20230601; t=1729872440; x=1730477240;
 h=references:in-reply-to:cc:to:from:subject:message-id:date
 :x-gm-message-state:from:to:cc:subject:date:message-id:reply-to;
 bh=I5vxgS72PL5s3c5MYRD5OpTboxWiImVa6npsYZhAU4I=;
 b=vJPAyTgEBXpNJiQm0xS6ffwB3K9ADFKV7K/6sIFJbb6LV/eDRi0GsnKxgj5EFl8c0B
 BSNSLFnlLuFFXzW3R4NI99Tsy3Hl3DNfLz1/q2nz4vBOH8rITbP1/vH4GRYcP9xfJpVp
 XDSfgMWXfgBEG1mHdfovzC0cCa05v8beVsWbsF7Iac3173cF5POjNLfsJYD6g74DQq+y
 y2N9aDsHh4scgv6jR+2aimBZBDtKg4Vf4pkI6mAPKs+nCMWkAMcMPboPvztTZWPl024U
 3Tmm6/7G3g4TcmY3tLruZvYvpV5qcuSlzJIaHuLAxDI5KK78PrjGYGLpuqrVwg+pBGHp
 tCSg==
X-Gm-Message-State: AOJu0Yy4X6FTylHm2HWRjrLFWZ6IQ/Z2PWDAYNEqINZWcdeC/P0C+9za
 KwBcBkWkEOdN9Hn3hb33LUPkwd/iJnVZWqcwprn7BR3CaitWM/NBoAdilU6CtHM6HIZCNkPqihm
 JYu3piA8/lJUUu42X+NOvDM8XnI2Z3rC4Yb2GHu7lPYrwBh8O7hqd/Xnq
X-Google-Smtp-Source: AGHT+IEPf2pSB9PJc9VVveEF+atLMcXJH7VnrwaPYzhq74CmnGPBTRmMozF3yEmlrKCTeEZSj0I2OJB9vP1o
X-Received: by 2002:a05:690c:46c9:b0:6e3:8ecc:bb0e with SMTP id
 00721157ae682-6e9d892cf9amr793737b3.11.1729872440143; 
 Fri, 25 Oct 2024 09:07:20 -0700 (PDT)
Received: from postal.iol.unh.edu (postal.iol.unh.edu.
 [2606:4100:3880:1234::84]) by smtp-relay.gmail.com with ESMTPS id
 00721157ae682-6e9c6cad403sm623587b3.52.2024.10.25.09.07.20
 (version=TLS1_2 cipher=ECDHE-ECDSA-AES128-GCM-SHA256 bits=128/128);
 Fri, 25 Oct 2024 09:07:20 -0700 (PDT)
X-Relaying-Domain: iol.unh.edu
Date: Fri, 25 Oct 2024 09:07:20 -0700 (PDT)
Message-ID: <671bc238.0d0a0220.3ab6fc.43dcSMTPIN_ADDED_MISSING@mx.google.com>
Received: from [172.17.0.3] (unknown [172.18.0.217])
 by postal.iol.unh.edu (Postfix) with ESMTP id C0A936052471;
 Fri, 25 Oct 2024 12:07:19 -0400 (EDT)
Subject: |WARNING| pw147130-147131 [PATCH] [2/2] net/ipv6: fix out-of-bounds 
From: dpdklab@iol.unh.edu
To: Test Report <test-report@dpdk.org>
Cc: dpdk-test-reports@iol.unh.edu
In-Reply-To: <20241024151919.400878-6-rjarry@redhat.com>
References: <20241024151919.400878-6-rjarry@redhat.com>
Content-Type: text/plain
X-BeenThere: test-report@dpdk.org
X-Mailman-Version: 2.1.29
Precedence: list
List-Id: automatic DPDK test reports <test-report.dpdk.org>
List-Unsubscribe: <https://mails.dpdk.org/options/test-report>,
 <mailto:test-report-request@dpdk.org?subject=unsubscribe>
List-Archive: <http://mails.dpdk.org/archives/test-report/>
List-Post: <mailto:test-report@dpdk.org>
List-Help: <mailto:test-report-request@dpdk.org?subject=help>
List-Subscribe: <https://mails.dpdk.org/listinfo/test-report>,
 <mailto:test-report-request@dpdk.org?subject=subscribe>
Errors-To: test-report-bounces@dpdk.org

Test-Label: iol-unit-arm64-testing
Test-Status: WARNING
http://dpdk.org/patch/147131

_Testing issues_

Submitter: Robin Jarry <rjarry@redhat.com>
Date: Thursday, October 24 2024 15:19:22 
DPDK git baseline: Repo:dpdk
  Branch: master
  CommitID:90cb8ff8196f9b9c1c2bcee1c94ea583789bb63f

147130-147131 --> testing issues

Upstream job id: Generic-Unit-Test-DPDK#282361

Test environment and result as below:

+-----------------------------+----------------+--------------+---------------------------+------------------------------+
|         Environment         | dpdk_unit_test | lpm_autotest | cryptodev_sw_zuc_autotest | cryptodev_sw_snow3g_autotest |
+=============================+================+==============+===========================+==============================+
| Debian 11 (Buster) (ARM)    | PEND           | SKIPPED      | SKIPPED                   | SKIPPED                      |
+-----------------------------+----------------+--------------+---------------------------+------------------------------+
| CentOS Stream 9 (ARM)       | PASS           | SKIPPED      | SKIPPED                   | SKIPPED                      |
+-----------------------------+----------------+--------------+---------------------------+------------------------------+
| Debian 12 (arm)             | PEND           | SKIPPED      | PEND                      | WARN                         |
+-----------------------------+----------------+--------------+---------------------------+------------------------------+
| Fedora 37 (ARM)             | PEND           | SKIPPED      | SKIPPED                   | SKIPPED                      |
+-----------------------------+----------------+--------------+---------------------------+------------------------------+
| Fedora 38 (ARM)             | PASS           | SKIPPED      | SKIPPED                   | SKIPPED                      |
+-----------------------------+----------------+--------------+---------------------------+------------------------------+
| Fedora 38 (ARM Clang)       | PASS           | SKIPPED      | SKIPPED                   | SKIPPED                      |
+-----------------------------+----------------+--------------+---------------------------+------------------------------+
| Fedora 39 (ARM)             | PASS           | SKIPPED      | SKIPPED                   | SKIPPED                      |
+-----------------------------+----------------+--------------+---------------------------+------------------------------+
| Fedora 40 (ARM)             | PASS           | SKIPPED      | SKIPPED                   | SKIPPED                      |
+-----------------------------+----------------+--------------+---------------------------+------------------------------+
| Fedora 39 (ARM Clang)       | PEND           | SKIPPED      | SKIPPED                   | SKIPPED                      |
+-----------------------------+----------------+--------------+---------------------------+------------------------------+
| 32-bit Ubuntu 20.04.4 (ARM) | PEND           | SKIPPED      | SKIPPED                   | SKIPPED                      |
+-----------------------------+----------------+--------------+---------------------------+------------------------------+
| Fedora 40 (ARM Clang)       | PEND           | SKIPPED      | SKIPPED                   | SKIPPED                      |
+-----------------------------+----------------+--------------+---------------------------+------------------------------+
| RHEL9 (ARM)                 | PEND           | SKIPPED      | SKIPPED                   | SKIPPED                      |
+-----------------------------+----------------+--------------+---------------------------+------------------------------+
| Ubuntu 20.04 (ARM)          | PEND           | SKIPPED      | SKIPPED                   | SKIPPED                      |
+-----------------------------+----------------+--------------+---------------------------+------------------------------+
| Ubuntu 20.04 ARM SVE        | SKIPPED        | PEND         | SKIPPED                   | SKIPPED                      |
+-----------------------------+----------------+--------------+---------------------------+------------------------------+

==== 20 line log output for Debian 12 (arm) (cryptodev_sw_snow3g_autotest): ====
 --- Failed to get log output --- 
==== End log output ====

Debian 11 (Buster) (ARM)
	Kernel: Depends on container host
	Compiler: gcc (Debian 10.2.1-6) 10.2.1 20210110

CentOS Stream 9 (ARM)
	Kernel: Depends on container host
	Compiler: gcc 11.4.1 20231218 (Red Hat 11.4.1-3)

Debian 12 (arm)
	Kernel: Depends on container host
	Compiler: gcc (Debian 12.2.0-14) 12.2.0

Fedora 37 (ARM)
	Kernel: Depends on container host
	Compiler: gcc 12.3.1 20230508 (Red Hat 12.3.1-1)

Fedora 38 (ARM)
	Kernel: Depends on container host
	Compiler: gcc 13.2.1 20240316 (Red Hat 13.2.1-7)

Fedora 38 (ARM Clang)
	Kernel: Depends on container host
	Compiler: clang 16.0.6 (Fedora 16.0.6-4.fc38)

Fedora 39 (ARM)
	Kernel: Depends on container host
	Compiler: gcc 13.3.1 20240522 (Red Hat 13.3.1-1)

Fedora 40 (ARM)
	Kernel: Depends on container host
	Compiler: gcc 14.2.1 20240801 (Red Hat 14.2.1-1)

Fedora 39 (ARM Clang)
	Kernel: Depends on container host
	Compiler: clang 17.0.6 (Fedora 17.0.6-2.fc39)

32-bit Ubuntu 20.04.4 (ARM)
	Kernel: 5.4.0-155-generic aarch64
	Compiler: gcc 9.4

Fedora 40 (ARM Clang)
	Kernel: Depends on container host
	Compiler: clang 18.1.6 (Fedora 18.1.6-3.fc40)

RHEL9 (ARM)
	Kernel: Depends on container host
	Compiler: gcc 11.4.1 20231218 (Red Hat 11.4.1-3)

Ubuntu 20.04 (ARM)
	Kernel: Depends on container host
	Compiler: gcc (Ubuntu 9.4.0-1ubuntu1~20.04.2) 9.4.0

Ubuntu 20.04 ARM SVE
	Kernel: Depends on container host
	Compiler: gcc (Ubuntu 10.5.0-1ubuntu1~20.04) 10.5.0

To view detailed results, visit:
https://lab.dpdk.org/results/dashboard/patchsets/31650/

UNH-IOL DPDK Community Lab

To manage your email subscriptions, visit: 
https://lab.dpdk.org/results/dashboard/preferences/subscriptions/