From mboxrd@z Thu Jan  1 00:00:00 1970
Return-Path: <test-report-bounces@dpdk.org>
Received: from mails.dpdk.org (mails.dpdk.org [217.70.189.124])
	by inbox.dpdk.org (Postfix) with ESMTP id D84DB45BE1
	for <public@inbox.dpdk.org>; Sat, 26 Oct 2024 17:34:49 +0200 (CEST)
Received: from mails.dpdk.org (localhost [127.0.0.1])
	by mails.dpdk.org (Postfix) with ESMTP id C0FBC4027A;
	Sat, 26 Oct 2024 17:34:49 +0200 (CEST)
Received: from mail-pf1-f227.google.com (mail-pf1-f227.google.com
 [209.85.210.227])
 by mails.dpdk.org (Postfix) with ESMTP id 5B34140265
 for <test-report@dpdk.org>; Sat, 26 Oct 2024 17:34:48 +0200 (CEST)
Received: by mail-pf1-f227.google.com with SMTP id
 d2e1a72fcca58-71e592d7f6eso2004557b3a.3
 for <test-report@dpdk.org>; Sat, 26 Oct 2024 08:34:48 -0700 (PDT)
DKIM-Signature: v=1; a=rsa-sha256; c=relaxed/relaxed;
 d=iol.unh.edu; s=unh-iol; t=1729956887; x=1730561687; darn=dpdk.org;
 h=references:in-reply-to:cc:to:from:subject:message-id:date:from:to
 :cc:subject:date:message-id:reply-to;
 bh=I2dO+PtuwpvT4PQSKLimKpsZNyGij4HTiYWOAAryXXg=;
 b=fM+xLYRuApa0bySq/K06QNBZ+1h+7zhkR2IQvCsH4QSahM1fFSppjiZa0j8U2FiyuI
 /H/c9Gm2blHxdfC69Y/uhiOvr3jmU08R06te54zs2silN+UmXQg/kd0NoXCAXN21ezQH
 6KGlcRz10/rE/TMuvpNohN2yAmpoF8PCKhQqE=
X-Google-DKIM-Signature: v=1; a=rsa-sha256; c=relaxed/relaxed;
 d=1e100.net; s=20230601; t=1729956887; x=1730561687;
 h=references:in-reply-to:cc:to:from:subject:message-id:date
 :x-gm-message-state:from:to:cc:subject:date:message-id:reply-to;
 bh=I2dO+PtuwpvT4PQSKLimKpsZNyGij4HTiYWOAAryXXg=;
 b=OGvB2JEGHk72Crl0xtt77wFa21dJvOWwpWULg3ZpzQsdfb+aywHcNAHP9VCXYExcj/
 GHEo9nOHJ7ixqV3J+yCX5f7vIzi5B9Wt8TxjFXk3Jt9ZTrCRJq/FAUGwA1SAnEBI/whi
 7Hfw+pfB2215y9Hc9RasLK4xNwq6wlB6oXUIT4ZPomJ8BQSxgBzxeWqP4kfNOGwSZXXC
 xwtkXdfwKInRjl+Vuar4wVYNYpsCviWN6z5cD4jUdigt6W7/QLEdmT9+H7t/xNMUkQ2u
 rz+AXhgzDxy0Nmk//xkSMAPH8jEQiK4pUqnhmwVff5TIoRReav1jtriybisMlAoJhT/T
 fMfQ==
X-Gm-Message-State: AOJu0YzniNsNtypX3/8wY2VmowGUT6nfv078bXuBgOhbUmxRyuCvVGB/
 T/aJo5wytUFUA1VIOqXTzVJ6j6tffvkZ+Vi+1FHi2QEdHBQ58PCUQ6QCAYMTAV7jCx+VgNnowYu
 smNZFiAv59bDUn/RoJSwxKlXz8f3qdrt3thKV92j0eq/nzqEetsYBJDos
X-Google-Smtp-Source: AGHT+IFW4//3ymdsuVBGYuUEGjd0dzYA6lUDWAnyiZK/0IN9OkUjclmttIu90XjyfWwGFno++rHmL3/GiAXA
X-Received: by 2002:a05:6a00:2307:b0:71d:f423:e6cc with SMTP id
 d2e1a72fcca58-72062f83c65mr4502011b3a.8.1729956887344; 
 Sat, 26 Oct 2024 08:34:47 -0700 (PDT)
Received: from postal.iol.unh.edu (postal.iol.unh.edu.
 [2606:4100:3880:1234::84]) by smtp-relay.gmail.com with ESMTPS id
 d2e1a72fcca58-72057930719sm169797b3a.11.2024.10.26.08.34.47
 (version=TLS1_2 cipher=ECDHE-ECDSA-AES128-GCM-SHA256 bits=128/128);
 Sat, 26 Oct 2024 08:34:47 -0700 (PDT)
X-Relaying-Domain: iol.unh.edu
Date: Sat, 26 Oct 2024 08:34:47 -0700 (PDT)
Message-ID: <671d0c17.050a0220.292fcc.baffSMTPIN_ADDED_MISSING@mx.google.com>
Received: from [172.17.0.2] (unknown [172.18.0.217])
 by postal.iol.unh.edu (Postfix) with ESMTP id 697526052471;
 Sat, 26 Oct 2024 11:34:46 -0400 (EDT)
Subject: |SUCCESS| pw146909-146911 [PATCH] [3/3] net/ena: remove outdated dev
From: dpdklab@iol.unh.edu
To: Test Report <test-report@dpdk.org>
Cc: dpdk-test-reports@iol.unh.edu
In-Reply-To: <20241023094119.4299-4-shaibran@amazon.com>
References: <20241023094119.4299-4-shaibran@amazon.com>
Content-Type: text/plain
X-BeenThere: test-report@dpdk.org
X-Mailman-Version: 2.1.29
Precedence: list
List-Id: automatic DPDK test reports <test-report.dpdk.org>
List-Unsubscribe: <https://mails.dpdk.org/options/test-report>,
 <mailto:test-report-request@dpdk.org?subject=unsubscribe>
List-Archive: <http://mails.dpdk.org/archives/test-report/>
List-Post: <mailto:test-report@dpdk.org>
List-Help: <mailto:test-report-request@dpdk.org?subject=help>
List-Subscribe: <https://mails.dpdk.org/listinfo/test-report>,
 <mailto:test-report-request@dpdk.org?subject=subscribe>
Errors-To: test-report-bounces@dpdk.org

Test-Label: iol-compile-arm64-testing
Test-Status: SUCCESS
http://dpdk.org/patch/146911

_Testing PASS_

Submitter: Brandes, Shai <shaibran@amazon.com>
Date: Wednesday, October 23 2024 09:41:19 
DPDK git baseline: Repo:dpdk
  Branch: master
  CommitID:5bb17458f32befba8a2cccd9553ea65cd8b99581

146909-146911 --> testing pass

Upstream job id: Generic-DPDK-Compile-Meson#323527

Test environment and result as below:

+----------------------------------------+--------------------+
|              Environment               | dpdk_meson_compile |
+========================================+====================+
| RHEL9 (ARM)                            | PASS               |
+----------------------------------------+--------------------+
| Ubuntu 20.04 ARM SVE                   | PASS               |
+----------------------------------------+--------------------+
| Debian 12 with MUSDK                   | PASS               |
+----------------------------------------+--------------------+
| Fedora 38 (ARM)                        | PASS               |
+----------------------------------------+--------------------+
| Fedora 38 (ARM Clang)                  | PASS               |
+----------------------------------------+--------------------+
| Fedora 39 (ARM Clang)                  | PASS               |
+----------------------------------------+--------------------+
| Fedora 40 (ARM Clang)                  | PASS               |
+----------------------------------------+--------------------+
| Debian 11 (Buster) (ARM)               | PASS               |
+----------------------------------------+--------------------+
| Debian 12 (arm)                        | PASS               |
+----------------------------------------+--------------------+
| Ubuntu 20.04 ARM Clang Cross Compile   | PASS               |
+----------------------------------------+--------------------+
| Ubuntu 20.04 aarch32 GCC Cross Compile | PASS               |
+----------------------------------------+--------------------+
| CentOS Stream 9 (ARM)                  | PASS               |
+----------------------------------------+--------------------+


RHEL9 (ARM)
	Kernel: Depends on container host
	Compiler: gcc 11.4.1 20231218 (Red Hat 11.4.1-3)

Ubuntu 20.04 ARM SVE
	Kernel: Depends on container host
	Compiler: gcc (Ubuntu 10.5.0-1ubuntu1~20.04) 10.5.0

Debian 12 with MUSDK
	Kernel: Depends on container host
	Compiler: gcc (Debian 12.2.0-14) 12.2.0

Fedora 38 (ARM)
	Kernel: Depends on container host
	Compiler: gcc 13.2.1 20240316 (Red Hat 13.2.1-7)

Fedora 38 (ARM Clang)
	Kernel: Depends on container host
	Compiler: clang 16.0.6 (Fedora 16.0.6-4.fc38)

Fedora 39 (ARM Clang)
	Kernel: Depends on container host
	Compiler: clang 17.0.6 (Fedora 17.0.6-2.fc39)

Fedora 40 (ARM Clang)
	Kernel: Depends on container host
	Compiler: clang 18.1.6 (Fedora 18.1.6-3.fc40)

Debian 11 (Buster) (ARM)
	Kernel: Depends on container host
	Compiler: gcc (Debian 10.2.1-6) 10.2.1 20210110

Debian 12 (arm)
	Kernel: Depends on container host
	Compiler: gcc (Debian 12.2.0-14) 12.2.0

Ubuntu 20.04 ARM Clang Cross Compile
	Kernel: Depends on container host
	Compiler: clang 10.0.0-4ubuntu1

Ubuntu 20.04 aarch32 GCC Cross Compile
	Kernel: Depends on container host
	Compiler: gcc 9.4.0

CentOS Stream 9 (ARM)
	Kernel: Depends on container host
	Compiler: gcc 11.4.1 20231218 (Red Hat 11.4.1-3)

To view detailed results, visit:
https://lab.dpdk.org/results/dashboard/patchsets/31622/

UNH-IOL DPDK Community Lab

To manage your email subscriptions, visit: 
https://lab.dpdk.org/results/dashboard/preferences/subscriptions/