From mboxrd@z Thu Jan  1 00:00:00 1970
Return-Path: <test-report-bounces@dpdk.org>
Received: from mails.dpdk.org (mails.dpdk.org [217.70.189.124])
	by inbox.dpdk.org (Postfix) with ESMTP id 0B81545BE2
	for <public@inbox.dpdk.org>; Sat, 26 Oct 2024 19:59:16 +0200 (CEST)
Received: from mails.dpdk.org (localhost [127.0.0.1])
	by mails.dpdk.org (Postfix) with ESMTP id 07EEA402A8;
	Sat, 26 Oct 2024 19:59:16 +0200 (CEST)
Received: from mail-io1-f98.google.com (mail-io1-f98.google.com
 [209.85.166.98]) by mails.dpdk.org (Postfix) with ESMTP id D630440295
 for <test-report@dpdk.org>; Sat, 26 Oct 2024 19:59:14 +0200 (CEST)
Received: by mail-io1-f98.google.com with SMTP id
 ca18e2360f4ac-83ab5b4b048so122804339f.2
 for <test-report@dpdk.org>; Sat, 26 Oct 2024 10:59:14 -0700 (PDT)
DKIM-Signature: v=1; a=rsa-sha256; c=relaxed/relaxed;
 d=iol.unh.edu; s=unh-iol; t=1729965554; x=1730570354; darn=dpdk.org;
 h=references:in-reply-to:cc:to:from:subject:message-id:date:from:to
 :cc:subject:date:message-id:reply-to;
 bh=uXHeqvVu6E19et2/5S9s9tPRFXTFsNZ9Hf+kZBdaGbY=;
 b=JH8Z0lgk1OlnkDXdcfvqpzE0to6ZcO+TDK3Q+QJukMwbSUqXe6py78iNkHaYSLdY4z
 MRchMMVohPPCl55vXYZr9ZHjC1PZmhZxAtX0V8Zf3SlXGYV02kAy5hJhn32wzgNENO3p
 7hHT4hPc4zu5VGytBTnZP1FMThyKqlAT2UVOU=
X-Google-DKIM-Signature: v=1; a=rsa-sha256; c=relaxed/relaxed;
 d=1e100.net; s=20230601; t=1729965554; x=1730570354;
 h=references:in-reply-to:cc:to:from:subject:message-id:date
 :x-gm-message-state:from:to:cc:subject:date:message-id:reply-to;
 bh=uXHeqvVu6E19et2/5S9s9tPRFXTFsNZ9Hf+kZBdaGbY=;
 b=uOwH+gAmUtZ6nl+U3hH1ZG7gT3+kknMjnb8oPuWs+2NRrp5NiVP2CdVW6UlkW/AFWA
 wZa6fGLfoZuweXglJRO3EV/TZY9GOs5nC4qpeSTIdRSnsy8uRBy2roxxrPukODeONsJY
 R1Hegv/Py2Dnx502EnMYlmIPCBv76+k/f5OcLJa4fEEVYDnMio7qRr8Q6FGtnWp2KxD/
 HTSSc7OCbJcCFe+GhSBwRcZEAKHbT5i7eMxPezUzX83nqfTUa8wQC/jAz1UMQ0KXycv+
 OpaU78rTUDjWSzwnJoEGTnC+7werGPD6khcNYPEHhVt3o4YbT6DkX+ZATuxRv4iXyKVj
 w8Nw==
X-Gm-Message-State: AOJu0YzLy2XGIyMGE5JUvqmFogh1b2IyoIHREkIVa7vqUN2L3y43PR4Y
 TZlEwEJJEvbYyT4UlKscUt4Y4pGeLnm1Xs2MspCrDMoZ5enWlHEd8FnSshn7UgOOXZSPSb23zB/
 gynaj/fATlAZmBwRUy4lrm3zci7kJS7p0NLdu4WaGxrWISeSlhcJ6rPkF
X-Google-Smtp-Source: AGHT+IE93svpC5SGIBjrKPB0KH7hy7SO0n9OEhZ1O2yQ2xtgIUkgDwmTI9y2WJO/DlNEOYlmTuem0D7JEWod
X-Received: by 2002:a05:6602:14cb:b0:835:3ffe:fe31 with SMTP id
 ca18e2360f4ac-83b1c40b3a5mr230543039f.8.1729965553919; 
 Sat, 26 Oct 2024 10:59:13 -0700 (PDT)
Received: from postal.iol.unh.edu (postal.iol.unh.edu.
 [2606:4100:3880:1234::84]) by smtp-relay.gmail.com with ESMTPS id
 ca18e2360f4ac-83b137df041sm5881339f.9.2024.10.26.10.59.13
 (version=TLS1_2 cipher=ECDHE-ECDSA-AES128-GCM-SHA256 bits=128/128);
 Sat, 26 Oct 2024 10:59:13 -0700 (PDT)
X-Relaying-Domain: iol.unh.edu
Date: Sat, 26 Oct 2024 10:59:13 -0700 (PDT)
Message-ID: <671d2df1.6b0a0220.100b22.3ec6SMTPIN_ADDED_MISSING@mx.google.com>
Received: from [172.17.0.3] (unknown [172.18.0.217])
 by postal.iol.unh.edu (Postfix) with ESMTP id 2C05C6052471;
 Sat, 26 Oct 2024 13:59:13 -0400 (EDT)
Subject: |SUCCESS| pw147069-147073 [PATCH] [v2,6/6] vhost: move VDUSE reconne
From: dpdklab@iol.unh.edu
To: Test Report <test-report@dpdk.org>
Cc: dpdk-test-reports@iol.unh.edu
In-Reply-To: <20241024075441.3723352-7-maxime.coquelin@redhat.com>
References: <20241024075441.3723352-7-maxime.coquelin@redhat.com>
Content-Type: text/plain
X-BeenThere: test-report@dpdk.org
X-Mailman-Version: 2.1.29
Precedence: list
List-Id: automatic DPDK test reports <test-report.dpdk.org>
List-Unsubscribe: <https://mails.dpdk.org/options/test-report>,
 <mailto:test-report-request@dpdk.org?subject=unsubscribe>
List-Archive: <http://mails.dpdk.org/archives/test-report/>
List-Post: <mailto:test-report@dpdk.org>
List-Help: <mailto:test-report-request@dpdk.org?subject=help>
List-Subscribe: <https://mails.dpdk.org/listinfo/test-report>,
 <mailto:test-report-request@dpdk.org?subject=subscribe>
Errors-To: test-report-bounces@dpdk.org

Test-Label: iol-compile-arm64-testing
Test-Status: SUCCESS
http://dpdk.org/patch/147073

_Testing PASS_

Submitter: Maxime Coquelin <maxime.coquelin@redhat.com>
Date: Thursday, October 24 2024 07:54:41 
DPDK git baseline: Repo:dpdk
  Branch: master
  CommitID:90cb8ff8196f9b9c1c2bcee1c94ea583789bb63f

147069-147073 --> testing pass

Upstream job id: Generic-DPDK-Compile-Meson#323699

Test environment and result as below:

+------------------------------------+--------------------+
|            Environment             | dpdk_meson_compile |
+====================================+====================+
| RHEL9 (ARM)                        | PASS               |
+------------------------------------+--------------------+
| Ubuntu 20.04 ARM GCC Cross Compile | PASS               |
+------------------------------------+--------------------+
| Ubuntu 20.04 ARM SVE               | PASS               |
+------------------------------------+--------------------+
| Debian 12 with MUSDK               | PASS               |
+------------------------------------+--------------------+
| Fedora 37 (ARM)                    | PASS               |
+------------------------------------+--------------------+
| Fedora 38 (ARM)                    | PASS               |
+------------------------------------+--------------------+
| Fedora 38 (ARM Clang)              | PASS               |
+------------------------------------+--------------------+
| Fedora 39 (ARM)                    | PASS               |
+------------------------------------+--------------------+
| Fedora 39 (ARM Clang)              | PASS               |
+------------------------------------+--------------------+
| Fedora 40 (ARM)                    | PASS               |
+------------------------------------+--------------------+
| Fedora 40 (ARM Clang)              | PASS               |
+------------------------------------+--------------------+
| Ubuntu 20.04 (ARM)                 | PASS               |
+------------------------------------+--------------------+
| CentOS Stream 9 (ARM)              | PASS               |
+------------------------------------+--------------------+
| Debian 11 (Buster) (ARM)           | PASS               |
+------------------------------------+--------------------+


RHEL9 (ARM)
	Kernel: Depends on container host
	Compiler: gcc 11.4.1 20231218 (Red Hat 11.4.1-3)

Ubuntu 20.04 ARM GCC Cross Compile
	Kernel: Depends on container host
	Compiler: aarch64-linux-gnu-gcc (Ubuntu 9.4.0-1ubuntu1~20.04.2) 9.4.0

Ubuntu 20.04 ARM SVE
	Kernel: Depends on container host
	Compiler: gcc (Ubuntu 10.5.0-1ubuntu1~20.04) 10.5.0

Debian 12 with MUSDK
	Kernel: Depends on container host
	Compiler: gcc (Debian 12.2.0-14) 12.2.0

Fedora 37 (ARM)
	Kernel: Depends on container host
	Compiler: gcc 12.3.1 20230508 (Red Hat 12.3.1-1)

Fedora 38 (ARM)
	Kernel: Depends on container host
	Compiler: gcc 13.2.1 20240316 (Red Hat 13.2.1-7)

Fedora 38 (ARM Clang)
	Kernel: Depends on container host
	Compiler: clang 16.0.6 (Fedora 16.0.6-4.fc38)

Fedora 39 (ARM)
	Kernel: Depends on container host
	Compiler: gcc 13.3.1 20240522 (Red Hat 13.3.1-1)

Fedora 39 (ARM Clang)
	Kernel: Depends on container host
	Compiler: clang 17.0.6 (Fedora 17.0.6-2.fc39)

Fedora 40 (ARM)
	Kernel: Depends on container host
	Compiler: gcc 14.2.1 20240801 (Red Hat 14.2.1-1)

Fedora 40 (ARM Clang)
	Kernel: Depends on container host
	Compiler: clang 18.1.6 (Fedora 18.1.6-3.fc40)

Ubuntu 20.04 (ARM)
	Kernel: Depends on container host
	Compiler: gcc (Ubuntu 9.4.0-1ubuntu1~20.04.2) 9.4.0

CentOS Stream 9 (ARM)
	Kernel: Depends on container host
	Compiler: gcc 11.4.1 20231218 (Red Hat 11.4.1-3)

Debian 11 (Buster) (ARM)
	Kernel: Depends on container host
	Compiler: gcc (Debian 10.2.1-6) 10.2.1 20210110

To view detailed results, visit:
https://lab.dpdk.org/results/dashboard/patchsets/31634/

UNH-IOL DPDK Community Lab

To manage your email subscriptions, visit: 
https://lab.dpdk.org/results/dashboard/preferences/subscriptions/