From mboxrd@z Thu Jan  1 00:00:00 1970
Return-Path: <test-report-bounces@dpdk.org>
Received: from mails.dpdk.org (mails.dpdk.org [217.70.189.124])
	by inbox.dpdk.org (Postfix) with ESMTP id BA60145BE3
	for <public@inbox.dpdk.org>; Sat, 26 Oct 2024 20:06:15 +0200 (CEST)
Received: from mails.dpdk.org (localhost [127.0.0.1])
	by mails.dpdk.org (Postfix) with ESMTP id A10D940295;
	Sat, 26 Oct 2024 20:06:15 +0200 (CEST)
Received: from mail-yb1-f225.google.com (mail-yb1-f225.google.com
 [209.85.219.225])
 by mails.dpdk.org (Postfix) with ESMTP id 0EE56400D6
 for <test-report@dpdk.org>; Sat, 26 Oct 2024 20:06:15 +0200 (CEST)
Received: by mail-yb1-f225.google.com with SMTP id
 3f1490d57ef6-e290e857d56so2962724276.1
 for <test-report@dpdk.org>; Sat, 26 Oct 2024 11:06:14 -0700 (PDT)
DKIM-Signature: v=1; a=rsa-sha256; c=relaxed/relaxed;
 d=iol.unh.edu; s=unh-iol; t=1729965974; x=1730570774; darn=dpdk.org;
 h=references:in-reply-to:cc:to:from:subject:message-id:date:from:to
 :cc:subject:date:message-id:reply-to;
 bh=vpdbMo+7AtZFuhepLAFTjFmM/p0rbQAkazzWB8RRqoM=;
 b=OqYVkRij6ChwA/u/iaFzzFvO52DLlo4+LH9pfxr3zOBTq9Eu9ymGZ/8SQFd7rMo+8t
 faICjD9FhgEk/vATCBSKJSFTL4k0pxaHlJelbRSaEazg+k+I+9JEV5cDYon/2WtfCjPm
 Ri4Oj8znx+09woa5a4coobx0XXHNO9757rgU4=
X-Google-DKIM-Signature: v=1; a=rsa-sha256; c=relaxed/relaxed;
 d=1e100.net; s=20230601; t=1729965974; x=1730570774;
 h=references:in-reply-to:cc:to:from:subject:message-id:date
 :x-gm-message-state:from:to:cc:subject:date:message-id:reply-to;
 bh=vpdbMo+7AtZFuhepLAFTjFmM/p0rbQAkazzWB8RRqoM=;
 b=wqB3UCR8OyQfRop8ys58nvb7gUpZ1HcyDs8fRMzldO7pkmVy/Fwz+kiuzRIu7x9dUI
 N4xvrtcGug2xXsAC/57dtfE8CF9V4TkvXDzUVSiKQiF4myVVJZQnfHB9//IzrcP8OSKg
 6IvlDNcpfWPF87A1X/jgWQLCwfAK6np2dbpYforUmNZXpe/i7G9gQsZFIv3QvSwPDGps
 51dn+bv54kIRAwWcQgUlffdHVj/Jy64ODYSqZBiFBJYzAMz1/oqZRMg1iw6Hmstr8umr
 FHEVXCLHAAXyRkjQoN42GlkoyzopSfo7K4zLVRTH9o24mqW/0OE8Z78WaoIH1LfBODtC
 M2vA==
X-Gm-Message-State: AOJu0Yx2gPkW+saB6JcN+xFQpvoWu54E186OKn4x9iAkKQDjtMznN/yY
 Kpd18y46qRa+d7gGk5j8LyP82iyLqjxrSeT028EgxsirKJUNuG9X09qEI1UJEoh4+yD1laAh+P+
 vN8SKKoLMfa7Eu8iBboKoe/OIrGflw3SYr5Mmv9LR
X-Google-Smtp-Source: AGHT+IGkVsi7DB5t/xA1BgSTTLc2OAgcfS7uUQzBosU5wXzdiYVwaK4Fm/5WgE6KBL2/fv8oeyiX6Nrt8Stx
X-Received: by 2002:a05:690c:94:b0:6e3:1e5d:fe2 with SMTP id
 00721157ae682-6e9d8acb426mr28733207b3.31.1729965973558; 
 Sat, 26 Oct 2024 11:06:13 -0700 (PDT)
Received: from postal.iol.unh.edu (postal.iol.unh.edu. [132.177.123.84])
 by smtp-relay.gmail.com with ESMTPS id
 00721157ae682-6e9c6cd31f5sm1695947b3.78.2024.10.26.11.06.13
 (version=TLS1_2 cipher=ECDHE-ECDSA-AES128-GCM-SHA256 bits=128/128);
 Sat, 26 Oct 2024 11:06:13 -0700 (PDT)
X-Relaying-Domain: iol.unh.edu
Date: Sat, 26 Oct 2024 11:06:13 -0700 (PDT)
Message-ID: <671d2f95.810a0220.2d9984.c0b1SMTPIN_ADDED_MISSING@mx.google.com>
Received: from [172.17.0.2] (unknown [172.18.0.217])
 by postal.iol.unh.edu (Postfix) with ESMTP id 07C486052471;
 Sat, 26 Oct 2024 14:06:13 -0400 (EDT)
Subject: |SUCCESS| pw147095 [PATCH] net/vmxnet3: support per-queue stats for 
From: dpdklab@iol.unh.edu
To: Test Report <test-report@dpdk.org>
Cc: dpdk-test-reports@iol.unh.edu
In-Reply-To: <20241024110129.791362-1-mb@smartsharesystems.com>
References: <20241024110129.791362-1-mb@smartsharesystems.com>
Content-Type: text/plain
X-BeenThere: test-report@dpdk.org
X-Mailman-Version: 2.1.29
Precedence: list
List-Id: automatic DPDK test reports <test-report.dpdk.org>
List-Unsubscribe: <https://mails.dpdk.org/options/test-report>,
 <mailto:test-report-request@dpdk.org?subject=unsubscribe>
List-Archive: <http://mails.dpdk.org/archives/test-report/>
List-Post: <mailto:test-report@dpdk.org>
List-Help: <mailto:test-report-request@dpdk.org?subject=help>
List-Subscribe: <https://mails.dpdk.org/listinfo/test-report>,
 <mailto:test-report-request@dpdk.org?subject=subscribe>
Errors-To: test-report-bounces@dpdk.org

Test-Label: iol-compile-arm64-testing
Test-Status: SUCCESS
http://dpdk.org/patch/147095

_Testing PASS_

Submitter: Morten Brorup <mb@smartsharesystems.com>
Date: Thursday, October 24 2024 11:01:29 
DPDK git baseline: Repo:dpdk
  Branch: master
  CommitID:5bb17458f32befba8a2cccd9553ea65cd8b99581

147095 --> testing pass

Upstream job id: Generic-DPDK-Compile-Meson#323702

Test environment and result as below:

+------------------------------------+--------------------+
|            Environment             | dpdk_meson_compile |
+====================================+====================+
| RHEL9 (ARM)                        | PASS               |
+------------------------------------+--------------------+
| Ubuntu 20.04 ARM GCC Cross Compile | PASS               |
+------------------------------------+--------------------+
| Ubuntu 20.04 ARM SVE               | PASS               |
+------------------------------------+--------------------+
| Debian 12 with MUSDK               | PASS               |
+------------------------------------+--------------------+
| Fedora 37 (ARM)                    | PASS               |
+------------------------------------+--------------------+
| Fedora 38 (ARM)                    | PASS               |
+------------------------------------+--------------------+
| Fedora 38 (ARM Clang)              | PASS               |
+------------------------------------+--------------------+
| Fedora 39 (ARM)                    | PASS               |
+------------------------------------+--------------------+
| Fedora 39 (ARM Clang)              | PASS               |
+------------------------------------+--------------------+
| Fedora 40 (ARM)                    | PASS               |
+------------------------------------+--------------------+
| Fedora 40 (ARM Clang)              | PASS               |
+------------------------------------+--------------------+
| Ubuntu 20.04 (ARM)                 | PASS               |
+------------------------------------+--------------------+


RHEL9 (ARM)
	Kernel: Depends on container host
	Compiler: gcc 11.4.1 20231218 (Red Hat 11.4.1-3)

Ubuntu 20.04 ARM GCC Cross Compile
	Kernel: Depends on container host
	Compiler: aarch64-linux-gnu-gcc (Ubuntu 9.4.0-1ubuntu1~20.04.2) 9.4.0

Ubuntu 20.04 ARM SVE
	Kernel: Depends on container host
	Compiler: gcc (Ubuntu 10.5.0-1ubuntu1~20.04) 10.5.0

Debian 12 with MUSDK
	Kernel: Depends on container host
	Compiler: gcc (Debian 12.2.0-14) 12.2.0

Fedora 37 (ARM)
	Kernel: Depends on container host
	Compiler: gcc 12.3.1 20230508 (Red Hat 12.3.1-1)

Fedora 38 (ARM)
	Kernel: Depends on container host
	Compiler: gcc 13.2.1 20240316 (Red Hat 13.2.1-7)

Fedora 38 (ARM Clang)
	Kernel: Depends on container host
	Compiler: clang 16.0.6 (Fedora 16.0.6-4.fc38)

Fedora 39 (ARM)
	Kernel: Depends on container host
	Compiler: gcc 13.3.1 20240522 (Red Hat 13.3.1-1)

Fedora 39 (ARM Clang)
	Kernel: Depends on container host
	Compiler: clang 17.0.6 (Fedora 17.0.6-2.fc39)

Fedora 40 (ARM)
	Kernel: Depends on container host
	Compiler: gcc 14.2.1 20240801 (Red Hat 14.2.1-1)

Fedora 40 (ARM Clang)
	Kernel: Depends on container host
	Compiler: clang 18.1.6 (Fedora 18.1.6-3.fc40)

Ubuntu 20.04 (ARM)
	Kernel: Depends on container host
	Compiler: gcc (Ubuntu 9.4.0-1ubuntu1~20.04.2) 9.4.0

To view detailed results, visit:
https://lab.dpdk.org/results/dashboard/patchsets/31639/

UNH-IOL DPDK Community Lab

To manage your email subscriptions, visit: 
https://lab.dpdk.org/results/dashboard/preferences/subscriptions/